BEGIN:VCALENDAR
VERSION:2.0
PRODID:-//Immanuelskyrkan Jönköping - ECPv6.15.20//NONSGML v1.0//EN
CALSCALE:GREGORIAN
METHOD:PUBLISH
X-WR-CALNAME:Immanuelskyrkan Jönköping
X-ORIGINAL-URL:https://immanuelskyrkan.com
X-WR-CALDESC:Evenemang hos Immanuelskyrkan Jönköping
REFRESH-INTERVAL;VALUE=DURATION:PT1H
X-Robots-Tag:noindex
X-PUBLISHED-TTL:PT1H
BEGIN:VTIMEZONE
TZID:Europe/Stockholm
BEGIN:DAYLIGHT
TZOFFSETFROM:+0100
TZOFFSETTO:+0200
TZNAME:CEST
DTSTART:20250330T010000
END:DAYLIGHT
BEGIN:STANDARD
TZOFFSETFROM:+0200
TZOFFSETTO:+0100
TZNAME:CET
DTSTART:20251026T010000
END:STANDARD
BEGIN:DAYLIGHT
TZOFFSETFROM:+0100
TZOFFSETTO:+0200
TZNAME:CEST
DTSTART:20260329T010000
END:DAYLIGHT
BEGIN:STANDARD
TZOFFSETFROM:+0200
TZOFFSETTO:+0100
TZNAME:CET
DTSTART:20261025T010000
END:STANDARD
BEGIN:DAYLIGHT
TZOFFSETFROM:+0100
TZOFFSETTO:+0200
TZNAME:CEST
DTSTART:20270328T010000
END:DAYLIGHT
BEGIN:STANDARD
TZOFFSETFROM:+0200
TZOFFSETTO:+0100
TZNAME:CET
DTSTART:20271031T010000
END:STANDARD
END:VTIMEZONE
BEGIN:VEVENT
DTSTART;TZID=Europe/Stockholm:20261001T183000
DTEND;TZID=Europe/Stockholm:20261001T200000
DTSTAMP:20260420T103757
CREATED:20260115T125804Z
LAST-MODIFIED:20260115T125804Z
UID:10003227-1790879400-1790884800@immanuelskyrkan.com
SUMMARY:Scout
DESCRIPTION:18.30-19.30 Spårarna: Lågstadiet \n18.30-20.00 Upptäckarna: Mellanstadiet \n18.30-20.00 Äventyrarna: Högstadiet \nKontaktperson: Stefan Sjöberg (Kårchef)\, Scout@immanuelskyrkan.com
URL:https://immanuelskyrkan.com/evenemang/scout/2026-10-01/
LOCATION:Immanuelskyrkan\, Oxtorgsgatan 15\, Jönköping\, 553 17\, Sverige
CATEGORIES:Scout
ORGANIZER;CN="Immanuelskyrkan":MAILTO:info@immanuelskyrkan.com
GEO:57.780919697436;14.158471850972
X-APPLE-STRUCTURED-LOCATION;VALUE=URI;X-ADDRESS=Immanuelskyrkan Oxtorgsgatan 15 Jönköping 553 17 Sverige;X-APPLE-RADIUS=500;X-TITLE=Oxtorgsgatan 15:geo:14.158471850972,57.780919697436
END:VEVENT
BEGIN:VEVENT
DTSTART;TZID=Europe/Stockholm:20261003T090000
DTEND;TZID=Europe/Stockholm:20261003T130000
DTSTAMP:20260420T103757
CREATED:20260114T100327Z
LAST-MODIFIED:20260114T100327Z
UID:10002954-1791018000-1791032400@immanuelskyrkan.com
SUMMARY:Torgfika
DESCRIPTION:Caféet är öppet för fika och kaffe.
URL:https://immanuelskyrkan.com/evenemang/torgfika/2026-10-03/
LOCATION:Immanuelskyrkan\, Oxtorgsgatan 15\, Jönköping\, 553 17\, Sverige
CATEGORIES:Café Immanuel
ORGANIZER;CN="Immanuelskyrkan":MAILTO:info@immanuelskyrkan.com
GEO:57.780919697436;14.158471850972
X-APPLE-STRUCTURED-LOCATION;VALUE=URI;X-ADDRESS=Immanuelskyrkan Oxtorgsgatan 15 Jönköping 553 17 Sverige;X-APPLE-RADIUS=500;X-TITLE=Oxtorgsgatan 15:geo:14.158471850972,57.780919697436
END:VEVENT
BEGIN:VEVENT
DTSTART;TZID=Europe/Stockholm:20261008T183000
DTEND;TZID=Europe/Stockholm:20261008T200000
DTSTAMP:20260420T103757
CREATED:20260115T125804Z
LAST-MODIFIED:20260115T125804Z
UID:10003228-1791484200-1791489600@immanuelskyrkan.com
SUMMARY:Scout
DESCRIPTION:18.30-19.30 Spårarna: Lågstadiet \n18.30-20.00 Upptäckarna: Mellanstadiet \n18.30-20.00 Äventyrarna: Högstadiet \nKontaktperson: Stefan Sjöberg (Kårchef)\, Scout@immanuelskyrkan.com
URL:https://immanuelskyrkan.com/evenemang/scout/2026-10-08/
LOCATION:Immanuelskyrkan\, Oxtorgsgatan 15\, Jönköping\, 553 17\, Sverige
CATEGORIES:Scout
ORGANIZER;CN="Immanuelskyrkan":MAILTO:info@immanuelskyrkan.com
GEO:57.780919697436;14.158471850972
X-APPLE-STRUCTURED-LOCATION;VALUE=URI;X-ADDRESS=Immanuelskyrkan Oxtorgsgatan 15 Jönköping 553 17 Sverige;X-APPLE-RADIUS=500;X-TITLE=Oxtorgsgatan 15:geo:14.158471850972,57.780919697436
END:VEVENT
BEGIN:VEVENT
DTSTART;TZID=Europe/Stockholm:20261010T090000
DTEND;TZID=Europe/Stockholm:20261010T130000
DTSTAMP:20260420T103757
CREATED:20260114T100327Z
LAST-MODIFIED:20260114T100327Z
UID:10002955-1791622800-1791637200@immanuelskyrkan.com
SUMMARY:Torgfika
DESCRIPTION:Caféet är öppet för fika och kaffe.
URL:https://immanuelskyrkan.com/evenemang/torgfika/2026-10-10/
LOCATION:Immanuelskyrkan\, Oxtorgsgatan 15\, Jönköping\, 553 17\, Sverige
CATEGORIES:Café Immanuel
ORGANIZER;CN="Immanuelskyrkan":MAILTO:info@immanuelskyrkan.com
GEO:57.780919697436;14.158471850972
X-APPLE-STRUCTURED-LOCATION;VALUE=URI;X-ADDRESS=Immanuelskyrkan Oxtorgsgatan 15 Jönköping 553 17 Sverige;X-APPLE-RADIUS=500;X-TITLE=Oxtorgsgatan 15:geo:14.158471850972,57.780919697436
END:VEVENT
BEGIN:VEVENT
DTSTART;TZID=Europe/Stockholm:20261015T183000
DTEND;TZID=Europe/Stockholm:20261015T200000
DTSTAMP:20260420T103757
CREATED:20260115T125804Z
LAST-MODIFIED:20260115T125804Z
UID:10003229-1792089000-1792094400@immanuelskyrkan.com
SUMMARY:Scout
DESCRIPTION:18.30-19.30 Spårarna: Lågstadiet \n18.30-20.00 Upptäckarna: Mellanstadiet \n18.30-20.00 Äventyrarna: Högstadiet \nKontaktperson: Stefan Sjöberg (Kårchef)\, Scout@immanuelskyrkan.com
URL:https://immanuelskyrkan.com/evenemang/scout/2026-10-15/
LOCATION:Immanuelskyrkan\, Oxtorgsgatan 15\, Jönköping\, 553 17\, Sverige
CATEGORIES:Scout
ORGANIZER;CN="Immanuelskyrkan":MAILTO:info@immanuelskyrkan.com
GEO:57.780919697436;14.158471850972
X-APPLE-STRUCTURED-LOCATION;VALUE=URI;X-ADDRESS=Immanuelskyrkan Oxtorgsgatan 15 Jönköping 553 17 Sverige;X-APPLE-RADIUS=500;X-TITLE=Oxtorgsgatan 15:geo:14.158471850972,57.780919697436
END:VEVENT
BEGIN:VEVENT
DTSTART;TZID=Europe/Stockholm:20261017T090000
DTEND;TZID=Europe/Stockholm:20261017T130000
DTSTAMP:20260420T103757
CREATED:20260114T100327Z
LAST-MODIFIED:20260114T100327Z
UID:10002956-1792227600-1792242000@immanuelskyrkan.com
SUMMARY:Torgfika
DESCRIPTION:Caféet är öppet för fika och kaffe.
URL:https://immanuelskyrkan.com/evenemang/torgfika/2026-10-17/
LOCATION:Immanuelskyrkan\, Oxtorgsgatan 15\, Jönköping\, 553 17\, Sverige
CATEGORIES:Café Immanuel
ORGANIZER;CN="Immanuelskyrkan":MAILTO:info@immanuelskyrkan.com
GEO:57.780919697436;14.158471850972
X-APPLE-STRUCTURED-LOCATION;VALUE=URI;X-ADDRESS=Immanuelskyrkan Oxtorgsgatan 15 Jönköping 553 17 Sverige;X-APPLE-RADIUS=500;X-TITLE=Oxtorgsgatan 15:geo:14.158471850972,57.780919697436
END:VEVENT
BEGIN:VEVENT
DTSTART;TZID=Europe/Stockholm:20261022T183000
DTEND;TZID=Europe/Stockholm:20261022T200000
DTSTAMP:20260420T103757
CREATED:20260115T125804Z
LAST-MODIFIED:20260115T125804Z
UID:10003230-1792693800-1792699200@immanuelskyrkan.com
SUMMARY:Scout
DESCRIPTION:18.30-19.30 Spårarna: Lågstadiet \n18.30-20.00 Upptäckarna: Mellanstadiet \n18.30-20.00 Äventyrarna: Högstadiet \nKontaktperson: Stefan Sjöberg (Kårchef)\, Scout@immanuelskyrkan.com
URL:https://immanuelskyrkan.com/evenemang/scout/2026-10-22/
LOCATION:Immanuelskyrkan\, Oxtorgsgatan 15\, Jönköping\, 553 17\, Sverige
CATEGORIES:Scout
ORGANIZER;CN="Immanuelskyrkan":MAILTO:info@immanuelskyrkan.com
GEO:57.780919697436;14.158471850972
X-APPLE-STRUCTURED-LOCATION;VALUE=URI;X-ADDRESS=Immanuelskyrkan Oxtorgsgatan 15 Jönköping 553 17 Sverige;X-APPLE-RADIUS=500;X-TITLE=Oxtorgsgatan 15:geo:14.158471850972,57.780919697436
END:VEVENT
BEGIN:VEVENT
DTSTART;TZID=Europe/Stockholm:20261024T090000
DTEND;TZID=Europe/Stockholm:20261024T130000
DTSTAMP:20260420T103757
CREATED:20260114T100327Z
LAST-MODIFIED:20260114T100327Z
UID:10002957-1792832400-1792846800@immanuelskyrkan.com
SUMMARY:Torgfika
DESCRIPTION:Caféet är öppet för fika och kaffe.
URL:https://immanuelskyrkan.com/evenemang/torgfika/2026-10-24/
LOCATION:Immanuelskyrkan\, Oxtorgsgatan 15\, Jönköping\, 553 17\, Sverige
CATEGORIES:Café Immanuel
ORGANIZER;CN="Immanuelskyrkan":MAILTO:info@immanuelskyrkan.com
GEO:57.780919697436;14.158471850972
X-APPLE-STRUCTURED-LOCATION;VALUE=URI;X-ADDRESS=Immanuelskyrkan Oxtorgsgatan 15 Jönköping 553 17 Sverige;X-APPLE-RADIUS=500;X-TITLE=Oxtorgsgatan 15:geo:14.158471850972,57.780919697436
END:VEVENT
BEGIN:VEVENT
DTSTART;TZID=Europe/Stockholm:20261029T183000
DTEND;TZID=Europe/Stockholm:20261029T200000
DTSTAMP:20260420T103757
CREATED:20260115T125804Z
LAST-MODIFIED:20260115T125804Z
UID:10003231-1793298600-1793304000@immanuelskyrkan.com
SUMMARY:Scout
DESCRIPTION:18.30-19.30 Spårarna: Lågstadiet \n18.30-20.00 Upptäckarna: Mellanstadiet \n18.30-20.00 Äventyrarna: Högstadiet \nKontaktperson: Stefan Sjöberg (Kårchef)\, Scout@immanuelskyrkan.com
URL:https://immanuelskyrkan.com/evenemang/scout/2026-10-29/
LOCATION:Immanuelskyrkan\, Oxtorgsgatan 15\, Jönköping\, 553 17\, Sverige
CATEGORIES:Scout
ORGANIZER;CN="Immanuelskyrkan":MAILTO:info@immanuelskyrkan.com
GEO:57.780919697436;14.158471850972
X-APPLE-STRUCTURED-LOCATION;VALUE=URI;X-ADDRESS=Immanuelskyrkan Oxtorgsgatan 15 Jönköping 553 17 Sverige;X-APPLE-RADIUS=500;X-TITLE=Oxtorgsgatan 15:geo:14.158471850972,57.780919697436
END:VEVENT
BEGIN:VEVENT
DTSTART;TZID=Europe/Stockholm:20261031T090000
DTEND;TZID=Europe/Stockholm:20261031T130000
DTSTAMP:20260420T103757
CREATED:20260114T100327Z
LAST-MODIFIED:20260114T100327Z
UID:10002958-1793437200-1793451600@immanuelskyrkan.com
SUMMARY:Torgfika
DESCRIPTION:Caféet är öppet för fika och kaffe.
URL:https://immanuelskyrkan.com/evenemang/torgfika/2026-10-31/
LOCATION:Immanuelskyrkan\, Oxtorgsgatan 15\, Jönköping\, 553 17\, Sverige
CATEGORIES:Café Immanuel
ORGANIZER;CN="Immanuelskyrkan":MAILTO:info@immanuelskyrkan.com
GEO:57.780919697436;14.158471850972
X-APPLE-STRUCTURED-LOCATION;VALUE=URI;X-ADDRESS=Immanuelskyrkan Oxtorgsgatan 15 Jönköping 553 17 Sverige;X-APPLE-RADIUS=500;X-TITLE=Oxtorgsgatan 15:geo:14.158471850972,57.780919697436
END:VEVENT
END:VCALENDAR