BEGIN:VCALENDAR
VERSION:2.0
PRODID:-//Immanuelskyrkan Jönköping - ECPv6.15.20//NONSGML v1.0//EN
CALSCALE:GREGORIAN
METHOD:PUBLISH
X-WR-CALNAME:Immanuelskyrkan Jönköping
X-ORIGINAL-URL:https://immanuelskyrkan.com
X-WR-CALDESC:Evenemang hos Immanuelskyrkan Jönköping
REFRESH-INTERVAL;VALUE=DURATION:PT1H
X-Robots-Tag:noindex
X-PUBLISHED-TTL:PT1H
BEGIN:VTIMEZONE
TZID:Europe/Stockholm
BEGIN:DAYLIGHT
TZOFFSETFROM:+0100
TZOFFSETTO:+0200
TZNAME:CEST
DTSTART:20270328T010000
END:DAYLIGHT
BEGIN:STANDARD
TZOFFSETFROM:+0200
TZOFFSETTO:+0100
TZNAME:CET
DTSTART:20271031T010000
END:STANDARD
BEGIN:DAYLIGHT
TZOFFSETFROM:+0100
TZOFFSETTO:+0200
TZNAME:CEST
DTSTART:20280326T010000
END:DAYLIGHT
BEGIN:STANDARD
TZOFFSETFROM:+0200
TZOFFSETTO:+0100
TZNAME:CET
DTSTART:20281029T010000
END:STANDARD
BEGIN:DAYLIGHT
TZOFFSETFROM:+0100
TZOFFSETTO:+0200
TZNAME:CEST
DTSTART:20290325T010000
END:DAYLIGHT
BEGIN:STANDARD
TZOFFSETFROM:+0200
TZOFFSETTO:+0100
TZNAME:CET
DTSTART:20291028T010000
END:STANDARD
BEGIN:DAYLIGHT
TZOFFSETFROM:+0100
TZOFFSETTO:+0200
TZNAME:CEST
DTSTART:20300331T010000
END:DAYLIGHT
BEGIN:STANDARD
TZOFFSETFROM:+0200
TZOFFSETTO:+0100
TZNAME:CET
DTSTART:20301027T010000
END:STANDARD
END:VTIMEZONE
BEGIN:VEVENT
DTSTART;TZID=Europe/Stockholm:20281209T090000
DTEND;TZID=Europe/Stockholm:20281209T130000
DTSTAMP:20260420T064621
CREATED:20260114T100327Z
LAST-MODIFIED:20260114T100327Z
UID:10003068-1859965200-1859979600@immanuelskyrkan.com
SUMMARY:Torgfika
DESCRIPTION:Caféet är öppet för fika och kaffe.
URL:https://immanuelskyrkan.com/evenemang/torgfika/2028-12-09/
LOCATION:Immanuelskyrkan\, Oxtorgsgatan 15\, Jönköping\, 553 17\, Sverige
CATEGORIES:Café Immanuel
ORGANIZER;CN="Immanuelskyrkan":MAILTO:info@immanuelskyrkan.com
GEO:57.780919697436;14.158471850972
X-APPLE-STRUCTURED-LOCATION;VALUE=URI;X-ADDRESS=Immanuelskyrkan Oxtorgsgatan 15 Jönköping 553 17 Sverige;X-APPLE-RADIUS=500;X-TITLE=Oxtorgsgatan 15:geo:14.158471850972,57.780919697436
END:VEVENT
BEGIN:VEVENT
DTSTART;TZID=Europe/Stockholm:20281216T090000
DTEND;TZID=Europe/Stockholm:20281216T130000
DTSTAMP:20260420T064621
CREATED:20260114T100327Z
LAST-MODIFIED:20260114T100327Z
UID:10003069-1860570000-1860584400@immanuelskyrkan.com
SUMMARY:Torgfika
DESCRIPTION:Caféet är öppet för fika och kaffe.
URL:https://immanuelskyrkan.com/evenemang/torgfika/2028-12-16/
LOCATION:Immanuelskyrkan\, Oxtorgsgatan 15\, Jönköping\, 553 17\, Sverige
CATEGORIES:Café Immanuel
ORGANIZER;CN="Immanuelskyrkan":MAILTO:info@immanuelskyrkan.com
GEO:57.780919697436;14.158471850972
X-APPLE-STRUCTURED-LOCATION;VALUE=URI;X-ADDRESS=Immanuelskyrkan Oxtorgsgatan 15 Jönköping 553 17 Sverige;X-APPLE-RADIUS=500;X-TITLE=Oxtorgsgatan 15:geo:14.158471850972,57.780919697436
END:VEVENT
BEGIN:VEVENT
DTSTART;TZID=Europe/Stockholm:20281223T090000
DTEND;TZID=Europe/Stockholm:20281223T130000
DTSTAMP:20260420T064621
CREATED:20260114T100327Z
LAST-MODIFIED:20260114T100327Z
UID:10003070-1861174800-1861189200@immanuelskyrkan.com
SUMMARY:Torgfika
DESCRIPTION:Caféet är öppet för fika och kaffe.
URL:https://immanuelskyrkan.com/evenemang/torgfika/2028-12-23/
LOCATION:Immanuelskyrkan\, Oxtorgsgatan 15\, Jönköping\, 553 17\, Sverige
CATEGORIES:Café Immanuel
ORGANIZER;CN="Immanuelskyrkan":MAILTO:info@immanuelskyrkan.com
GEO:57.780919697436;14.158471850972
X-APPLE-STRUCTURED-LOCATION;VALUE=URI;X-ADDRESS=Immanuelskyrkan Oxtorgsgatan 15 Jönköping 553 17 Sverige;X-APPLE-RADIUS=500;X-TITLE=Oxtorgsgatan 15:geo:14.158471850972,57.780919697436
END:VEVENT
BEGIN:VEVENT
DTSTART;TZID=Europe/Stockholm:20281230T090000
DTEND;TZID=Europe/Stockholm:20281230T130000
DTSTAMP:20260420T064621
CREATED:20260114T100327Z
LAST-MODIFIED:20260114T100327Z
UID:10003071-1861779600-1861794000@immanuelskyrkan.com
SUMMARY:Torgfika
DESCRIPTION:Caféet är öppet för fika och kaffe.
URL:https://immanuelskyrkan.com/evenemang/torgfika/2028-12-30/
LOCATION:Immanuelskyrkan\, Oxtorgsgatan 15\, Jönköping\, 553 17\, Sverige
CATEGORIES:Café Immanuel
ORGANIZER;CN="Immanuelskyrkan":MAILTO:info@immanuelskyrkan.com
GEO:57.780919697436;14.158471850972
X-APPLE-STRUCTURED-LOCATION;VALUE=URI;X-ADDRESS=Immanuelskyrkan Oxtorgsgatan 15 Jönköping 553 17 Sverige;X-APPLE-RADIUS=500;X-TITLE=Oxtorgsgatan 15:geo:14.158471850972,57.780919697436
END:VEVENT
BEGIN:VEVENT
DTSTART;TZID=Europe/Stockholm:20290106T090000
DTEND;TZID=Europe/Stockholm:20290106T130000
DTSTAMP:20260420T064621
CREATED:20260114T100327Z
LAST-MODIFIED:20260114T100327Z
UID:10003072-1862384400-1862398800@immanuelskyrkan.com
SUMMARY:Torgfika
DESCRIPTION:Caféet är öppet för fika och kaffe.
URL:https://immanuelskyrkan.com/evenemang/torgfika/2029-01-06/
LOCATION:Immanuelskyrkan\, Oxtorgsgatan 15\, Jönköping\, 553 17\, Sverige
CATEGORIES:Café Immanuel
ORGANIZER;CN="Immanuelskyrkan":MAILTO:info@immanuelskyrkan.com
GEO:57.780919697436;14.158471850972
X-APPLE-STRUCTURED-LOCATION;VALUE=URI;X-ADDRESS=Immanuelskyrkan Oxtorgsgatan 15 Jönköping 553 17 Sverige;X-APPLE-RADIUS=500;X-TITLE=Oxtorgsgatan 15:geo:14.158471850972,57.780919697436
END:VEVENT
BEGIN:VEVENT
DTSTART;TZID=Europe/Stockholm:20290113T090000
DTEND;TZID=Europe/Stockholm:20290113T130000
DTSTAMP:20260420T064621
CREATED:20260114T100327Z
LAST-MODIFIED:20260114T100327Z
UID:10003073-1862989200-1863003600@immanuelskyrkan.com
SUMMARY:Torgfika
DESCRIPTION:Caféet är öppet för fika och kaffe.
URL:https://immanuelskyrkan.com/evenemang/torgfika/2029-01-13/
LOCATION:Immanuelskyrkan\, Oxtorgsgatan 15\, Jönköping\, 553 17\, Sverige
CATEGORIES:Café Immanuel
ORGANIZER;CN="Immanuelskyrkan":MAILTO:info@immanuelskyrkan.com
GEO:57.780919697436;14.158471850972
X-APPLE-STRUCTURED-LOCATION;VALUE=URI;X-ADDRESS=Immanuelskyrkan Oxtorgsgatan 15 Jönköping 553 17 Sverige;X-APPLE-RADIUS=500;X-TITLE=Oxtorgsgatan 15:geo:14.158471850972,57.780919697436
END:VEVENT
BEGIN:VEVENT
DTSTART;TZID=Europe/Stockholm:20290120T090000
DTEND;TZID=Europe/Stockholm:20290120T130000
DTSTAMP:20260420T064621
CREATED:20260114T100327Z
LAST-MODIFIED:20260114T100327Z
UID:10003074-1863594000-1863608400@immanuelskyrkan.com
SUMMARY:Torgfika
DESCRIPTION:Caféet är öppet för fika och kaffe.
URL:https://immanuelskyrkan.com/evenemang/torgfika/2029-01-20/
LOCATION:Immanuelskyrkan\, Oxtorgsgatan 15\, Jönköping\, 553 17\, Sverige
CATEGORIES:Café Immanuel
ORGANIZER;CN="Immanuelskyrkan":MAILTO:info@immanuelskyrkan.com
GEO:57.780919697436;14.158471850972
X-APPLE-STRUCTURED-LOCATION;VALUE=URI;X-ADDRESS=Immanuelskyrkan Oxtorgsgatan 15 Jönköping 553 17 Sverige;X-APPLE-RADIUS=500;X-TITLE=Oxtorgsgatan 15:geo:14.158471850972,57.780919697436
END:VEVENT
BEGIN:VEVENT
DTSTART;TZID=Europe/Stockholm:20290127T090000
DTEND;TZID=Europe/Stockholm:20290127T130000
DTSTAMP:20260420T064621
CREATED:20260114T100327Z
LAST-MODIFIED:20260114T100327Z
UID:10003075-1864198800-1864213200@immanuelskyrkan.com
SUMMARY:Torgfika
DESCRIPTION:Caféet är öppet för fika och kaffe.
URL:https://immanuelskyrkan.com/evenemang/torgfika/2029-01-27/
LOCATION:Immanuelskyrkan\, Oxtorgsgatan 15\, Jönköping\, 553 17\, Sverige
CATEGORIES:Café Immanuel
ORGANIZER;CN="Immanuelskyrkan":MAILTO:info@immanuelskyrkan.com
GEO:57.780919697436;14.158471850972
X-APPLE-STRUCTURED-LOCATION;VALUE=URI;X-ADDRESS=Immanuelskyrkan Oxtorgsgatan 15 Jönköping 553 17 Sverige;X-APPLE-RADIUS=500;X-TITLE=Oxtorgsgatan 15:geo:14.158471850972,57.780919697436
END:VEVENT
BEGIN:VEVENT
DTSTART;TZID=Europe/Stockholm:20290203T090000
DTEND;TZID=Europe/Stockholm:20290203T130000
DTSTAMP:20260420T064621
CREATED:20260114T100327Z
LAST-MODIFIED:20260114T100327Z
UID:10003076-1864803600-1864818000@immanuelskyrkan.com
SUMMARY:Torgfika
DESCRIPTION:Caféet är öppet för fika och kaffe.
URL:https://immanuelskyrkan.com/evenemang/torgfika/2029-02-03/
LOCATION:Immanuelskyrkan\, Oxtorgsgatan 15\, Jönköping\, 553 17\, Sverige
CATEGORIES:Café Immanuel
ORGANIZER;CN="Immanuelskyrkan":MAILTO:info@immanuelskyrkan.com
GEO:57.780919697436;14.158471850972
X-APPLE-STRUCTURED-LOCATION;VALUE=URI;X-ADDRESS=Immanuelskyrkan Oxtorgsgatan 15 Jönköping 553 17 Sverige;X-APPLE-RADIUS=500;X-TITLE=Oxtorgsgatan 15:geo:14.158471850972,57.780919697436
END:VEVENT
BEGIN:VEVENT
DTSTART;TZID=Europe/Stockholm:20290210T090000
DTEND;TZID=Europe/Stockholm:20290210T130000
DTSTAMP:20260420T064621
CREATED:20260114T100327Z
LAST-MODIFIED:20260114T100327Z
UID:10003077-1865408400-1865422800@immanuelskyrkan.com
SUMMARY:Torgfika
DESCRIPTION:Caféet är öppet för fika och kaffe.
URL:https://immanuelskyrkan.com/evenemang/torgfika/2029-02-10/
LOCATION:Immanuelskyrkan\, Oxtorgsgatan 15\, Jönköping\, 553 17\, Sverige
CATEGORIES:Café Immanuel
ORGANIZER;CN="Immanuelskyrkan":MAILTO:info@immanuelskyrkan.com
GEO:57.780919697436;14.158471850972
X-APPLE-STRUCTURED-LOCATION;VALUE=URI;X-ADDRESS=Immanuelskyrkan Oxtorgsgatan 15 Jönköping 553 17 Sverige;X-APPLE-RADIUS=500;X-TITLE=Oxtorgsgatan 15:geo:14.158471850972,57.780919697436
END:VEVENT
BEGIN:VEVENT
DTSTART;TZID=Europe/Stockholm:20290217T090000
DTEND;TZID=Europe/Stockholm:20290217T130000
DTSTAMP:20260420T064621
CREATED:20260114T100327Z
LAST-MODIFIED:20260114T100327Z
UID:10003078-1866013200-1866027600@immanuelskyrkan.com
SUMMARY:Torgfika
DESCRIPTION:Caféet är öppet för fika och kaffe.
URL:https://immanuelskyrkan.com/evenemang/torgfika/2029-02-17/
LOCATION:Immanuelskyrkan\, Oxtorgsgatan 15\, Jönköping\, 553 17\, Sverige
CATEGORIES:Café Immanuel
ORGANIZER;CN="Immanuelskyrkan":MAILTO:info@immanuelskyrkan.com
GEO:57.780919697436;14.158471850972
X-APPLE-STRUCTURED-LOCATION;VALUE=URI;X-ADDRESS=Immanuelskyrkan Oxtorgsgatan 15 Jönköping 553 17 Sverige;X-APPLE-RADIUS=500;X-TITLE=Oxtorgsgatan 15:geo:14.158471850972,57.780919697436
END:VEVENT
BEGIN:VEVENT
DTSTART;TZID=Europe/Stockholm:20290224T090000
DTEND;TZID=Europe/Stockholm:20290224T130000
DTSTAMP:20260420T064621
CREATED:20260114T100327Z
LAST-MODIFIED:20260114T100327Z
UID:10003079-1866618000-1866632400@immanuelskyrkan.com
SUMMARY:Torgfika
DESCRIPTION:Caféet är öppet för fika och kaffe.
URL:https://immanuelskyrkan.com/evenemang/torgfika/2029-02-24/
LOCATION:Immanuelskyrkan\, Oxtorgsgatan 15\, Jönköping\, 553 17\, Sverige
CATEGORIES:Café Immanuel
ORGANIZER;CN="Immanuelskyrkan":MAILTO:info@immanuelskyrkan.com
GEO:57.780919697436;14.158471850972
X-APPLE-STRUCTURED-LOCATION;VALUE=URI;X-ADDRESS=Immanuelskyrkan Oxtorgsgatan 15 Jönköping 553 17 Sverige;X-APPLE-RADIUS=500;X-TITLE=Oxtorgsgatan 15:geo:14.158471850972,57.780919697436
END:VEVENT
BEGIN:VEVENT
DTSTART;TZID=Europe/Stockholm:20290303T090000
DTEND;TZID=Europe/Stockholm:20290303T130000
DTSTAMP:20260420T064621
CREATED:20260114T100327Z
LAST-MODIFIED:20260114T100327Z
UID:10003080-1867222800-1867237200@immanuelskyrkan.com
SUMMARY:Torgfika
DESCRIPTION:Caféet är öppet för fika och kaffe.
URL:https://immanuelskyrkan.com/evenemang/torgfika/2029-03-03/
LOCATION:Immanuelskyrkan\, Oxtorgsgatan 15\, Jönköping\, 553 17\, Sverige
CATEGORIES:Café Immanuel
ORGANIZER;CN="Immanuelskyrkan":MAILTO:info@immanuelskyrkan.com
GEO:57.780919697436;14.158471850972
X-APPLE-STRUCTURED-LOCATION;VALUE=URI;X-ADDRESS=Immanuelskyrkan Oxtorgsgatan 15 Jönköping 553 17 Sverige;X-APPLE-RADIUS=500;X-TITLE=Oxtorgsgatan 15:geo:14.158471850972,57.780919697436
END:VEVENT
BEGIN:VEVENT
DTSTART;TZID=Europe/Stockholm:20290310T090000
DTEND;TZID=Europe/Stockholm:20290310T130000
DTSTAMP:20260420T064621
CREATED:20260114T100327Z
LAST-MODIFIED:20260114T100327Z
UID:10003081-1867827600-1867842000@immanuelskyrkan.com
SUMMARY:Torgfika
DESCRIPTION:Caféet är öppet för fika och kaffe.
URL:https://immanuelskyrkan.com/evenemang/torgfika/2029-03-10/
LOCATION:Immanuelskyrkan\, Oxtorgsgatan 15\, Jönköping\, 553 17\, Sverige
CATEGORIES:Café Immanuel
ORGANIZER;CN="Immanuelskyrkan":MAILTO:info@immanuelskyrkan.com
GEO:57.780919697436;14.158471850972
X-APPLE-STRUCTURED-LOCATION;VALUE=URI;X-ADDRESS=Immanuelskyrkan Oxtorgsgatan 15 Jönköping 553 17 Sverige;X-APPLE-RADIUS=500;X-TITLE=Oxtorgsgatan 15:geo:14.158471850972,57.780919697436
END:VEVENT
BEGIN:VEVENT
DTSTART;TZID=Europe/Stockholm:20290317T090000
DTEND;TZID=Europe/Stockholm:20290317T130000
DTSTAMP:20260420T064621
CREATED:20260114T100327Z
LAST-MODIFIED:20260114T100327Z
UID:10003082-1868432400-1868446800@immanuelskyrkan.com
SUMMARY:Torgfika
DESCRIPTION:Caféet är öppet för fika och kaffe.
URL:https://immanuelskyrkan.com/evenemang/torgfika/2029-03-17/
LOCATION:Immanuelskyrkan\, Oxtorgsgatan 15\, Jönköping\, 553 17\, Sverige
CATEGORIES:Café Immanuel
ORGANIZER;CN="Immanuelskyrkan":MAILTO:info@immanuelskyrkan.com
GEO:57.780919697436;14.158471850972
X-APPLE-STRUCTURED-LOCATION;VALUE=URI;X-ADDRESS=Immanuelskyrkan Oxtorgsgatan 15 Jönköping 553 17 Sverige;X-APPLE-RADIUS=500;X-TITLE=Oxtorgsgatan 15:geo:14.158471850972,57.780919697436
END:VEVENT
BEGIN:VEVENT
DTSTART;TZID=Europe/Stockholm:20290324T090000
DTEND;TZID=Europe/Stockholm:20290324T130000
DTSTAMP:20260420T064621
CREATED:20260114T100327Z
LAST-MODIFIED:20260114T100327Z
UID:10003083-1869037200-1869051600@immanuelskyrkan.com
SUMMARY:Torgfika
DESCRIPTION:Caféet är öppet för fika och kaffe.
URL:https://immanuelskyrkan.com/evenemang/torgfika/2029-03-24/
LOCATION:Immanuelskyrkan\, Oxtorgsgatan 15\, Jönköping\, 553 17\, Sverige
CATEGORIES:Café Immanuel
ORGANIZER;CN="Immanuelskyrkan":MAILTO:info@immanuelskyrkan.com
GEO:57.780919697436;14.158471850972
X-APPLE-STRUCTURED-LOCATION;VALUE=URI;X-ADDRESS=Immanuelskyrkan Oxtorgsgatan 15 Jönköping 553 17 Sverige;X-APPLE-RADIUS=500;X-TITLE=Oxtorgsgatan 15:geo:14.158471850972,57.780919697436
END:VEVENT
BEGIN:VEVENT
DTSTART;TZID=Europe/Stockholm:20290331T090000
DTEND;TZID=Europe/Stockholm:20290331T130000
DTSTAMP:20260420T064621
CREATED:20260114T100327Z
LAST-MODIFIED:20260114T100327Z
UID:10003084-1869642000-1869656400@immanuelskyrkan.com
SUMMARY:Torgfika
DESCRIPTION:Caféet är öppet för fika och kaffe.
URL:https://immanuelskyrkan.com/evenemang/torgfika/2029-03-31/
LOCATION:Immanuelskyrkan\, Oxtorgsgatan 15\, Jönköping\, 553 17\, Sverige
CATEGORIES:Café Immanuel
ORGANIZER;CN="Immanuelskyrkan":MAILTO:info@immanuelskyrkan.com
GEO:57.780919697436;14.158471850972
X-APPLE-STRUCTURED-LOCATION;VALUE=URI;X-ADDRESS=Immanuelskyrkan Oxtorgsgatan 15 Jönköping 553 17 Sverige;X-APPLE-RADIUS=500;X-TITLE=Oxtorgsgatan 15:geo:14.158471850972,57.780919697436
END:VEVENT
BEGIN:VEVENT
DTSTART;TZID=Europe/Stockholm:20290407T090000
DTEND;TZID=Europe/Stockholm:20290407T130000
DTSTAMP:20260420T064621
CREATED:20260114T100327Z
LAST-MODIFIED:20260114T100327Z
UID:10003085-1870246800-1870261200@immanuelskyrkan.com
SUMMARY:Torgfika
DESCRIPTION:Caféet är öppet för fika och kaffe.
URL:https://immanuelskyrkan.com/evenemang/torgfika/2029-04-07/
LOCATION:Immanuelskyrkan\, Oxtorgsgatan 15\, Jönköping\, 553 17\, Sverige
CATEGORIES:Café Immanuel
ORGANIZER;CN="Immanuelskyrkan":MAILTO:info@immanuelskyrkan.com
GEO:57.780919697436;14.158471850972
X-APPLE-STRUCTURED-LOCATION;VALUE=URI;X-ADDRESS=Immanuelskyrkan Oxtorgsgatan 15 Jönköping 553 17 Sverige;X-APPLE-RADIUS=500;X-TITLE=Oxtorgsgatan 15:geo:14.158471850972,57.780919697436
END:VEVENT
BEGIN:VEVENT
DTSTART;TZID=Europe/Stockholm:20290414T090000
DTEND;TZID=Europe/Stockholm:20290414T130000
DTSTAMP:20260420T064621
CREATED:20260114T100327Z
LAST-MODIFIED:20260114T100327Z
UID:10003086-1870851600-1870866000@immanuelskyrkan.com
SUMMARY:Torgfika
DESCRIPTION:Caféet är öppet för fika och kaffe.
URL:https://immanuelskyrkan.com/evenemang/torgfika/2029-04-14/
LOCATION:Immanuelskyrkan\, Oxtorgsgatan 15\, Jönköping\, 553 17\, Sverige
CATEGORIES:Café Immanuel
ORGANIZER;CN="Immanuelskyrkan":MAILTO:info@immanuelskyrkan.com
GEO:57.780919697436;14.158471850972
X-APPLE-STRUCTURED-LOCATION;VALUE=URI;X-ADDRESS=Immanuelskyrkan Oxtorgsgatan 15 Jönköping 553 17 Sverige;X-APPLE-RADIUS=500;X-TITLE=Oxtorgsgatan 15:geo:14.158471850972,57.780919697436
END:VEVENT
BEGIN:VEVENT
DTSTART;TZID=Europe/Stockholm:20290421T090000
DTEND;TZID=Europe/Stockholm:20290421T130000
DTSTAMP:20260420T064621
CREATED:20260114T100327Z
LAST-MODIFIED:20260114T100327Z
UID:10003087-1871456400-1871470800@immanuelskyrkan.com
SUMMARY:Torgfika
DESCRIPTION:Caféet är öppet för fika och kaffe.
URL:https://immanuelskyrkan.com/evenemang/torgfika/2029-04-21/
LOCATION:Immanuelskyrkan\, Oxtorgsgatan 15\, Jönköping\, 553 17\, Sverige
CATEGORIES:Café Immanuel
ORGANIZER;CN="Immanuelskyrkan":MAILTO:info@immanuelskyrkan.com
GEO:57.780919697436;14.158471850972
X-APPLE-STRUCTURED-LOCATION;VALUE=URI;X-ADDRESS=Immanuelskyrkan Oxtorgsgatan 15 Jönköping 553 17 Sverige;X-APPLE-RADIUS=500;X-TITLE=Oxtorgsgatan 15:geo:14.158471850972,57.780919697436
END:VEVENT
BEGIN:VEVENT
DTSTART;TZID=Europe/Stockholm:20290428T090000
DTEND;TZID=Europe/Stockholm:20290428T130000
DTSTAMP:20260420T064621
CREATED:20260114T100327Z
LAST-MODIFIED:20260114T100327Z
UID:10003088-1872061200-1872075600@immanuelskyrkan.com
SUMMARY:Torgfika
DESCRIPTION:Caféet är öppet för fika och kaffe.
URL:https://immanuelskyrkan.com/evenemang/torgfika/2029-04-28/
LOCATION:Immanuelskyrkan\, Oxtorgsgatan 15\, Jönköping\, 553 17\, Sverige
CATEGORIES:Café Immanuel
ORGANIZER;CN="Immanuelskyrkan":MAILTO:info@immanuelskyrkan.com
GEO:57.780919697436;14.158471850972
X-APPLE-STRUCTURED-LOCATION;VALUE=URI;X-ADDRESS=Immanuelskyrkan Oxtorgsgatan 15 Jönköping 553 17 Sverige;X-APPLE-RADIUS=500;X-TITLE=Oxtorgsgatan 15:geo:14.158471850972,57.780919697436
END:VEVENT
BEGIN:VEVENT
DTSTART;TZID=Europe/Stockholm:20290505T090000
DTEND;TZID=Europe/Stockholm:20290505T130000
DTSTAMP:20260420T064621
CREATED:20260114T100327Z
LAST-MODIFIED:20260114T100327Z
UID:10003089-1872666000-1872680400@immanuelskyrkan.com
SUMMARY:Torgfika
DESCRIPTION:Caféet är öppet för fika och kaffe.
URL:https://immanuelskyrkan.com/evenemang/torgfika/2029-05-05/
LOCATION:Immanuelskyrkan\, Oxtorgsgatan 15\, Jönköping\, 553 17\, Sverige
CATEGORIES:Café Immanuel
ORGANIZER;CN="Immanuelskyrkan":MAILTO:info@immanuelskyrkan.com
GEO:57.780919697436;14.158471850972
X-APPLE-STRUCTURED-LOCATION;VALUE=URI;X-ADDRESS=Immanuelskyrkan Oxtorgsgatan 15 Jönköping 553 17 Sverige;X-APPLE-RADIUS=500;X-TITLE=Oxtorgsgatan 15:geo:14.158471850972,57.780919697436
END:VEVENT
BEGIN:VEVENT
DTSTART;TZID=Europe/Stockholm:20290512T090000
DTEND;TZID=Europe/Stockholm:20290512T130000
DTSTAMP:20260420T064621
CREATED:20260114T100327Z
LAST-MODIFIED:20260114T100327Z
UID:10003090-1873270800-1873285200@immanuelskyrkan.com
SUMMARY:Torgfika
DESCRIPTION:Caféet är öppet för fika och kaffe.
URL:https://immanuelskyrkan.com/evenemang/torgfika/2029-05-12/
LOCATION:Immanuelskyrkan\, Oxtorgsgatan 15\, Jönköping\, 553 17\, Sverige
CATEGORIES:Café Immanuel
ORGANIZER;CN="Immanuelskyrkan":MAILTO:info@immanuelskyrkan.com
GEO:57.780919697436;14.158471850972
X-APPLE-STRUCTURED-LOCATION;VALUE=URI;X-ADDRESS=Immanuelskyrkan Oxtorgsgatan 15 Jönköping 553 17 Sverige;X-APPLE-RADIUS=500;X-TITLE=Oxtorgsgatan 15:geo:14.158471850972,57.780919697436
END:VEVENT
BEGIN:VEVENT
DTSTART;TZID=Europe/Stockholm:20290519T090000
DTEND;TZID=Europe/Stockholm:20290519T130000
DTSTAMP:20260420T064621
CREATED:20260114T100327Z
LAST-MODIFIED:20260114T100327Z
UID:10003091-1873875600-1873890000@immanuelskyrkan.com
SUMMARY:Torgfika
DESCRIPTION:Caféet är öppet för fika och kaffe.
URL:https://immanuelskyrkan.com/evenemang/torgfika/2029-05-19/
LOCATION:Immanuelskyrkan\, Oxtorgsgatan 15\, Jönköping\, 553 17\, Sverige
CATEGORIES:Café Immanuel
ORGANIZER;CN="Immanuelskyrkan":MAILTO:info@immanuelskyrkan.com
GEO:57.780919697436;14.158471850972
X-APPLE-STRUCTURED-LOCATION;VALUE=URI;X-ADDRESS=Immanuelskyrkan Oxtorgsgatan 15 Jönköping 553 17 Sverige;X-APPLE-RADIUS=500;X-TITLE=Oxtorgsgatan 15:geo:14.158471850972,57.780919697436
END:VEVENT
BEGIN:VEVENT
DTSTART;TZID=Europe/Stockholm:20290526T090000
DTEND;TZID=Europe/Stockholm:20290526T130000
DTSTAMP:20260420T064621
CREATED:20260114T100327Z
LAST-MODIFIED:20260114T100327Z
UID:10003092-1874480400-1874494800@immanuelskyrkan.com
SUMMARY:Torgfika
DESCRIPTION:Caféet är öppet för fika och kaffe.
URL:https://immanuelskyrkan.com/evenemang/torgfika/2029-05-26/
LOCATION:Immanuelskyrkan\, Oxtorgsgatan 15\, Jönköping\, 553 17\, Sverige
CATEGORIES:Café Immanuel
ORGANIZER;CN="Immanuelskyrkan":MAILTO:info@immanuelskyrkan.com
GEO:57.780919697436;14.158471850972
X-APPLE-STRUCTURED-LOCATION;VALUE=URI;X-ADDRESS=Immanuelskyrkan Oxtorgsgatan 15 Jönköping 553 17 Sverige;X-APPLE-RADIUS=500;X-TITLE=Oxtorgsgatan 15:geo:14.158471850972,57.780919697436
END:VEVENT
BEGIN:VEVENT
DTSTART;TZID=Europe/Stockholm:20290602T090000
DTEND;TZID=Europe/Stockholm:20290602T130000
DTSTAMP:20260420T064621
CREATED:20260114T100327Z
LAST-MODIFIED:20260114T100327Z
UID:10003093-1875085200-1875099600@immanuelskyrkan.com
SUMMARY:Torgfika
DESCRIPTION:Caféet är öppet för fika och kaffe.
URL:https://immanuelskyrkan.com/evenemang/torgfika/2029-06-02/
LOCATION:Immanuelskyrkan\, Oxtorgsgatan 15\, Jönköping\, 553 17\, Sverige
CATEGORIES:Café Immanuel
ORGANIZER;CN="Immanuelskyrkan":MAILTO:info@immanuelskyrkan.com
GEO:57.780919697436;14.158471850972
X-APPLE-STRUCTURED-LOCATION;VALUE=URI;X-ADDRESS=Immanuelskyrkan Oxtorgsgatan 15 Jönköping 553 17 Sverige;X-APPLE-RADIUS=500;X-TITLE=Oxtorgsgatan 15:geo:14.158471850972,57.780919697436
END:VEVENT
BEGIN:VEVENT
DTSTART;TZID=Europe/Stockholm:20290609T090000
DTEND;TZID=Europe/Stockholm:20290609T130000
DTSTAMP:20260420T064621
CREATED:20260114T100327Z
LAST-MODIFIED:20260114T100327Z
UID:10003094-1875690000-1875704400@immanuelskyrkan.com
SUMMARY:Torgfika
DESCRIPTION:Caféet är öppet för fika och kaffe.
URL:https://immanuelskyrkan.com/evenemang/torgfika/2029-06-09/
LOCATION:Immanuelskyrkan\, Oxtorgsgatan 15\, Jönköping\, 553 17\, Sverige
CATEGORIES:Café Immanuel
ORGANIZER;CN="Immanuelskyrkan":MAILTO:info@immanuelskyrkan.com
GEO:57.780919697436;14.158471850972
X-APPLE-STRUCTURED-LOCATION;VALUE=URI;X-ADDRESS=Immanuelskyrkan Oxtorgsgatan 15 Jönköping 553 17 Sverige;X-APPLE-RADIUS=500;X-TITLE=Oxtorgsgatan 15:geo:14.158471850972,57.780919697436
END:VEVENT
BEGIN:VEVENT
DTSTART;TZID=Europe/Stockholm:20290616T090000
DTEND;TZID=Europe/Stockholm:20290616T130000
DTSTAMP:20260420T064621
CREATED:20260114T100327Z
LAST-MODIFIED:20260114T100327Z
UID:10003095-1876294800-1876309200@immanuelskyrkan.com
SUMMARY:Torgfika
DESCRIPTION:Caféet är öppet för fika och kaffe.
URL:https://immanuelskyrkan.com/evenemang/torgfika/2029-06-16/
LOCATION:Immanuelskyrkan\, Oxtorgsgatan 15\, Jönköping\, 553 17\, Sverige
CATEGORIES:Café Immanuel
ORGANIZER;CN="Immanuelskyrkan":MAILTO:info@immanuelskyrkan.com
GEO:57.780919697436;14.158471850972
X-APPLE-STRUCTURED-LOCATION;VALUE=URI;X-ADDRESS=Immanuelskyrkan Oxtorgsgatan 15 Jönköping 553 17 Sverige;X-APPLE-RADIUS=500;X-TITLE=Oxtorgsgatan 15:geo:14.158471850972,57.780919697436
END:VEVENT
BEGIN:VEVENT
DTSTART;TZID=Europe/Stockholm:20290623T090000
DTEND;TZID=Europe/Stockholm:20290623T130000
DTSTAMP:20260420T064621
CREATED:20260114T100327Z
LAST-MODIFIED:20260114T100327Z
UID:10003096-1876899600-1876914000@immanuelskyrkan.com
SUMMARY:Torgfika
DESCRIPTION:Caféet är öppet för fika och kaffe.
URL:https://immanuelskyrkan.com/evenemang/torgfika/2029-06-23/
LOCATION:Immanuelskyrkan\, Oxtorgsgatan 15\, Jönköping\, 553 17\, Sverige
CATEGORIES:Café Immanuel
ORGANIZER;CN="Immanuelskyrkan":MAILTO:info@immanuelskyrkan.com
GEO:57.780919697436;14.158471850972
X-APPLE-STRUCTURED-LOCATION;VALUE=URI;X-ADDRESS=Immanuelskyrkan Oxtorgsgatan 15 Jönköping 553 17 Sverige;X-APPLE-RADIUS=500;X-TITLE=Oxtorgsgatan 15:geo:14.158471850972,57.780919697436
END:VEVENT
BEGIN:VEVENT
DTSTART;TZID=Europe/Stockholm:20290630T090000
DTEND;TZID=Europe/Stockholm:20290630T130000
DTSTAMP:20260420T064621
CREATED:20260114T100327Z
LAST-MODIFIED:20260114T100327Z
UID:10003097-1877504400-1877518800@immanuelskyrkan.com
SUMMARY:Torgfika
DESCRIPTION:Caféet är öppet för fika och kaffe.
URL:https://immanuelskyrkan.com/evenemang/torgfika/2029-06-30/
LOCATION:Immanuelskyrkan\, Oxtorgsgatan 15\, Jönköping\, 553 17\, Sverige
CATEGORIES:Café Immanuel
ORGANIZER;CN="Immanuelskyrkan":MAILTO:info@immanuelskyrkan.com
GEO:57.780919697436;14.158471850972
X-APPLE-STRUCTURED-LOCATION;VALUE=URI;X-ADDRESS=Immanuelskyrkan Oxtorgsgatan 15 Jönköping 553 17 Sverige;X-APPLE-RADIUS=500;X-TITLE=Oxtorgsgatan 15:geo:14.158471850972,57.780919697436
END:VEVENT
END:VCALENDAR