BEGIN:VCALENDAR
VERSION:2.0
PRODID:-//Immanuelskyrkan Jönköping - ECPv6.15.20//NONSGML v1.0//EN
CALSCALE:GREGORIAN
METHOD:PUBLISH
X-WR-CALNAME:Immanuelskyrkan Jönköping
X-ORIGINAL-URL:https://immanuelskyrkan.com
X-WR-CALDESC:Evenemang hos Immanuelskyrkan Jönköping
REFRESH-INTERVAL;VALUE=DURATION:PT1H
X-Robots-Tag:noindex
X-PUBLISHED-TTL:PT1H
BEGIN:VTIMEZONE
TZID:Europe/Stockholm
BEGIN:DAYLIGHT
TZOFFSETFROM:+0100
TZOFFSETTO:+0200
TZNAME:CEST
DTSTART:20260329T010000
END:DAYLIGHT
BEGIN:STANDARD
TZOFFSETFROM:+0200
TZOFFSETTO:+0100
TZNAME:CET
DTSTART:20261025T010000
END:STANDARD
BEGIN:DAYLIGHT
TZOFFSETFROM:+0100
TZOFFSETTO:+0200
TZNAME:CEST
DTSTART:20270328T010000
END:DAYLIGHT
BEGIN:STANDARD
TZOFFSETFROM:+0200
TZOFFSETTO:+0100
TZNAME:CET
DTSTART:20271031T010000
END:STANDARD
BEGIN:DAYLIGHT
TZOFFSETFROM:+0100
TZOFFSETTO:+0200
TZNAME:CEST
DTSTART:20280326T010000
END:DAYLIGHT
BEGIN:STANDARD
TZOFFSETFROM:+0200
TZOFFSETTO:+0100
TZNAME:CET
DTSTART:20281029T010000
END:STANDARD
BEGIN:DAYLIGHT
TZOFFSETFROM:+0100
TZOFFSETTO:+0200
TZNAME:CEST
DTSTART:20290325T010000
END:DAYLIGHT
BEGIN:STANDARD
TZOFFSETFROM:+0200
TZOFFSETTO:+0100
TZNAME:CET
DTSTART:20291028T010000
END:STANDARD
END:VTIMEZONE
BEGIN:VEVENT
DTSTART;TZID=Europe/Stockholm:20270724T090000
DTEND;TZID=Europe/Stockholm:20270724T130000
DTSTAMP:20260419T203731
CREATED:20260114T100327Z
LAST-MODIFIED:20260114T100327Z
UID:10002996-1816419600-1816434000@immanuelskyrkan.com
SUMMARY:Torgfika
DESCRIPTION:Caféet är öppet för fika och kaffe.
URL:https://immanuelskyrkan.com/evenemang/torgfika/2027-07-24/
LOCATION:Immanuelskyrkan\, Oxtorgsgatan 15\, Jönköping\, 553 17\, Sverige
CATEGORIES:Café Immanuel
ORGANIZER;CN="Immanuelskyrkan":MAILTO:info@immanuelskyrkan.com
GEO:57.780919697436;14.158471850972
X-APPLE-STRUCTURED-LOCATION;VALUE=URI;X-ADDRESS=Immanuelskyrkan Oxtorgsgatan 15 Jönköping 553 17 Sverige;X-APPLE-RADIUS=500;X-TITLE=Oxtorgsgatan 15:geo:14.158471850972,57.780919697436
END:VEVENT
BEGIN:VEVENT
DTSTART;TZID=Europe/Stockholm:20270731T090000
DTEND;TZID=Europe/Stockholm:20270731T130000
DTSTAMP:20260419T203731
CREATED:20260114T100327Z
LAST-MODIFIED:20260114T100327Z
UID:10002997-1817024400-1817038800@immanuelskyrkan.com
SUMMARY:Torgfika
DESCRIPTION:Caféet är öppet för fika och kaffe.
URL:https://immanuelskyrkan.com/evenemang/torgfika/2027-07-31/
LOCATION:Immanuelskyrkan\, Oxtorgsgatan 15\, Jönköping\, 553 17\, Sverige
CATEGORIES:Café Immanuel
ORGANIZER;CN="Immanuelskyrkan":MAILTO:info@immanuelskyrkan.com
GEO:57.780919697436;14.158471850972
X-APPLE-STRUCTURED-LOCATION;VALUE=URI;X-ADDRESS=Immanuelskyrkan Oxtorgsgatan 15 Jönköping 553 17 Sverige;X-APPLE-RADIUS=500;X-TITLE=Oxtorgsgatan 15:geo:14.158471850972,57.780919697436
END:VEVENT
BEGIN:VEVENT
DTSTART;TZID=Europe/Stockholm:20270807T090000
DTEND;TZID=Europe/Stockholm:20270807T130000
DTSTAMP:20260419T203731
CREATED:20260114T100327Z
LAST-MODIFIED:20260114T100327Z
UID:10002998-1817629200-1817643600@immanuelskyrkan.com
SUMMARY:Torgfika
DESCRIPTION:Caféet är öppet för fika och kaffe.
URL:https://immanuelskyrkan.com/evenemang/torgfika/2027-08-07/
LOCATION:Immanuelskyrkan\, Oxtorgsgatan 15\, Jönköping\, 553 17\, Sverige
CATEGORIES:Café Immanuel
ORGANIZER;CN="Immanuelskyrkan":MAILTO:info@immanuelskyrkan.com
GEO:57.780919697436;14.158471850972
X-APPLE-STRUCTURED-LOCATION;VALUE=URI;X-ADDRESS=Immanuelskyrkan Oxtorgsgatan 15 Jönköping 553 17 Sverige;X-APPLE-RADIUS=500;X-TITLE=Oxtorgsgatan 15:geo:14.158471850972,57.780919697436
END:VEVENT
BEGIN:VEVENT
DTSTART;TZID=Europe/Stockholm:20270814T090000
DTEND;TZID=Europe/Stockholm:20270814T130000
DTSTAMP:20260419T203731
CREATED:20260114T100327Z
LAST-MODIFIED:20260114T100327Z
UID:10002999-1818234000-1818248400@immanuelskyrkan.com
SUMMARY:Torgfika
DESCRIPTION:Caféet är öppet för fika och kaffe.
URL:https://immanuelskyrkan.com/evenemang/torgfika/2027-08-14/
LOCATION:Immanuelskyrkan\, Oxtorgsgatan 15\, Jönköping\, 553 17\, Sverige
CATEGORIES:Café Immanuel
ORGANIZER;CN="Immanuelskyrkan":MAILTO:info@immanuelskyrkan.com
GEO:57.780919697436;14.158471850972
X-APPLE-STRUCTURED-LOCATION;VALUE=URI;X-ADDRESS=Immanuelskyrkan Oxtorgsgatan 15 Jönköping 553 17 Sverige;X-APPLE-RADIUS=500;X-TITLE=Oxtorgsgatan 15:geo:14.158471850972,57.780919697436
END:VEVENT
BEGIN:VEVENT
DTSTART;TZID=Europe/Stockholm:20270821T090000
DTEND;TZID=Europe/Stockholm:20270821T130000
DTSTAMP:20260419T203731
CREATED:20260114T100327Z
LAST-MODIFIED:20260114T100327Z
UID:10003000-1818838800-1818853200@immanuelskyrkan.com
SUMMARY:Torgfika
DESCRIPTION:Caféet är öppet för fika och kaffe.
URL:https://immanuelskyrkan.com/evenemang/torgfika/2027-08-21/
LOCATION:Immanuelskyrkan\, Oxtorgsgatan 15\, Jönköping\, 553 17\, Sverige
CATEGORIES:Café Immanuel
ORGANIZER;CN="Immanuelskyrkan":MAILTO:info@immanuelskyrkan.com
GEO:57.780919697436;14.158471850972
X-APPLE-STRUCTURED-LOCATION;VALUE=URI;X-ADDRESS=Immanuelskyrkan Oxtorgsgatan 15 Jönköping 553 17 Sverige;X-APPLE-RADIUS=500;X-TITLE=Oxtorgsgatan 15:geo:14.158471850972,57.780919697436
END:VEVENT
BEGIN:VEVENT
DTSTART;TZID=Europe/Stockholm:20270828T090000
DTEND;TZID=Europe/Stockholm:20270828T130000
DTSTAMP:20260419T203731
CREATED:20260114T100327Z
LAST-MODIFIED:20260114T100327Z
UID:10003001-1819443600-1819458000@immanuelskyrkan.com
SUMMARY:Torgfika
DESCRIPTION:Caféet är öppet för fika och kaffe.
URL:https://immanuelskyrkan.com/evenemang/torgfika/2027-08-28/
LOCATION:Immanuelskyrkan\, Oxtorgsgatan 15\, Jönköping\, 553 17\, Sverige
CATEGORIES:Café Immanuel
ORGANIZER;CN="Immanuelskyrkan":MAILTO:info@immanuelskyrkan.com
GEO:57.780919697436;14.158471850972
X-APPLE-STRUCTURED-LOCATION;VALUE=URI;X-ADDRESS=Immanuelskyrkan Oxtorgsgatan 15 Jönköping 553 17 Sverige;X-APPLE-RADIUS=500;X-TITLE=Oxtorgsgatan 15:geo:14.158471850972,57.780919697436
END:VEVENT
BEGIN:VEVENT
DTSTART;TZID=Europe/Stockholm:20270904T090000
DTEND;TZID=Europe/Stockholm:20270904T130000
DTSTAMP:20260419T203731
CREATED:20260114T100327Z
LAST-MODIFIED:20260114T100327Z
UID:10003002-1820048400-1820062800@immanuelskyrkan.com
SUMMARY:Torgfika
DESCRIPTION:Caféet är öppet för fika och kaffe.
URL:https://immanuelskyrkan.com/evenemang/torgfika/2027-09-04/
LOCATION:Immanuelskyrkan\, Oxtorgsgatan 15\, Jönköping\, 553 17\, Sverige
CATEGORIES:Café Immanuel
ORGANIZER;CN="Immanuelskyrkan":MAILTO:info@immanuelskyrkan.com
GEO:57.780919697436;14.158471850972
X-APPLE-STRUCTURED-LOCATION;VALUE=URI;X-ADDRESS=Immanuelskyrkan Oxtorgsgatan 15 Jönköping 553 17 Sverige;X-APPLE-RADIUS=500;X-TITLE=Oxtorgsgatan 15:geo:14.158471850972,57.780919697436
END:VEVENT
BEGIN:VEVENT
DTSTART;TZID=Europe/Stockholm:20270911T090000
DTEND;TZID=Europe/Stockholm:20270911T130000
DTSTAMP:20260419T203731
CREATED:20260114T100327Z
LAST-MODIFIED:20260114T100327Z
UID:10003003-1820653200-1820667600@immanuelskyrkan.com
SUMMARY:Torgfika
DESCRIPTION:Caféet är öppet för fika och kaffe.
URL:https://immanuelskyrkan.com/evenemang/torgfika/2027-09-11/
LOCATION:Immanuelskyrkan\, Oxtorgsgatan 15\, Jönköping\, 553 17\, Sverige
CATEGORIES:Café Immanuel
ORGANIZER;CN="Immanuelskyrkan":MAILTO:info@immanuelskyrkan.com
GEO:57.780919697436;14.158471850972
X-APPLE-STRUCTURED-LOCATION;VALUE=URI;X-ADDRESS=Immanuelskyrkan Oxtorgsgatan 15 Jönköping 553 17 Sverige;X-APPLE-RADIUS=500;X-TITLE=Oxtorgsgatan 15:geo:14.158471850972,57.780919697436
END:VEVENT
BEGIN:VEVENT
DTSTART;TZID=Europe/Stockholm:20270918T090000
DTEND;TZID=Europe/Stockholm:20270918T130000
DTSTAMP:20260419T203731
CREATED:20260114T100327Z
LAST-MODIFIED:20260114T100327Z
UID:10003004-1821258000-1821272400@immanuelskyrkan.com
SUMMARY:Torgfika
DESCRIPTION:Caféet är öppet för fika och kaffe.
URL:https://immanuelskyrkan.com/evenemang/torgfika/2027-09-18/
LOCATION:Immanuelskyrkan\, Oxtorgsgatan 15\, Jönköping\, 553 17\, Sverige
CATEGORIES:Café Immanuel
ORGANIZER;CN="Immanuelskyrkan":MAILTO:info@immanuelskyrkan.com
GEO:57.780919697436;14.158471850972
X-APPLE-STRUCTURED-LOCATION;VALUE=URI;X-ADDRESS=Immanuelskyrkan Oxtorgsgatan 15 Jönköping 553 17 Sverige;X-APPLE-RADIUS=500;X-TITLE=Oxtorgsgatan 15:geo:14.158471850972,57.780919697436
END:VEVENT
BEGIN:VEVENT
DTSTART;TZID=Europe/Stockholm:20270925T090000
DTEND;TZID=Europe/Stockholm:20270925T130000
DTSTAMP:20260419T203731
CREATED:20260114T100327Z
LAST-MODIFIED:20260114T100327Z
UID:10003005-1821862800-1821877200@immanuelskyrkan.com
SUMMARY:Torgfika
DESCRIPTION:Caféet är öppet för fika och kaffe.
URL:https://immanuelskyrkan.com/evenemang/torgfika/2027-09-25/
LOCATION:Immanuelskyrkan\, Oxtorgsgatan 15\, Jönköping\, 553 17\, Sverige
CATEGORIES:Café Immanuel
ORGANIZER;CN="Immanuelskyrkan":MAILTO:info@immanuelskyrkan.com
GEO:57.780919697436;14.158471850972
X-APPLE-STRUCTURED-LOCATION;VALUE=URI;X-ADDRESS=Immanuelskyrkan Oxtorgsgatan 15 Jönköping 553 17 Sverige;X-APPLE-RADIUS=500;X-TITLE=Oxtorgsgatan 15:geo:14.158471850972,57.780919697436
END:VEVENT
BEGIN:VEVENT
DTSTART;TZID=Europe/Stockholm:20271002T090000
DTEND;TZID=Europe/Stockholm:20271002T130000
DTSTAMP:20260419T203731
CREATED:20260114T100327Z
LAST-MODIFIED:20260114T100327Z
UID:10003006-1822467600-1822482000@immanuelskyrkan.com
SUMMARY:Torgfika
DESCRIPTION:Caféet är öppet för fika och kaffe.
URL:https://immanuelskyrkan.com/evenemang/torgfika/2027-10-02/
LOCATION:Immanuelskyrkan\, Oxtorgsgatan 15\, Jönköping\, 553 17\, Sverige
CATEGORIES:Café Immanuel
ORGANIZER;CN="Immanuelskyrkan":MAILTO:info@immanuelskyrkan.com
GEO:57.780919697436;14.158471850972
X-APPLE-STRUCTURED-LOCATION;VALUE=URI;X-ADDRESS=Immanuelskyrkan Oxtorgsgatan 15 Jönköping 553 17 Sverige;X-APPLE-RADIUS=500;X-TITLE=Oxtorgsgatan 15:geo:14.158471850972,57.780919697436
END:VEVENT
BEGIN:VEVENT
DTSTART;TZID=Europe/Stockholm:20271009T090000
DTEND;TZID=Europe/Stockholm:20271009T130000
DTSTAMP:20260419T203731
CREATED:20260114T100327Z
LAST-MODIFIED:20260114T100327Z
UID:10003007-1823072400-1823086800@immanuelskyrkan.com
SUMMARY:Torgfika
DESCRIPTION:Caféet är öppet för fika och kaffe.
URL:https://immanuelskyrkan.com/evenemang/torgfika/2027-10-09/
LOCATION:Immanuelskyrkan\, Oxtorgsgatan 15\, Jönköping\, 553 17\, Sverige
CATEGORIES:Café Immanuel
ORGANIZER;CN="Immanuelskyrkan":MAILTO:info@immanuelskyrkan.com
GEO:57.780919697436;14.158471850972
X-APPLE-STRUCTURED-LOCATION;VALUE=URI;X-ADDRESS=Immanuelskyrkan Oxtorgsgatan 15 Jönköping 553 17 Sverige;X-APPLE-RADIUS=500;X-TITLE=Oxtorgsgatan 15:geo:14.158471850972,57.780919697436
END:VEVENT
BEGIN:VEVENT
DTSTART;TZID=Europe/Stockholm:20271016T090000
DTEND;TZID=Europe/Stockholm:20271016T130000
DTSTAMP:20260419T203731
CREATED:20260114T100327Z
LAST-MODIFIED:20260114T100327Z
UID:10003008-1823677200-1823691600@immanuelskyrkan.com
SUMMARY:Torgfika
DESCRIPTION:Caféet är öppet för fika och kaffe.
URL:https://immanuelskyrkan.com/evenemang/torgfika/2027-10-16/
LOCATION:Immanuelskyrkan\, Oxtorgsgatan 15\, Jönköping\, 553 17\, Sverige
CATEGORIES:Café Immanuel
ORGANIZER;CN="Immanuelskyrkan":MAILTO:info@immanuelskyrkan.com
GEO:57.780919697436;14.158471850972
X-APPLE-STRUCTURED-LOCATION;VALUE=URI;X-ADDRESS=Immanuelskyrkan Oxtorgsgatan 15 Jönköping 553 17 Sverige;X-APPLE-RADIUS=500;X-TITLE=Oxtorgsgatan 15:geo:14.158471850972,57.780919697436
END:VEVENT
BEGIN:VEVENT
DTSTART;TZID=Europe/Stockholm:20271023T090000
DTEND;TZID=Europe/Stockholm:20271023T130000
DTSTAMP:20260419T203731
CREATED:20260114T100327Z
LAST-MODIFIED:20260114T100327Z
UID:10003009-1824282000-1824296400@immanuelskyrkan.com
SUMMARY:Torgfika
DESCRIPTION:Caféet är öppet för fika och kaffe.
URL:https://immanuelskyrkan.com/evenemang/torgfika/2027-10-23/
LOCATION:Immanuelskyrkan\, Oxtorgsgatan 15\, Jönköping\, 553 17\, Sverige
CATEGORIES:Café Immanuel
ORGANIZER;CN="Immanuelskyrkan":MAILTO:info@immanuelskyrkan.com
GEO:57.780919697436;14.158471850972
X-APPLE-STRUCTURED-LOCATION;VALUE=URI;X-ADDRESS=Immanuelskyrkan Oxtorgsgatan 15 Jönköping 553 17 Sverige;X-APPLE-RADIUS=500;X-TITLE=Oxtorgsgatan 15:geo:14.158471850972,57.780919697436
END:VEVENT
BEGIN:VEVENT
DTSTART;TZID=Europe/Stockholm:20271030T090000
DTEND;TZID=Europe/Stockholm:20271030T130000
DTSTAMP:20260419T203731
CREATED:20260114T100327Z
LAST-MODIFIED:20260114T100327Z
UID:10003010-1824886800-1824901200@immanuelskyrkan.com
SUMMARY:Torgfika
DESCRIPTION:Caféet är öppet för fika och kaffe.
URL:https://immanuelskyrkan.com/evenemang/torgfika/2027-10-30/
LOCATION:Immanuelskyrkan\, Oxtorgsgatan 15\, Jönköping\, 553 17\, Sverige
CATEGORIES:Café Immanuel
ORGANIZER;CN="Immanuelskyrkan":MAILTO:info@immanuelskyrkan.com
GEO:57.780919697436;14.158471850972
X-APPLE-STRUCTURED-LOCATION;VALUE=URI;X-ADDRESS=Immanuelskyrkan Oxtorgsgatan 15 Jönköping 553 17 Sverige;X-APPLE-RADIUS=500;X-TITLE=Oxtorgsgatan 15:geo:14.158471850972,57.780919697436
END:VEVENT
BEGIN:VEVENT
DTSTART;TZID=Europe/Stockholm:20271106T090000
DTEND;TZID=Europe/Stockholm:20271106T130000
DTSTAMP:20260419T203731
CREATED:20260114T100327Z
LAST-MODIFIED:20260114T100327Z
UID:10003011-1825491600-1825506000@immanuelskyrkan.com
SUMMARY:Torgfika
DESCRIPTION:Caféet är öppet för fika och kaffe.
URL:https://immanuelskyrkan.com/evenemang/torgfika/2027-11-06/
LOCATION:Immanuelskyrkan\, Oxtorgsgatan 15\, Jönköping\, 553 17\, Sverige
CATEGORIES:Café Immanuel
ORGANIZER;CN="Immanuelskyrkan":MAILTO:info@immanuelskyrkan.com
GEO:57.780919697436;14.158471850972
X-APPLE-STRUCTURED-LOCATION;VALUE=URI;X-ADDRESS=Immanuelskyrkan Oxtorgsgatan 15 Jönköping 553 17 Sverige;X-APPLE-RADIUS=500;X-TITLE=Oxtorgsgatan 15:geo:14.158471850972,57.780919697436
END:VEVENT
BEGIN:VEVENT
DTSTART;TZID=Europe/Stockholm:20271113T090000
DTEND;TZID=Europe/Stockholm:20271113T130000
DTSTAMP:20260419T203731
CREATED:20260114T100327Z
LAST-MODIFIED:20260114T100327Z
UID:10003012-1826096400-1826110800@immanuelskyrkan.com
SUMMARY:Torgfika
DESCRIPTION:Caféet är öppet för fika och kaffe.
URL:https://immanuelskyrkan.com/evenemang/torgfika/2027-11-13/
LOCATION:Immanuelskyrkan\, Oxtorgsgatan 15\, Jönköping\, 553 17\, Sverige
CATEGORIES:Café Immanuel
ORGANIZER;CN="Immanuelskyrkan":MAILTO:info@immanuelskyrkan.com
GEO:57.780919697436;14.158471850972
X-APPLE-STRUCTURED-LOCATION;VALUE=URI;X-ADDRESS=Immanuelskyrkan Oxtorgsgatan 15 Jönköping 553 17 Sverige;X-APPLE-RADIUS=500;X-TITLE=Oxtorgsgatan 15:geo:14.158471850972,57.780919697436
END:VEVENT
BEGIN:VEVENT
DTSTART;TZID=Europe/Stockholm:20271120T090000
DTEND;TZID=Europe/Stockholm:20271120T130000
DTSTAMP:20260419T203731
CREATED:20260114T100327Z
LAST-MODIFIED:20260114T100327Z
UID:10003013-1826701200-1826715600@immanuelskyrkan.com
SUMMARY:Torgfika
DESCRIPTION:Caféet är öppet för fika och kaffe.
URL:https://immanuelskyrkan.com/evenemang/torgfika/2027-11-20/
LOCATION:Immanuelskyrkan\, Oxtorgsgatan 15\, Jönköping\, 553 17\, Sverige
CATEGORIES:Café Immanuel
ORGANIZER;CN="Immanuelskyrkan":MAILTO:info@immanuelskyrkan.com
GEO:57.780919697436;14.158471850972
X-APPLE-STRUCTURED-LOCATION;VALUE=URI;X-ADDRESS=Immanuelskyrkan Oxtorgsgatan 15 Jönköping 553 17 Sverige;X-APPLE-RADIUS=500;X-TITLE=Oxtorgsgatan 15:geo:14.158471850972,57.780919697436
END:VEVENT
BEGIN:VEVENT
DTSTART;TZID=Europe/Stockholm:20271127T090000
DTEND;TZID=Europe/Stockholm:20271127T130000
DTSTAMP:20260419T203731
CREATED:20260114T100327Z
LAST-MODIFIED:20260114T100327Z
UID:10003014-1827306000-1827320400@immanuelskyrkan.com
SUMMARY:Torgfika
DESCRIPTION:Caféet är öppet för fika och kaffe.
URL:https://immanuelskyrkan.com/evenemang/torgfika/2027-11-27/
LOCATION:Immanuelskyrkan\, Oxtorgsgatan 15\, Jönköping\, 553 17\, Sverige
CATEGORIES:Café Immanuel
ORGANIZER;CN="Immanuelskyrkan":MAILTO:info@immanuelskyrkan.com
GEO:57.780919697436;14.158471850972
X-APPLE-STRUCTURED-LOCATION;VALUE=URI;X-ADDRESS=Immanuelskyrkan Oxtorgsgatan 15 Jönköping 553 17 Sverige;X-APPLE-RADIUS=500;X-TITLE=Oxtorgsgatan 15:geo:14.158471850972,57.780919697436
END:VEVENT
BEGIN:VEVENT
DTSTART;TZID=Europe/Stockholm:20271204T090000
DTEND;TZID=Europe/Stockholm:20271204T130000
DTSTAMP:20260419T203731
CREATED:20260114T100327Z
LAST-MODIFIED:20260114T100327Z
UID:10003015-1827910800-1827925200@immanuelskyrkan.com
SUMMARY:Torgfika
DESCRIPTION:Caféet är öppet för fika och kaffe.
URL:https://immanuelskyrkan.com/evenemang/torgfika/2027-12-04/
LOCATION:Immanuelskyrkan\, Oxtorgsgatan 15\, Jönköping\, 553 17\, Sverige
CATEGORIES:Café Immanuel
ORGANIZER;CN="Immanuelskyrkan":MAILTO:info@immanuelskyrkan.com
GEO:57.780919697436;14.158471850972
X-APPLE-STRUCTURED-LOCATION;VALUE=URI;X-ADDRESS=Immanuelskyrkan Oxtorgsgatan 15 Jönköping 553 17 Sverige;X-APPLE-RADIUS=500;X-TITLE=Oxtorgsgatan 15:geo:14.158471850972,57.780919697436
END:VEVENT
BEGIN:VEVENT
DTSTART;TZID=Europe/Stockholm:20271211T090000
DTEND;TZID=Europe/Stockholm:20271211T130000
DTSTAMP:20260419T203731
CREATED:20260114T100327Z
LAST-MODIFIED:20260114T100327Z
UID:10003016-1828515600-1828530000@immanuelskyrkan.com
SUMMARY:Torgfika
DESCRIPTION:Caféet är öppet för fika och kaffe.
URL:https://immanuelskyrkan.com/evenemang/torgfika/2027-12-11/
LOCATION:Immanuelskyrkan\, Oxtorgsgatan 15\, Jönköping\, 553 17\, Sverige
CATEGORIES:Café Immanuel
ORGANIZER;CN="Immanuelskyrkan":MAILTO:info@immanuelskyrkan.com
GEO:57.780919697436;14.158471850972
X-APPLE-STRUCTURED-LOCATION;VALUE=URI;X-ADDRESS=Immanuelskyrkan Oxtorgsgatan 15 Jönköping 553 17 Sverige;X-APPLE-RADIUS=500;X-TITLE=Oxtorgsgatan 15:geo:14.158471850972,57.780919697436
END:VEVENT
BEGIN:VEVENT
DTSTART;TZID=Europe/Stockholm:20271218T090000
DTEND;TZID=Europe/Stockholm:20271218T130000
DTSTAMP:20260419T203731
CREATED:20260114T100327Z
LAST-MODIFIED:20260114T100327Z
UID:10003017-1829120400-1829134800@immanuelskyrkan.com
SUMMARY:Torgfika
DESCRIPTION:Caféet är öppet för fika och kaffe.
URL:https://immanuelskyrkan.com/evenemang/torgfika/2027-12-18/
LOCATION:Immanuelskyrkan\, Oxtorgsgatan 15\, Jönköping\, 553 17\, Sverige
CATEGORIES:Café Immanuel
ORGANIZER;CN="Immanuelskyrkan":MAILTO:info@immanuelskyrkan.com
GEO:57.780919697436;14.158471850972
X-APPLE-STRUCTURED-LOCATION;VALUE=URI;X-ADDRESS=Immanuelskyrkan Oxtorgsgatan 15 Jönköping 553 17 Sverige;X-APPLE-RADIUS=500;X-TITLE=Oxtorgsgatan 15:geo:14.158471850972,57.780919697436
END:VEVENT
BEGIN:VEVENT
DTSTART;TZID=Europe/Stockholm:20271225T090000
DTEND;TZID=Europe/Stockholm:20271225T130000
DTSTAMP:20260419T203731
CREATED:20260114T100327Z
LAST-MODIFIED:20260114T100327Z
UID:10003018-1829725200-1829739600@immanuelskyrkan.com
SUMMARY:Torgfika
DESCRIPTION:Caféet är öppet för fika och kaffe.
URL:https://immanuelskyrkan.com/evenemang/torgfika/2027-12-25/
LOCATION:Immanuelskyrkan\, Oxtorgsgatan 15\, Jönköping\, 553 17\, Sverige
CATEGORIES:Café Immanuel
ORGANIZER;CN="Immanuelskyrkan":MAILTO:info@immanuelskyrkan.com
GEO:57.780919697436;14.158471850972
X-APPLE-STRUCTURED-LOCATION;VALUE=URI;X-ADDRESS=Immanuelskyrkan Oxtorgsgatan 15 Jönköping 553 17 Sverige;X-APPLE-RADIUS=500;X-TITLE=Oxtorgsgatan 15:geo:14.158471850972,57.780919697436
END:VEVENT
BEGIN:VEVENT
DTSTART;TZID=Europe/Stockholm:20280101T090000
DTEND;TZID=Europe/Stockholm:20280101T130000
DTSTAMP:20260419T203731
CREATED:20260114T100327Z
LAST-MODIFIED:20260114T100327Z
UID:10003019-1830330000-1830344400@immanuelskyrkan.com
SUMMARY:Torgfika
DESCRIPTION:Caféet är öppet för fika och kaffe.
URL:https://immanuelskyrkan.com/evenemang/torgfika/2028-01-01/
LOCATION:Immanuelskyrkan\, Oxtorgsgatan 15\, Jönköping\, 553 17\, Sverige
CATEGORIES:Café Immanuel
ORGANIZER;CN="Immanuelskyrkan":MAILTO:info@immanuelskyrkan.com
GEO:57.780919697436;14.158471850972
X-APPLE-STRUCTURED-LOCATION;VALUE=URI;X-ADDRESS=Immanuelskyrkan Oxtorgsgatan 15 Jönköping 553 17 Sverige;X-APPLE-RADIUS=500;X-TITLE=Oxtorgsgatan 15:geo:14.158471850972,57.780919697436
END:VEVENT
BEGIN:VEVENT
DTSTART;TZID=Europe/Stockholm:20280108T090000
DTEND;TZID=Europe/Stockholm:20280108T130000
DTSTAMP:20260419T203731
CREATED:20260114T100327Z
LAST-MODIFIED:20260114T100327Z
UID:10003020-1830934800-1830949200@immanuelskyrkan.com
SUMMARY:Torgfika
DESCRIPTION:Caféet är öppet för fika och kaffe.
URL:https://immanuelskyrkan.com/evenemang/torgfika/2028-01-08/
LOCATION:Immanuelskyrkan\, Oxtorgsgatan 15\, Jönköping\, 553 17\, Sverige
CATEGORIES:Café Immanuel
ORGANIZER;CN="Immanuelskyrkan":MAILTO:info@immanuelskyrkan.com
GEO:57.780919697436;14.158471850972
X-APPLE-STRUCTURED-LOCATION;VALUE=URI;X-ADDRESS=Immanuelskyrkan Oxtorgsgatan 15 Jönköping 553 17 Sverige;X-APPLE-RADIUS=500;X-TITLE=Oxtorgsgatan 15:geo:14.158471850972,57.780919697436
END:VEVENT
BEGIN:VEVENT
DTSTART;TZID=Europe/Stockholm:20280115T090000
DTEND;TZID=Europe/Stockholm:20280115T130000
DTSTAMP:20260419T203731
CREATED:20260114T100327Z
LAST-MODIFIED:20260114T100327Z
UID:10003021-1831539600-1831554000@immanuelskyrkan.com
SUMMARY:Torgfika
DESCRIPTION:Caféet är öppet för fika och kaffe.
URL:https://immanuelskyrkan.com/evenemang/torgfika/2028-01-15/
LOCATION:Immanuelskyrkan\, Oxtorgsgatan 15\, Jönköping\, 553 17\, Sverige
CATEGORIES:Café Immanuel
ORGANIZER;CN="Immanuelskyrkan":MAILTO:info@immanuelskyrkan.com
GEO:57.780919697436;14.158471850972
X-APPLE-STRUCTURED-LOCATION;VALUE=URI;X-ADDRESS=Immanuelskyrkan Oxtorgsgatan 15 Jönköping 553 17 Sverige;X-APPLE-RADIUS=500;X-TITLE=Oxtorgsgatan 15:geo:14.158471850972,57.780919697436
END:VEVENT
BEGIN:VEVENT
DTSTART;TZID=Europe/Stockholm:20280122T090000
DTEND;TZID=Europe/Stockholm:20280122T130000
DTSTAMP:20260419T203731
CREATED:20260114T100327Z
LAST-MODIFIED:20260114T100327Z
UID:10003022-1832144400-1832158800@immanuelskyrkan.com
SUMMARY:Torgfika
DESCRIPTION:Caféet är öppet för fika och kaffe.
URL:https://immanuelskyrkan.com/evenemang/torgfika/2028-01-22/
LOCATION:Immanuelskyrkan\, Oxtorgsgatan 15\, Jönköping\, 553 17\, Sverige
CATEGORIES:Café Immanuel
ORGANIZER;CN="Immanuelskyrkan":MAILTO:info@immanuelskyrkan.com
GEO:57.780919697436;14.158471850972
X-APPLE-STRUCTURED-LOCATION;VALUE=URI;X-ADDRESS=Immanuelskyrkan Oxtorgsgatan 15 Jönköping 553 17 Sverige;X-APPLE-RADIUS=500;X-TITLE=Oxtorgsgatan 15:geo:14.158471850972,57.780919697436
END:VEVENT
BEGIN:VEVENT
DTSTART;TZID=Europe/Stockholm:20280129T090000
DTEND;TZID=Europe/Stockholm:20280129T130000
DTSTAMP:20260419T203731
CREATED:20260114T100327Z
LAST-MODIFIED:20260114T100327Z
UID:10003023-1832749200-1832763600@immanuelskyrkan.com
SUMMARY:Torgfika
DESCRIPTION:Caféet är öppet för fika och kaffe.
URL:https://immanuelskyrkan.com/evenemang/torgfika/2028-01-29/
LOCATION:Immanuelskyrkan\, Oxtorgsgatan 15\, Jönköping\, 553 17\, Sverige
CATEGORIES:Café Immanuel
ORGANIZER;CN="Immanuelskyrkan":MAILTO:info@immanuelskyrkan.com
GEO:57.780919697436;14.158471850972
X-APPLE-STRUCTURED-LOCATION;VALUE=URI;X-ADDRESS=Immanuelskyrkan Oxtorgsgatan 15 Jönköping 553 17 Sverige;X-APPLE-RADIUS=500;X-TITLE=Oxtorgsgatan 15:geo:14.158471850972,57.780919697436
END:VEVENT
BEGIN:VEVENT
DTSTART;TZID=Europe/Stockholm:20280205T090000
DTEND;TZID=Europe/Stockholm:20280205T130000
DTSTAMP:20260419T203731
CREATED:20260114T100327Z
LAST-MODIFIED:20260114T100327Z
UID:10003024-1833354000-1833368400@immanuelskyrkan.com
SUMMARY:Torgfika
DESCRIPTION:Caféet är öppet för fika och kaffe.
URL:https://immanuelskyrkan.com/evenemang/torgfika/2028-02-05/
LOCATION:Immanuelskyrkan\, Oxtorgsgatan 15\, Jönköping\, 553 17\, Sverige
CATEGORIES:Café Immanuel
ORGANIZER;CN="Immanuelskyrkan":MAILTO:info@immanuelskyrkan.com
GEO:57.780919697436;14.158471850972
X-APPLE-STRUCTURED-LOCATION;VALUE=URI;X-ADDRESS=Immanuelskyrkan Oxtorgsgatan 15 Jönköping 553 17 Sverige;X-APPLE-RADIUS=500;X-TITLE=Oxtorgsgatan 15:geo:14.158471850972,57.780919697436
END:VEVENT
BEGIN:VEVENT
DTSTART;TZID=Europe/Stockholm:20280212T090000
DTEND;TZID=Europe/Stockholm:20280212T130000
DTSTAMP:20260419T203731
CREATED:20260114T100327Z
LAST-MODIFIED:20260114T100327Z
UID:10003025-1833958800-1833973200@immanuelskyrkan.com
SUMMARY:Torgfika
DESCRIPTION:Caféet är öppet för fika och kaffe.
URL:https://immanuelskyrkan.com/evenemang/torgfika/2028-02-12/
LOCATION:Immanuelskyrkan\, Oxtorgsgatan 15\, Jönköping\, 553 17\, Sverige
CATEGORIES:Café Immanuel
ORGANIZER;CN="Immanuelskyrkan":MAILTO:info@immanuelskyrkan.com
GEO:57.780919697436;14.158471850972
X-APPLE-STRUCTURED-LOCATION;VALUE=URI;X-ADDRESS=Immanuelskyrkan Oxtorgsgatan 15 Jönköping 553 17 Sverige;X-APPLE-RADIUS=500;X-TITLE=Oxtorgsgatan 15:geo:14.158471850972,57.780919697436
END:VEVENT
END:VCALENDAR