BEGIN:VCALENDAR
VERSION:2.0
PRODID:-//Immanuelskyrkan Jönköping - ECPv6.15.20//NONSGML v1.0//EN
CALSCALE:GREGORIAN
METHOD:PUBLISH
X-WR-CALNAME:Immanuelskyrkan Jönköping
X-ORIGINAL-URL:https://immanuelskyrkan.com
X-WR-CALDESC:Evenemang hos Immanuelskyrkan Jönköping
REFRESH-INTERVAL;VALUE=DURATION:PT1H
X-Robots-Tag:noindex
X-PUBLISHED-TTL:PT1H
BEGIN:VTIMEZONE
TZID:Europe/Stockholm
BEGIN:DAYLIGHT
TZOFFSETFROM:+0100
TZOFFSETTO:+0200
TZNAME:CEST
DTSTART:20260329T010000
END:DAYLIGHT
BEGIN:STANDARD
TZOFFSETFROM:+0200
TZOFFSETTO:+0100
TZNAME:CET
DTSTART:20261025T010000
END:STANDARD
BEGIN:DAYLIGHT
TZOFFSETFROM:+0100
TZOFFSETTO:+0200
TZNAME:CEST
DTSTART:20270328T010000
END:DAYLIGHT
BEGIN:STANDARD
TZOFFSETFROM:+0200
TZOFFSETTO:+0100
TZNAME:CET
DTSTART:20271031T010000
END:STANDARD
BEGIN:DAYLIGHT
TZOFFSETFROM:+0100
TZOFFSETTO:+0200
TZNAME:CEST
DTSTART:20280326T010000
END:DAYLIGHT
BEGIN:STANDARD
TZOFFSETFROM:+0200
TZOFFSETTO:+0100
TZNAME:CET
DTSTART:20281029T010000
END:STANDARD
END:VTIMEZONE
BEGIN:VEVENT
DTSTART;TZID=Europe/Stockholm:20270218T183000
DTEND;TZID=Europe/Stockholm:20270218T200000
DTSTAMP:20260419T153615
CREATED:20260115T125804Z
LAST-MODIFIED:20260115T125804Z
UID:10003247-1802975400-1802980800@immanuelskyrkan.com
SUMMARY:Scout
DESCRIPTION:18.30-19.30 Spårarna: Lågstadiet \n18.30-20.00 Upptäckarna: Mellanstadiet \n18.30-20.00 Äventyrarna: Högstadiet \nKontaktperson: Stefan Sjöberg (Kårchef)\, Scout@immanuelskyrkan.com
URL:https://immanuelskyrkan.com/evenemang/scout/2027-02-18/
LOCATION:Immanuelskyrkan\, Oxtorgsgatan 15\, Jönköping\, 553 17\, Sverige
CATEGORIES:Scout
ORGANIZER;CN="Immanuelskyrkan":MAILTO:info@immanuelskyrkan.com
GEO:57.780919697436;14.158471850972
X-APPLE-STRUCTURED-LOCATION;VALUE=URI;X-ADDRESS=Immanuelskyrkan Oxtorgsgatan 15 Jönköping 553 17 Sverige;X-APPLE-RADIUS=500;X-TITLE=Oxtorgsgatan 15:geo:14.158471850972,57.780919697436
END:VEVENT
BEGIN:VEVENT
DTSTART;TZID=Europe/Stockholm:20270220T090000
DTEND;TZID=Europe/Stockholm:20270220T130000
DTSTAMP:20260419T153615
CREATED:20260114T100327Z
LAST-MODIFIED:20260114T100327Z
UID:10002974-1803114000-1803128400@immanuelskyrkan.com
SUMMARY:Torgfika
DESCRIPTION:Caféet är öppet för fika och kaffe.
URL:https://immanuelskyrkan.com/evenemang/torgfika/2027-02-20/
LOCATION:Immanuelskyrkan\, Oxtorgsgatan 15\, Jönköping\, 553 17\, Sverige
CATEGORIES:Café Immanuel
ORGANIZER;CN="Immanuelskyrkan":MAILTO:info@immanuelskyrkan.com
GEO:57.780919697436;14.158471850972
X-APPLE-STRUCTURED-LOCATION;VALUE=URI;X-ADDRESS=Immanuelskyrkan Oxtorgsgatan 15 Jönköping 553 17 Sverige;X-APPLE-RADIUS=500;X-TITLE=Oxtorgsgatan 15:geo:14.158471850972,57.780919697436
END:VEVENT
BEGIN:VEVENT
DTSTART;TZID=Europe/Stockholm:20270225T183000
DTEND;TZID=Europe/Stockholm:20270225T200000
DTSTAMP:20260419T153615
CREATED:20260115T125804Z
LAST-MODIFIED:20260115T125804Z
UID:10003248-1803580200-1803585600@immanuelskyrkan.com
SUMMARY:Scout
DESCRIPTION:18.30-19.30 Spårarna: Lågstadiet \n18.30-20.00 Upptäckarna: Mellanstadiet \n18.30-20.00 Äventyrarna: Högstadiet \nKontaktperson: Stefan Sjöberg (Kårchef)\, Scout@immanuelskyrkan.com
URL:https://immanuelskyrkan.com/evenemang/scout/2027-02-25/
LOCATION:Immanuelskyrkan\, Oxtorgsgatan 15\, Jönköping\, 553 17\, Sverige
CATEGORIES:Scout
ORGANIZER;CN="Immanuelskyrkan":MAILTO:info@immanuelskyrkan.com
GEO:57.780919697436;14.158471850972
X-APPLE-STRUCTURED-LOCATION;VALUE=URI;X-ADDRESS=Immanuelskyrkan Oxtorgsgatan 15 Jönköping 553 17 Sverige;X-APPLE-RADIUS=500;X-TITLE=Oxtorgsgatan 15:geo:14.158471850972,57.780919697436
END:VEVENT
BEGIN:VEVENT
DTSTART;TZID=Europe/Stockholm:20270227T090000
DTEND;TZID=Europe/Stockholm:20270227T130000
DTSTAMP:20260419T153615
CREATED:20260114T100327Z
LAST-MODIFIED:20260114T100327Z
UID:10002975-1803718800-1803733200@immanuelskyrkan.com
SUMMARY:Torgfika
DESCRIPTION:Caféet är öppet för fika och kaffe.
URL:https://immanuelskyrkan.com/evenemang/torgfika/2027-02-27/
LOCATION:Immanuelskyrkan\, Oxtorgsgatan 15\, Jönköping\, 553 17\, Sverige
CATEGORIES:Café Immanuel
ORGANIZER;CN="Immanuelskyrkan":MAILTO:info@immanuelskyrkan.com
GEO:57.780919697436;14.158471850972
X-APPLE-STRUCTURED-LOCATION;VALUE=URI;X-ADDRESS=Immanuelskyrkan Oxtorgsgatan 15 Jönköping 553 17 Sverige;X-APPLE-RADIUS=500;X-TITLE=Oxtorgsgatan 15:geo:14.158471850972,57.780919697436
END:VEVENT
BEGIN:VEVENT
DTSTART;TZID=Europe/Stockholm:20270304T183000
DTEND;TZID=Europe/Stockholm:20270304T200000
DTSTAMP:20260419T153615
CREATED:20260115T125804Z
LAST-MODIFIED:20260115T125804Z
UID:10003249-1804185000-1804190400@immanuelskyrkan.com
SUMMARY:Scout
DESCRIPTION:18.30-19.30 Spårarna: Lågstadiet \n18.30-20.00 Upptäckarna: Mellanstadiet \n18.30-20.00 Äventyrarna: Högstadiet \nKontaktperson: Stefan Sjöberg (Kårchef)\, Scout@immanuelskyrkan.com
URL:https://immanuelskyrkan.com/evenemang/scout/2027-03-04/
LOCATION:Immanuelskyrkan\, Oxtorgsgatan 15\, Jönköping\, 553 17\, Sverige
CATEGORIES:Scout
ORGANIZER;CN="Immanuelskyrkan":MAILTO:info@immanuelskyrkan.com
GEO:57.780919697436;14.158471850972
X-APPLE-STRUCTURED-LOCATION;VALUE=URI;X-ADDRESS=Immanuelskyrkan Oxtorgsgatan 15 Jönköping 553 17 Sverige;X-APPLE-RADIUS=500;X-TITLE=Oxtorgsgatan 15:geo:14.158471850972,57.780919697436
END:VEVENT
BEGIN:VEVENT
DTSTART;TZID=Europe/Stockholm:20270306T090000
DTEND;TZID=Europe/Stockholm:20270306T130000
DTSTAMP:20260419T153615
CREATED:20260114T100327Z
LAST-MODIFIED:20260114T100327Z
UID:10002976-1804323600-1804338000@immanuelskyrkan.com
SUMMARY:Torgfika
DESCRIPTION:Caféet är öppet för fika och kaffe.
URL:https://immanuelskyrkan.com/evenemang/torgfika/2027-03-06/
LOCATION:Immanuelskyrkan\, Oxtorgsgatan 15\, Jönköping\, 553 17\, Sverige
CATEGORIES:Café Immanuel
ORGANIZER;CN="Immanuelskyrkan":MAILTO:info@immanuelskyrkan.com
GEO:57.780919697436;14.158471850972
X-APPLE-STRUCTURED-LOCATION;VALUE=URI;X-ADDRESS=Immanuelskyrkan Oxtorgsgatan 15 Jönköping 553 17 Sverige;X-APPLE-RADIUS=500;X-TITLE=Oxtorgsgatan 15:geo:14.158471850972,57.780919697436
END:VEVENT
BEGIN:VEVENT
DTSTART;TZID=Europe/Stockholm:20270311T183000
DTEND;TZID=Europe/Stockholm:20270311T200000
DTSTAMP:20260419T153615
CREATED:20260115T125804Z
LAST-MODIFIED:20260115T125804Z
UID:10003250-1804789800-1804795200@immanuelskyrkan.com
SUMMARY:Scout
DESCRIPTION:18.30-19.30 Spårarna: Lågstadiet \n18.30-20.00 Upptäckarna: Mellanstadiet \n18.30-20.00 Äventyrarna: Högstadiet \nKontaktperson: Stefan Sjöberg (Kårchef)\, Scout@immanuelskyrkan.com
URL:https://immanuelskyrkan.com/evenemang/scout/2027-03-11/
LOCATION:Immanuelskyrkan\, Oxtorgsgatan 15\, Jönköping\, 553 17\, Sverige
CATEGORIES:Scout
ORGANIZER;CN="Immanuelskyrkan":MAILTO:info@immanuelskyrkan.com
GEO:57.780919697436;14.158471850972
X-APPLE-STRUCTURED-LOCATION;VALUE=URI;X-ADDRESS=Immanuelskyrkan Oxtorgsgatan 15 Jönköping 553 17 Sverige;X-APPLE-RADIUS=500;X-TITLE=Oxtorgsgatan 15:geo:14.158471850972,57.780919697436
END:VEVENT
BEGIN:VEVENT
DTSTART;TZID=Europe/Stockholm:20270313T090000
DTEND;TZID=Europe/Stockholm:20270313T130000
DTSTAMP:20260419T153615
CREATED:20260114T100327Z
LAST-MODIFIED:20260114T100327Z
UID:10002977-1804928400-1804942800@immanuelskyrkan.com
SUMMARY:Torgfika
DESCRIPTION:Caféet är öppet för fika och kaffe.
URL:https://immanuelskyrkan.com/evenemang/torgfika/2027-03-13/
LOCATION:Immanuelskyrkan\, Oxtorgsgatan 15\, Jönköping\, 553 17\, Sverige
CATEGORIES:Café Immanuel
ORGANIZER;CN="Immanuelskyrkan":MAILTO:info@immanuelskyrkan.com
GEO:57.780919697436;14.158471850972
X-APPLE-STRUCTURED-LOCATION;VALUE=URI;X-ADDRESS=Immanuelskyrkan Oxtorgsgatan 15 Jönköping 553 17 Sverige;X-APPLE-RADIUS=500;X-TITLE=Oxtorgsgatan 15:geo:14.158471850972,57.780919697436
END:VEVENT
BEGIN:VEVENT
DTSTART;TZID=Europe/Stockholm:20270318T183000
DTEND;TZID=Europe/Stockholm:20270318T200000
DTSTAMP:20260419T153615
CREATED:20260115T125804Z
LAST-MODIFIED:20260115T125804Z
UID:10003251-1805394600-1805400000@immanuelskyrkan.com
SUMMARY:Scout
DESCRIPTION:18.30-19.30 Spårarna: Lågstadiet \n18.30-20.00 Upptäckarna: Mellanstadiet \n18.30-20.00 Äventyrarna: Högstadiet \nKontaktperson: Stefan Sjöberg (Kårchef)\, Scout@immanuelskyrkan.com
URL:https://immanuelskyrkan.com/evenemang/scout/2027-03-18/
LOCATION:Immanuelskyrkan\, Oxtorgsgatan 15\, Jönköping\, 553 17\, Sverige
CATEGORIES:Scout
ORGANIZER;CN="Immanuelskyrkan":MAILTO:info@immanuelskyrkan.com
GEO:57.780919697436;14.158471850972
X-APPLE-STRUCTURED-LOCATION;VALUE=URI;X-ADDRESS=Immanuelskyrkan Oxtorgsgatan 15 Jönköping 553 17 Sverige;X-APPLE-RADIUS=500;X-TITLE=Oxtorgsgatan 15:geo:14.158471850972,57.780919697436
END:VEVENT
BEGIN:VEVENT
DTSTART;TZID=Europe/Stockholm:20270320T090000
DTEND;TZID=Europe/Stockholm:20270320T130000
DTSTAMP:20260419T153615
CREATED:20260114T100327Z
LAST-MODIFIED:20260114T100327Z
UID:10002978-1805533200-1805547600@immanuelskyrkan.com
SUMMARY:Torgfika
DESCRIPTION:Caféet är öppet för fika och kaffe.
URL:https://immanuelskyrkan.com/evenemang/torgfika/2027-03-20/
LOCATION:Immanuelskyrkan\, Oxtorgsgatan 15\, Jönköping\, 553 17\, Sverige
CATEGORIES:Café Immanuel
ORGANIZER;CN="Immanuelskyrkan":MAILTO:info@immanuelskyrkan.com
GEO:57.780919697436;14.158471850972
X-APPLE-STRUCTURED-LOCATION;VALUE=URI;X-ADDRESS=Immanuelskyrkan Oxtorgsgatan 15 Jönköping 553 17 Sverige;X-APPLE-RADIUS=500;X-TITLE=Oxtorgsgatan 15:geo:14.158471850972,57.780919697436
END:VEVENT
BEGIN:VEVENT
DTSTART;TZID=Europe/Stockholm:20270325T183000
DTEND;TZID=Europe/Stockholm:20270325T200000
DTSTAMP:20260419T153615
CREATED:20260115T125804Z
LAST-MODIFIED:20260115T125804Z
UID:10003252-1805999400-1806004800@immanuelskyrkan.com
SUMMARY:Scout
DESCRIPTION:18.30-19.30 Spårarna: Lågstadiet \n18.30-20.00 Upptäckarna: Mellanstadiet \n18.30-20.00 Äventyrarna: Högstadiet \nKontaktperson: Stefan Sjöberg (Kårchef)\, Scout@immanuelskyrkan.com
URL:https://immanuelskyrkan.com/evenemang/scout/2027-03-25/
LOCATION:Immanuelskyrkan\, Oxtorgsgatan 15\, Jönköping\, 553 17\, Sverige
CATEGORIES:Scout
ORGANIZER;CN="Immanuelskyrkan":MAILTO:info@immanuelskyrkan.com
GEO:57.780919697436;14.158471850972
X-APPLE-STRUCTURED-LOCATION;VALUE=URI;X-ADDRESS=Immanuelskyrkan Oxtorgsgatan 15 Jönköping 553 17 Sverige;X-APPLE-RADIUS=500;X-TITLE=Oxtorgsgatan 15:geo:14.158471850972,57.780919697436
END:VEVENT
BEGIN:VEVENT
DTSTART;TZID=Europe/Stockholm:20270327T090000
DTEND;TZID=Europe/Stockholm:20270327T130000
DTSTAMP:20260419T153615
CREATED:20260114T100327Z
LAST-MODIFIED:20260114T100327Z
UID:10002979-1806138000-1806152400@immanuelskyrkan.com
SUMMARY:Torgfika
DESCRIPTION:Caféet är öppet för fika och kaffe.
URL:https://immanuelskyrkan.com/evenemang/torgfika/2027-03-27/
LOCATION:Immanuelskyrkan\, Oxtorgsgatan 15\, Jönköping\, 553 17\, Sverige
CATEGORIES:Café Immanuel
ORGANIZER;CN="Immanuelskyrkan":MAILTO:info@immanuelskyrkan.com
GEO:57.780919697436;14.158471850972
X-APPLE-STRUCTURED-LOCATION;VALUE=URI;X-ADDRESS=Immanuelskyrkan Oxtorgsgatan 15 Jönköping 553 17 Sverige;X-APPLE-RADIUS=500;X-TITLE=Oxtorgsgatan 15:geo:14.158471850972,57.780919697436
END:VEVENT
BEGIN:VEVENT
DTSTART;TZID=Europe/Stockholm:20270401T183000
DTEND;TZID=Europe/Stockholm:20270401T200000
DTSTAMP:20260419T153615
CREATED:20260115T125804Z
LAST-MODIFIED:20260115T125804Z
UID:10003253-1806604200-1806609600@immanuelskyrkan.com
SUMMARY:Scout
DESCRIPTION:18.30-19.30 Spårarna: Lågstadiet \n18.30-20.00 Upptäckarna: Mellanstadiet \n18.30-20.00 Äventyrarna: Högstadiet \nKontaktperson: Stefan Sjöberg (Kårchef)\, Scout@immanuelskyrkan.com
URL:https://immanuelskyrkan.com/evenemang/scout/2027-04-01/
LOCATION:Immanuelskyrkan\, Oxtorgsgatan 15\, Jönköping\, 553 17\, Sverige
CATEGORIES:Scout
ORGANIZER;CN="Immanuelskyrkan":MAILTO:info@immanuelskyrkan.com
GEO:57.780919697436;14.158471850972
X-APPLE-STRUCTURED-LOCATION;VALUE=URI;X-ADDRESS=Immanuelskyrkan Oxtorgsgatan 15 Jönköping 553 17 Sverige;X-APPLE-RADIUS=500;X-TITLE=Oxtorgsgatan 15:geo:14.158471850972,57.780919697436
END:VEVENT
BEGIN:VEVENT
DTSTART;TZID=Europe/Stockholm:20270403T090000
DTEND;TZID=Europe/Stockholm:20270403T130000
DTSTAMP:20260419T153615
CREATED:20260114T100327Z
LAST-MODIFIED:20260114T100327Z
UID:10002980-1806742800-1806757200@immanuelskyrkan.com
SUMMARY:Torgfika
DESCRIPTION:Caféet är öppet för fika och kaffe.
URL:https://immanuelskyrkan.com/evenemang/torgfika/2027-04-03/
LOCATION:Immanuelskyrkan\, Oxtorgsgatan 15\, Jönköping\, 553 17\, Sverige
CATEGORIES:Café Immanuel
ORGANIZER;CN="Immanuelskyrkan":MAILTO:info@immanuelskyrkan.com
GEO:57.780919697436;14.158471850972
X-APPLE-STRUCTURED-LOCATION;VALUE=URI;X-ADDRESS=Immanuelskyrkan Oxtorgsgatan 15 Jönköping 553 17 Sverige;X-APPLE-RADIUS=500;X-TITLE=Oxtorgsgatan 15:geo:14.158471850972,57.780919697436
END:VEVENT
BEGIN:VEVENT
DTSTART;TZID=Europe/Stockholm:20270408T183000
DTEND;TZID=Europe/Stockholm:20270408T200000
DTSTAMP:20260419T153615
CREATED:20260115T125804Z
LAST-MODIFIED:20260115T125804Z
UID:10003254-1807209000-1807214400@immanuelskyrkan.com
SUMMARY:Scout
DESCRIPTION:18.30-19.30 Spårarna: Lågstadiet \n18.30-20.00 Upptäckarna: Mellanstadiet \n18.30-20.00 Äventyrarna: Högstadiet \nKontaktperson: Stefan Sjöberg (Kårchef)\, Scout@immanuelskyrkan.com
URL:https://immanuelskyrkan.com/evenemang/scout/2027-04-08/
LOCATION:Immanuelskyrkan\, Oxtorgsgatan 15\, Jönköping\, 553 17\, Sverige
CATEGORIES:Scout
ORGANIZER;CN="Immanuelskyrkan":MAILTO:info@immanuelskyrkan.com
GEO:57.780919697436;14.158471850972
X-APPLE-STRUCTURED-LOCATION;VALUE=URI;X-ADDRESS=Immanuelskyrkan Oxtorgsgatan 15 Jönköping 553 17 Sverige;X-APPLE-RADIUS=500;X-TITLE=Oxtorgsgatan 15:geo:14.158471850972,57.780919697436
END:VEVENT
BEGIN:VEVENT
DTSTART;TZID=Europe/Stockholm:20270410T090000
DTEND;TZID=Europe/Stockholm:20270410T130000
DTSTAMP:20260419T153615
CREATED:20260114T100327Z
LAST-MODIFIED:20260114T100327Z
UID:10002981-1807347600-1807362000@immanuelskyrkan.com
SUMMARY:Torgfika
DESCRIPTION:Caféet är öppet för fika och kaffe.
URL:https://immanuelskyrkan.com/evenemang/torgfika/2027-04-10/
LOCATION:Immanuelskyrkan\, Oxtorgsgatan 15\, Jönköping\, 553 17\, Sverige
CATEGORIES:Café Immanuel
ORGANIZER;CN="Immanuelskyrkan":MAILTO:info@immanuelskyrkan.com
GEO:57.780919697436;14.158471850972
X-APPLE-STRUCTURED-LOCATION;VALUE=URI;X-ADDRESS=Immanuelskyrkan Oxtorgsgatan 15 Jönköping 553 17 Sverige;X-APPLE-RADIUS=500;X-TITLE=Oxtorgsgatan 15:geo:14.158471850972,57.780919697436
END:VEVENT
BEGIN:VEVENT
DTSTART;TZID=Europe/Stockholm:20270415T183000
DTEND;TZID=Europe/Stockholm:20270415T200000
DTSTAMP:20260419T153615
CREATED:20260115T125804Z
LAST-MODIFIED:20260115T125804Z
UID:10003255-1807813800-1807819200@immanuelskyrkan.com
SUMMARY:Scout
DESCRIPTION:18.30-19.30 Spårarna: Lågstadiet \n18.30-20.00 Upptäckarna: Mellanstadiet \n18.30-20.00 Äventyrarna: Högstadiet \nKontaktperson: Stefan Sjöberg (Kårchef)\, Scout@immanuelskyrkan.com
URL:https://immanuelskyrkan.com/evenemang/scout/2027-04-15/
LOCATION:Immanuelskyrkan\, Oxtorgsgatan 15\, Jönköping\, 553 17\, Sverige
CATEGORIES:Scout
ORGANIZER;CN="Immanuelskyrkan":MAILTO:info@immanuelskyrkan.com
GEO:57.780919697436;14.158471850972
X-APPLE-STRUCTURED-LOCATION;VALUE=URI;X-ADDRESS=Immanuelskyrkan Oxtorgsgatan 15 Jönköping 553 17 Sverige;X-APPLE-RADIUS=500;X-TITLE=Oxtorgsgatan 15:geo:14.158471850972,57.780919697436
END:VEVENT
BEGIN:VEVENT
DTSTART;TZID=Europe/Stockholm:20270417T090000
DTEND;TZID=Europe/Stockholm:20270417T130000
DTSTAMP:20260419T153615
CREATED:20260114T100327Z
LAST-MODIFIED:20260114T100327Z
UID:10002982-1807952400-1807966800@immanuelskyrkan.com
SUMMARY:Torgfika
DESCRIPTION:Caféet är öppet för fika och kaffe.
URL:https://immanuelskyrkan.com/evenemang/torgfika/2027-04-17/
LOCATION:Immanuelskyrkan\, Oxtorgsgatan 15\, Jönköping\, 553 17\, Sverige
CATEGORIES:Café Immanuel
ORGANIZER;CN="Immanuelskyrkan":MAILTO:info@immanuelskyrkan.com
GEO:57.780919697436;14.158471850972
X-APPLE-STRUCTURED-LOCATION;VALUE=URI;X-ADDRESS=Immanuelskyrkan Oxtorgsgatan 15 Jönköping 553 17 Sverige;X-APPLE-RADIUS=500;X-TITLE=Oxtorgsgatan 15:geo:14.158471850972,57.780919697436
END:VEVENT
BEGIN:VEVENT
DTSTART;TZID=Europe/Stockholm:20270422T183000
DTEND;TZID=Europe/Stockholm:20270422T200000
DTSTAMP:20260419T153615
CREATED:20260115T125804Z
LAST-MODIFIED:20260115T125804Z
UID:10003256-1808418600-1808424000@immanuelskyrkan.com
SUMMARY:Scout
DESCRIPTION:18.30-19.30 Spårarna: Lågstadiet \n18.30-20.00 Upptäckarna: Mellanstadiet \n18.30-20.00 Äventyrarna: Högstadiet \nKontaktperson: Stefan Sjöberg (Kårchef)\, Scout@immanuelskyrkan.com
URL:https://immanuelskyrkan.com/evenemang/scout/2027-04-22/
LOCATION:Immanuelskyrkan\, Oxtorgsgatan 15\, Jönköping\, 553 17\, Sverige
CATEGORIES:Scout
ORGANIZER;CN="Immanuelskyrkan":MAILTO:info@immanuelskyrkan.com
GEO:57.780919697436;14.158471850972
X-APPLE-STRUCTURED-LOCATION;VALUE=URI;X-ADDRESS=Immanuelskyrkan Oxtorgsgatan 15 Jönköping 553 17 Sverige;X-APPLE-RADIUS=500;X-TITLE=Oxtorgsgatan 15:geo:14.158471850972,57.780919697436
END:VEVENT
BEGIN:VEVENT
DTSTART;TZID=Europe/Stockholm:20270424T090000
DTEND;TZID=Europe/Stockholm:20270424T130000
DTSTAMP:20260419T153615
CREATED:20260114T100327Z
LAST-MODIFIED:20260114T100327Z
UID:10002983-1808557200-1808571600@immanuelskyrkan.com
SUMMARY:Torgfika
DESCRIPTION:Caféet är öppet för fika och kaffe.
URL:https://immanuelskyrkan.com/evenemang/torgfika/2027-04-24/
LOCATION:Immanuelskyrkan\, Oxtorgsgatan 15\, Jönköping\, 553 17\, Sverige
CATEGORIES:Café Immanuel
ORGANIZER;CN="Immanuelskyrkan":MAILTO:info@immanuelskyrkan.com
GEO:57.780919697436;14.158471850972
X-APPLE-STRUCTURED-LOCATION;VALUE=URI;X-ADDRESS=Immanuelskyrkan Oxtorgsgatan 15 Jönköping 553 17 Sverige;X-APPLE-RADIUS=500;X-TITLE=Oxtorgsgatan 15:geo:14.158471850972,57.780919697436
END:VEVENT
BEGIN:VEVENT
DTSTART;TZID=Europe/Stockholm:20270429T183000
DTEND;TZID=Europe/Stockholm:20270429T200000
DTSTAMP:20260419T153615
CREATED:20260115T125804Z
LAST-MODIFIED:20260115T125804Z
UID:10003257-1809023400-1809028800@immanuelskyrkan.com
SUMMARY:Scout
DESCRIPTION:18.30-19.30 Spårarna: Lågstadiet \n18.30-20.00 Upptäckarna: Mellanstadiet \n18.30-20.00 Äventyrarna: Högstadiet \nKontaktperson: Stefan Sjöberg (Kårchef)\, Scout@immanuelskyrkan.com
URL:https://immanuelskyrkan.com/evenemang/scout/2027-04-29/
LOCATION:Immanuelskyrkan\, Oxtorgsgatan 15\, Jönköping\, 553 17\, Sverige
CATEGORIES:Scout
ORGANIZER;CN="Immanuelskyrkan":MAILTO:info@immanuelskyrkan.com
GEO:57.780919697436;14.158471850972
X-APPLE-STRUCTURED-LOCATION;VALUE=URI;X-ADDRESS=Immanuelskyrkan Oxtorgsgatan 15 Jönköping 553 17 Sverige;X-APPLE-RADIUS=500;X-TITLE=Oxtorgsgatan 15:geo:14.158471850972,57.780919697436
END:VEVENT
BEGIN:VEVENT
DTSTART;TZID=Europe/Stockholm:20270501T090000
DTEND;TZID=Europe/Stockholm:20270501T130000
DTSTAMP:20260419T153615
CREATED:20260114T100327Z
LAST-MODIFIED:20260114T100327Z
UID:10002984-1809162000-1809176400@immanuelskyrkan.com
SUMMARY:Torgfika
DESCRIPTION:Caféet är öppet för fika och kaffe.
URL:https://immanuelskyrkan.com/evenemang/torgfika/2027-05-01/
LOCATION:Immanuelskyrkan\, Oxtorgsgatan 15\, Jönköping\, 553 17\, Sverige
CATEGORIES:Café Immanuel
ORGANIZER;CN="Immanuelskyrkan":MAILTO:info@immanuelskyrkan.com
GEO:57.780919697436;14.158471850972
X-APPLE-STRUCTURED-LOCATION;VALUE=URI;X-ADDRESS=Immanuelskyrkan Oxtorgsgatan 15 Jönköping 553 17 Sverige;X-APPLE-RADIUS=500;X-TITLE=Oxtorgsgatan 15:geo:14.158471850972,57.780919697436
END:VEVENT
BEGIN:VEVENT
DTSTART;TZID=Europe/Stockholm:20270506T183000
DTEND;TZID=Europe/Stockholm:20270506T200000
DTSTAMP:20260419T153615
CREATED:20260115T125804Z
LAST-MODIFIED:20260115T125804Z
UID:10003258-1809628200-1809633600@immanuelskyrkan.com
SUMMARY:Scout
DESCRIPTION:18.30-19.30 Spårarna: Lågstadiet \n18.30-20.00 Upptäckarna: Mellanstadiet \n18.30-20.00 Äventyrarna: Högstadiet \nKontaktperson: Stefan Sjöberg (Kårchef)\, Scout@immanuelskyrkan.com
URL:https://immanuelskyrkan.com/evenemang/scout/2027-05-06/
LOCATION:Immanuelskyrkan\, Oxtorgsgatan 15\, Jönköping\, 553 17\, Sverige
CATEGORIES:Scout
ORGANIZER;CN="Immanuelskyrkan":MAILTO:info@immanuelskyrkan.com
GEO:57.780919697436;14.158471850972
X-APPLE-STRUCTURED-LOCATION;VALUE=URI;X-ADDRESS=Immanuelskyrkan Oxtorgsgatan 15 Jönköping 553 17 Sverige;X-APPLE-RADIUS=500;X-TITLE=Oxtorgsgatan 15:geo:14.158471850972,57.780919697436
END:VEVENT
BEGIN:VEVENT
DTSTART;TZID=Europe/Stockholm:20270508T090000
DTEND;TZID=Europe/Stockholm:20270508T130000
DTSTAMP:20260419T153615
CREATED:20260114T100327Z
LAST-MODIFIED:20260114T100327Z
UID:10002985-1809766800-1809781200@immanuelskyrkan.com
SUMMARY:Torgfika
DESCRIPTION:Caféet är öppet för fika och kaffe.
URL:https://immanuelskyrkan.com/evenemang/torgfika/2027-05-08/
LOCATION:Immanuelskyrkan\, Oxtorgsgatan 15\, Jönköping\, 553 17\, Sverige
CATEGORIES:Café Immanuel
ORGANIZER;CN="Immanuelskyrkan":MAILTO:info@immanuelskyrkan.com
GEO:57.780919697436;14.158471850972
X-APPLE-STRUCTURED-LOCATION;VALUE=URI;X-ADDRESS=Immanuelskyrkan Oxtorgsgatan 15 Jönköping 553 17 Sverige;X-APPLE-RADIUS=500;X-TITLE=Oxtorgsgatan 15:geo:14.158471850972,57.780919697436
END:VEVENT
BEGIN:VEVENT
DTSTART;TZID=Europe/Stockholm:20270513T183000
DTEND;TZID=Europe/Stockholm:20270513T200000
DTSTAMP:20260419T153615
CREATED:20260115T125804Z
LAST-MODIFIED:20260115T125804Z
UID:10003259-1810233000-1810238400@immanuelskyrkan.com
SUMMARY:Scout
DESCRIPTION:18.30-19.30 Spårarna: Lågstadiet \n18.30-20.00 Upptäckarna: Mellanstadiet \n18.30-20.00 Äventyrarna: Högstadiet \nKontaktperson: Stefan Sjöberg (Kårchef)\, Scout@immanuelskyrkan.com
URL:https://immanuelskyrkan.com/evenemang/scout/2027-05-13/
LOCATION:Immanuelskyrkan\, Oxtorgsgatan 15\, Jönköping\, 553 17\, Sverige
CATEGORIES:Scout
ORGANIZER;CN="Immanuelskyrkan":MAILTO:info@immanuelskyrkan.com
GEO:57.780919697436;14.158471850972
X-APPLE-STRUCTURED-LOCATION;VALUE=URI;X-ADDRESS=Immanuelskyrkan Oxtorgsgatan 15 Jönköping 553 17 Sverige;X-APPLE-RADIUS=500;X-TITLE=Oxtorgsgatan 15:geo:14.158471850972,57.780919697436
END:VEVENT
BEGIN:VEVENT
DTSTART;TZID=Europe/Stockholm:20270515T090000
DTEND;TZID=Europe/Stockholm:20270515T130000
DTSTAMP:20260419T153615
CREATED:20260114T100327Z
LAST-MODIFIED:20260114T100327Z
UID:10002986-1810371600-1810386000@immanuelskyrkan.com
SUMMARY:Torgfika
DESCRIPTION:Caféet är öppet för fika och kaffe.
URL:https://immanuelskyrkan.com/evenemang/torgfika/2027-05-15/
LOCATION:Immanuelskyrkan\, Oxtorgsgatan 15\, Jönköping\, 553 17\, Sverige
CATEGORIES:Café Immanuel
ORGANIZER;CN="Immanuelskyrkan":MAILTO:info@immanuelskyrkan.com
GEO:57.780919697436;14.158471850972
X-APPLE-STRUCTURED-LOCATION;VALUE=URI;X-ADDRESS=Immanuelskyrkan Oxtorgsgatan 15 Jönköping 553 17 Sverige;X-APPLE-RADIUS=500;X-TITLE=Oxtorgsgatan 15:geo:14.158471850972,57.780919697436
END:VEVENT
BEGIN:VEVENT
DTSTART;TZID=Europe/Stockholm:20270520T183000
DTEND;TZID=Europe/Stockholm:20270520T200000
DTSTAMP:20260419T153615
CREATED:20260115T125804Z
LAST-MODIFIED:20260115T125804Z
UID:10003260-1810837800-1810843200@immanuelskyrkan.com
SUMMARY:Scout
DESCRIPTION:18.30-19.30 Spårarna: Lågstadiet \n18.30-20.00 Upptäckarna: Mellanstadiet \n18.30-20.00 Äventyrarna: Högstadiet \nKontaktperson: Stefan Sjöberg (Kårchef)\, Scout@immanuelskyrkan.com
URL:https://immanuelskyrkan.com/evenemang/scout/2027-05-20/
LOCATION:Immanuelskyrkan\, Oxtorgsgatan 15\, Jönköping\, 553 17\, Sverige
CATEGORIES:Scout
ORGANIZER;CN="Immanuelskyrkan":MAILTO:info@immanuelskyrkan.com
GEO:57.780919697436;14.158471850972
X-APPLE-STRUCTURED-LOCATION;VALUE=URI;X-ADDRESS=Immanuelskyrkan Oxtorgsgatan 15 Jönköping 553 17 Sverige;X-APPLE-RADIUS=500;X-TITLE=Oxtorgsgatan 15:geo:14.158471850972,57.780919697436
END:VEVENT
BEGIN:VEVENT
DTSTART;TZID=Europe/Stockholm:20270522T090000
DTEND;TZID=Europe/Stockholm:20270522T130000
DTSTAMP:20260419T153615
CREATED:20260114T100327Z
LAST-MODIFIED:20260114T100327Z
UID:10002987-1810976400-1810990800@immanuelskyrkan.com
SUMMARY:Torgfika
DESCRIPTION:Caféet är öppet för fika och kaffe.
URL:https://immanuelskyrkan.com/evenemang/torgfika/2027-05-22/
LOCATION:Immanuelskyrkan\, Oxtorgsgatan 15\, Jönköping\, 553 17\, Sverige
CATEGORIES:Café Immanuel
ORGANIZER;CN="Immanuelskyrkan":MAILTO:info@immanuelskyrkan.com
GEO:57.780919697436;14.158471850972
X-APPLE-STRUCTURED-LOCATION;VALUE=URI;X-ADDRESS=Immanuelskyrkan Oxtorgsgatan 15 Jönköping 553 17 Sverige;X-APPLE-RADIUS=500;X-TITLE=Oxtorgsgatan 15:geo:14.158471850972,57.780919697436
END:VEVENT
BEGIN:VEVENT
DTSTART;TZID=Europe/Stockholm:20270527T183000
DTEND;TZID=Europe/Stockholm:20270527T200000
DTSTAMP:20260419T153615
CREATED:20260115T125804Z
LAST-MODIFIED:20260115T125804Z
UID:10003261-1811442600-1811448000@immanuelskyrkan.com
SUMMARY:Scout
DESCRIPTION:18.30-19.30 Spårarna: Lågstadiet \n18.30-20.00 Upptäckarna: Mellanstadiet \n18.30-20.00 Äventyrarna: Högstadiet \nKontaktperson: Stefan Sjöberg (Kårchef)\, Scout@immanuelskyrkan.com
URL:https://immanuelskyrkan.com/evenemang/scout/2027-05-27/
LOCATION:Immanuelskyrkan\, Oxtorgsgatan 15\, Jönköping\, 553 17\, Sverige
CATEGORIES:Scout
ORGANIZER;CN="Immanuelskyrkan":MAILTO:info@immanuelskyrkan.com
GEO:57.780919697436;14.158471850972
X-APPLE-STRUCTURED-LOCATION;VALUE=URI;X-ADDRESS=Immanuelskyrkan Oxtorgsgatan 15 Jönköping 553 17 Sverige;X-APPLE-RADIUS=500;X-TITLE=Oxtorgsgatan 15:geo:14.158471850972,57.780919697436
END:VEVENT
BEGIN:VEVENT
DTSTART;TZID=Europe/Stockholm:20270529T090000
DTEND;TZID=Europe/Stockholm:20270529T130000
DTSTAMP:20260419T153615
CREATED:20260114T100327Z
LAST-MODIFIED:20260114T100327Z
UID:10002988-1811581200-1811595600@immanuelskyrkan.com
SUMMARY:Torgfika
DESCRIPTION:Caféet är öppet för fika och kaffe.
URL:https://immanuelskyrkan.com/evenemang/torgfika/2027-05-29/
LOCATION:Immanuelskyrkan\, Oxtorgsgatan 15\, Jönköping\, 553 17\, Sverige
CATEGORIES:Café Immanuel
ORGANIZER;CN="Immanuelskyrkan":MAILTO:info@immanuelskyrkan.com
GEO:57.780919697436;14.158471850972
X-APPLE-STRUCTURED-LOCATION;VALUE=URI;X-ADDRESS=Immanuelskyrkan Oxtorgsgatan 15 Jönköping 553 17 Sverige;X-APPLE-RADIUS=500;X-TITLE=Oxtorgsgatan 15:geo:14.158471850972,57.780919697436
END:VEVENT
END:VCALENDAR