BEGIN:VCALENDAR
VERSION:2.0
PRODID:-//Immanuelskyrkan Jönköping - ECPv6.15.20//NONSGML v1.0//EN
CALSCALE:GREGORIAN
METHOD:PUBLISH
X-WR-CALNAME:Immanuelskyrkan Jönköping
X-ORIGINAL-URL:https://immanuelskyrkan.com
X-WR-CALDESC:Evenemang hos Immanuelskyrkan Jönköping
REFRESH-INTERVAL;VALUE=DURATION:PT1H
X-Robots-Tag:noindex
X-PUBLISHED-TTL:PT1H
BEGIN:VTIMEZONE
TZID:Europe/Stockholm
BEGIN:DAYLIGHT
TZOFFSETFROM:+0100
TZOFFSETTO:+0200
TZNAME:CEST
DTSTART:20280326T010000
END:DAYLIGHT
BEGIN:STANDARD
TZOFFSETFROM:+0200
TZOFFSETTO:+0100
TZNAME:CET
DTSTART:20281029T010000
END:STANDARD
BEGIN:DAYLIGHT
TZOFFSETFROM:+0100
TZOFFSETTO:+0200
TZNAME:CEST
DTSTART:20290325T010000
END:DAYLIGHT
BEGIN:STANDARD
TZOFFSETFROM:+0200
TZOFFSETTO:+0100
TZNAME:CET
DTSTART:20291028T010000
END:STANDARD
BEGIN:DAYLIGHT
TZOFFSETFROM:+0100
TZOFFSETTO:+0200
TZNAME:CEST
DTSTART:20300331T010000
END:DAYLIGHT
BEGIN:STANDARD
TZOFFSETFROM:+0200
TZOFFSETTO:+0100
TZNAME:CET
DTSTART:20301027T010000
END:STANDARD
BEGIN:DAYLIGHT
TZOFFSETFROM:+0100
TZOFFSETTO:+0200
TZNAME:CEST
DTSTART:20310330T010000
END:DAYLIGHT
BEGIN:STANDARD
TZOFFSETFROM:+0200
TZOFFSETTO:+0100
TZNAME:CET
DTSTART:20311026T010000
END:STANDARD
END:VTIMEZONE
BEGIN:VEVENT
DTSTART;TZID=Europe/Stockholm:20291110T090000
DTEND;TZID=Europe/Stockholm:20291110T130000
DTSTAMP:20260423T134948
CREATED:20260114T100327Z
LAST-MODIFIED:20260114T100327Z
UID:10003116-1888995600-1889010000@immanuelskyrkan.com
SUMMARY:Torgfika
DESCRIPTION:Caféet är öppet för fika och kaffe.
URL:https://immanuelskyrkan.com/evenemang/torgfika/2029-11-10/
LOCATION:Immanuelskyrkan\, Oxtorgsgatan 15\, Jönköping\, 553 17\, Sverige
CATEGORIES:Café Immanuel
ORGANIZER;CN="Immanuelskyrkan":MAILTO:info@immanuelskyrkan.com
GEO:57.780919697436;14.158471850972
X-APPLE-STRUCTURED-LOCATION;VALUE=URI;X-ADDRESS=Immanuelskyrkan Oxtorgsgatan 15 Jönköping 553 17 Sverige;X-APPLE-RADIUS=500;X-TITLE=Oxtorgsgatan 15:geo:14.158471850972,57.780919697436
END:VEVENT
BEGIN:VEVENT
DTSTART;TZID=Europe/Stockholm:20291117T090000
DTEND;TZID=Europe/Stockholm:20291117T130000
DTSTAMP:20260423T134948
CREATED:20260114T100327Z
LAST-MODIFIED:20260114T100327Z
UID:10003117-1889600400-1889614800@immanuelskyrkan.com
SUMMARY:Torgfika
DESCRIPTION:Caféet är öppet för fika och kaffe.
URL:https://immanuelskyrkan.com/evenemang/torgfika/2029-11-17/
LOCATION:Immanuelskyrkan\, Oxtorgsgatan 15\, Jönköping\, 553 17\, Sverige
CATEGORIES:Café Immanuel
ORGANIZER;CN="Immanuelskyrkan":MAILTO:info@immanuelskyrkan.com
GEO:57.780919697436;14.158471850972
X-APPLE-STRUCTURED-LOCATION;VALUE=URI;X-ADDRESS=Immanuelskyrkan Oxtorgsgatan 15 Jönköping 553 17 Sverige;X-APPLE-RADIUS=500;X-TITLE=Oxtorgsgatan 15:geo:14.158471850972,57.780919697436
END:VEVENT
BEGIN:VEVENT
DTSTART;TZID=Europe/Stockholm:20291124T090000
DTEND;TZID=Europe/Stockholm:20291124T130000
DTSTAMP:20260423T134948
CREATED:20260114T100327Z
LAST-MODIFIED:20260114T100327Z
UID:10003118-1890205200-1890219600@immanuelskyrkan.com
SUMMARY:Torgfika
DESCRIPTION:Caféet är öppet för fika och kaffe.
URL:https://immanuelskyrkan.com/evenemang/torgfika/2029-11-24/
LOCATION:Immanuelskyrkan\, Oxtorgsgatan 15\, Jönköping\, 553 17\, Sverige
CATEGORIES:Café Immanuel
ORGANIZER;CN="Immanuelskyrkan":MAILTO:info@immanuelskyrkan.com
GEO:57.780919697436;14.158471850972
X-APPLE-STRUCTURED-LOCATION;VALUE=URI;X-ADDRESS=Immanuelskyrkan Oxtorgsgatan 15 Jönköping 553 17 Sverige;X-APPLE-RADIUS=500;X-TITLE=Oxtorgsgatan 15:geo:14.158471850972,57.780919697436
END:VEVENT
BEGIN:VEVENT
DTSTART;TZID=Europe/Stockholm:20291201T090000
DTEND;TZID=Europe/Stockholm:20291201T130000
DTSTAMP:20260423T134948
CREATED:20260114T100327Z
LAST-MODIFIED:20260114T100327Z
UID:10003119-1890810000-1890824400@immanuelskyrkan.com
SUMMARY:Torgfika
DESCRIPTION:Caféet är öppet för fika och kaffe.
URL:https://immanuelskyrkan.com/evenemang/torgfika/2029-12-01/
LOCATION:Immanuelskyrkan\, Oxtorgsgatan 15\, Jönköping\, 553 17\, Sverige
CATEGORIES:Café Immanuel
ORGANIZER;CN="Immanuelskyrkan":MAILTO:info@immanuelskyrkan.com
GEO:57.780919697436;14.158471850972
X-APPLE-STRUCTURED-LOCATION;VALUE=URI;X-ADDRESS=Immanuelskyrkan Oxtorgsgatan 15 Jönköping 553 17 Sverige;X-APPLE-RADIUS=500;X-TITLE=Oxtorgsgatan 15:geo:14.158471850972,57.780919697436
END:VEVENT
BEGIN:VEVENT
DTSTART;TZID=Europe/Stockholm:20291208T090000
DTEND;TZID=Europe/Stockholm:20291208T130000
DTSTAMP:20260423T134948
CREATED:20260114T100327Z
LAST-MODIFIED:20260114T100327Z
UID:10003120-1891414800-1891429200@immanuelskyrkan.com
SUMMARY:Torgfika
DESCRIPTION:Caféet är öppet för fika och kaffe.
URL:https://immanuelskyrkan.com/evenemang/torgfika/2029-12-08/
LOCATION:Immanuelskyrkan\, Oxtorgsgatan 15\, Jönköping\, 553 17\, Sverige
CATEGORIES:Café Immanuel
ORGANIZER;CN="Immanuelskyrkan":MAILTO:info@immanuelskyrkan.com
GEO:57.780919697436;14.158471850972
X-APPLE-STRUCTURED-LOCATION;VALUE=URI;X-ADDRESS=Immanuelskyrkan Oxtorgsgatan 15 Jönköping 553 17 Sverige;X-APPLE-RADIUS=500;X-TITLE=Oxtorgsgatan 15:geo:14.158471850972,57.780919697436
END:VEVENT
BEGIN:VEVENT
DTSTART;TZID=Europe/Stockholm:20291215T090000
DTEND;TZID=Europe/Stockholm:20291215T130000
DTSTAMP:20260423T134948
CREATED:20260114T100327Z
LAST-MODIFIED:20260114T100327Z
UID:10003121-1892019600-1892034000@immanuelskyrkan.com
SUMMARY:Torgfika
DESCRIPTION:Caféet är öppet för fika och kaffe.
URL:https://immanuelskyrkan.com/evenemang/torgfika/2029-12-15/
LOCATION:Immanuelskyrkan\, Oxtorgsgatan 15\, Jönköping\, 553 17\, Sverige
CATEGORIES:Café Immanuel
ORGANIZER;CN="Immanuelskyrkan":MAILTO:info@immanuelskyrkan.com
GEO:57.780919697436;14.158471850972
X-APPLE-STRUCTURED-LOCATION;VALUE=URI;X-ADDRESS=Immanuelskyrkan Oxtorgsgatan 15 Jönköping 553 17 Sverige;X-APPLE-RADIUS=500;X-TITLE=Oxtorgsgatan 15:geo:14.158471850972,57.780919697436
END:VEVENT
BEGIN:VEVENT
DTSTART;TZID=Europe/Stockholm:20291222T090000
DTEND;TZID=Europe/Stockholm:20291222T130000
DTSTAMP:20260423T134948
CREATED:20260114T100327Z
LAST-MODIFIED:20260114T100327Z
UID:10003122-1892624400-1892638800@immanuelskyrkan.com
SUMMARY:Torgfika
DESCRIPTION:Caféet är öppet för fika och kaffe.
URL:https://immanuelskyrkan.com/evenemang/torgfika/2029-12-22/
LOCATION:Immanuelskyrkan\, Oxtorgsgatan 15\, Jönköping\, 553 17\, Sverige
CATEGORIES:Café Immanuel
ORGANIZER;CN="Immanuelskyrkan":MAILTO:info@immanuelskyrkan.com
GEO:57.780919697436;14.158471850972
X-APPLE-STRUCTURED-LOCATION;VALUE=URI;X-ADDRESS=Immanuelskyrkan Oxtorgsgatan 15 Jönköping 553 17 Sverige;X-APPLE-RADIUS=500;X-TITLE=Oxtorgsgatan 15:geo:14.158471850972,57.780919697436
END:VEVENT
BEGIN:VEVENT
DTSTART;TZID=Europe/Stockholm:20291229T090000
DTEND;TZID=Europe/Stockholm:20291229T130000
DTSTAMP:20260423T134948
CREATED:20260114T100327Z
LAST-MODIFIED:20260114T100327Z
UID:10003123-1893229200-1893243600@immanuelskyrkan.com
SUMMARY:Torgfika
DESCRIPTION:Caféet är öppet för fika och kaffe.
URL:https://immanuelskyrkan.com/evenemang/torgfika/2029-12-29/
LOCATION:Immanuelskyrkan\, Oxtorgsgatan 15\, Jönköping\, 553 17\, Sverige
CATEGORIES:Café Immanuel
ORGANIZER;CN="Immanuelskyrkan":MAILTO:info@immanuelskyrkan.com
GEO:57.780919697436;14.158471850972
X-APPLE-STRUCTURED-LOCATION;VALUE=URI;X-ADDRESS=Immanuelskyrkan Oxtorgsgatan 15 Jönköping 553 17 Sverige;X-APPLE-RADIUS=500;X-TITLE=Oxtorgsgatan 15:geo:14.158471850972,57.780919697436
END:VEVENT
BEGIN:VEVENT
DTSTART;TZID=Europe/Stockholm:20300105T090000
DTEND;TZID=Europe/Stockholm:20300105T130000
DTSTAMP:20260423T134948
CREATED:20260114T100327Z
LAST-MODIFIED:20260114T100327Z
UID:10003124-1893834000-1893848400@immanuelskyrkan.com
SUMMARY:Torgfika
DESCRIPTION:Caféet är öppet för fika och kaffe.
URL:https://immanuelskyrkan.com/evenemang/torgfika/2030-01-05/
LOCATION:Immanuelskyrkan\, Oxtorgsgatan 15\, Jönköping\, 553 17\, Sverige
CATEGORIES:Café Immanuel
ORGANIZER;CN="Immanuelskyrkan":MAILTO:info@immanuelskyrkan.com
GEO:57.780919697436;14.158471850972
X-APPLE-STRUCTURED-LOCATION;VALUE=URI;X-ADDRESS=Immanuelskyrkan Oxtorgsgatan 15 Jönköping 553 17 Sverige;X-APPLE-RADIUS=500;X-TITLE=Oxtorgsgatan 15:geo:14.158471850972,57.780919697436
END:VEVENT
BEGIN:VEVENT
DTSTART;TZID=Europe/Stockholm:20300112T090000
DTEND;TZID=Europe/Stockholm:20300112T130000
DTSTAMP:20260423T134948
CREATED:20260114T100327Z
LAST-MODIFIED:20260114T100327Z
UID:10003125-1894438800-1894453200@immanuelskyrkan.com
SUMMARY:Torgfika
DESCRIPTION:Caféet är öppet för fika och kaffe.
URL:https://immanuelskyrkan.com/evenemang/torgfika/2030-01-12/
LOCATION:Immanuelskyrkan\, Oxtorgsgatan 15\, Jönköping\, 553 17\, Sverige
CATEGORIES:Café Immanuel
ORGANIZER;CN="Immanuelskyrkan":MAILTO:info@immanuelskyrkan.com
GEO:57.780919697436;14.158471850972
X-APPLE-STRUCTURED-LOCATION;VALUE=URI;X-ADDRESS=Immanuelskyrkan Oxtorgsgatan 15 Jönköping 553 17 Sverige;X-APPLE-RADIUS=500;X-TITLE=Oxtorgsgatan 15:geo:14.158471850972,57.780919697436
END:VEVENT
BEGIN:VEVENT
DTSTART;TZID=Europe/Stockholm:20300119T090000
DTEND;TZID=Europe/Stockholm:20300119T130000
DTSTAMP:20260423T134948
CREATED:20260114T100327Z
LAST-MODIFIED:20260114T100327Z
UID:10003126-1895043600-1895058000@immanuelskyrkan.com
SUMMARY:Torgfika
DESCRIPTION:Caféet är öppet för fika och kaffe.
URL:https://immanuelskyrkan.com/evenemang/torgfika/2030-01-19/
LOCATION:Immanuelskyrkan\, Oxtorgsgatan 15\, Jönköping\, 553 17\, Sverige
CATEGORIES:Café Immanuel
ORGANIZER;CN="Immanuelskyrkan":MAILTO:info@immanuelskyrkan.com
GEO:57.780919697436;14.158471850972
X-APPLE-STRUCTURED-LOCATION;VALUE=URI;X-ADDRESS=Immanuelskyrkan Oxtorgsgatan 15 Jönköping 553 17 Sverige;X-APPLE-RADIUS=500;X-TITLE=Oxtorgsgatan 15:geo:14.158471850972,57.780919697436
END:VEVENT
BEGIN:VEVENT
DTSTART;TZID=Europe/Stockholm:20300126T090000
DTEND;TZID=Europe/Stockholm:20300126T130000
DTSTAMP:20260423T134948
CREATED:20260114T100327Z
LAST-MODIFIED:20260114T100327Z
UID:10003127-1895648400-1895662800@immanuelskyrkan.com
SUMMARY:Torgfika
DESCRIPTION:Caféet är öppet för fika och kaffe.
URL:https://immanuelskyrkan.com/evenemang/torgfika/2030-01-26/
LOCATION:Immanuelskyrkan\, Oxtorgsgatan 15\, Jönköping\, 553 17\, Sverige
CATEGORIES:Café Immanuel
ORGANIZER;CN="Immanuelskyrkan":MAILTO:info@immanuelskyrkan.com
GEO:57.780919697436;14.158471850972
X-APPLE-STRUCTURED-LOCATION;VALUE=URI;X-ADDRESS=Immanuelskyrkan Oxtorgsgatan 15 Jönköping 553 17 Sverige;X-APPLE-RADIUS=500;X-TITLE=Oxtorgsgatan 15:geo:14.158471850972,57.780919697436
END:VEVENT
BEGIN:VEVENT
DTSTART;TZID=Europe/Stockholm:20300202T090000
DTEND;TZID=Europe/Stockholm:20300202T130000
DTSTAMP:20260423T134948
CREATED:20260114T100327Z
LAST-MODIFIED:20260114T100327Z
UID:10003128-1896253200-1896267600@immanuelskyrkan.com
SUMMARY:Torgfika
DESCRIPTION:Caféet är öppet för fika och kaffe.
URL:https://immanuelskyrkan.com/evenemang/torgfika/2030-02-02/
LOCATION:Immanuelskyrkan\, Oxtorgsgatan 15\, Jönköping\, 553 17\, Sverige
CATEGORIES:Café Immanuel
ORGANIZER;CN="Immanuelskyrkan":MAILTO:info@immanuelskyrkan.com
GEO:57.780919697436;14.158471850972
X-APPLE-STRUCTURED-LOCATION;VALUE=URI;X-ADDRESS=Immanuelskyrkan Oxtorgsgatan 15 Jönköping 553 17 Sverige;X-APPLE-RADIUS=500;X-TITLE=Oxtorgsgatan 15:geo:14.158471850972,57.780919697436
END:VEVENT
BEGIN:VEVENT
DTSTART;TZID=Europe/Stockholm:20300209T090000
DTEND;TZID=Europe/Stockholm:20300209T130000
DTSTAMP:20260423T134948
CREATED:20260114T100327Z
LAST-MODIFIED:20260114T100327Z
UID:10003129-1896858000-1896872400@immanuelskyrkan.com
SUMMARY:Torgfika
DESCRIPTION:Caféet är öppet för fika och kaffe.
URL:https://immanuelskyrkan.com/evenemang/torgfika/2030-02-09/
LOCATION:Immanuelskyrkan\, Oxtorgsgatan 15\, Jönköping\, 553 17\, Sverige
CATEGORIES:Café Immanuel
ORGANIZER;CN="Immanuelskyrkan":MAILTO:info@immanuelskyrkan.com
GEO:57.780919697436;14.158471850972
X-APPLE-STRUCTURED-LOCATION;VALUE=URI;X-ADDRESS=Immanuelskyrkan Oxtorgsgatan 15 Jönköping 553 17 Sverige;X-APPLE-RADIUS=500;X-TITLE=Oxtorgsgatan 15:geo:14.158471850972,57.780919697436
END:VEVENT
BEGIN:VEVENT
DTSTART;TZID=Europe/Stockholm:20300216T090000
DTEND;TZID=Europe/Stockholm:20300216T130000
DTSTAMP:20260423T134948
CREATED:20260114T100327Z
LAST-MODIFIED:20260114T100327Z
UID:10003130-1897462800-1897477200@immanuelskyrkan.com
SUMMARY:Torgfika
DESCRIPTION:Caféet är öppet för fika och kaffe.
URL:https://immanuelskyrkan.com/evenemang/torgfika/2030-02-16/
LOCATION:Immanuelskyrkan\, Oxtorgsgatan 15\, Jönköping\, 553 17\, Sverige
CATEGORIES:Café Immanuel
ORGANIZER;CN="Immanuelskyrkan":MAILTO:info@immanuelskyrkan.com
GEO:57.780919697436;14.158471850972
X-APPLE-STRUCTURED-LOCATION;VALUE=URI;X-ADDRESS=Immanuelskyrkan Oxtorgsgatan 15 Jönköping 553 17 Sverige;X-APPLE-RADIUS=500;X-TITLE=Oxtorgsgatan 15:geo:14.158471850972,57.780919697436
END:VEVENT
BEGIN:VEVENT
DTSTART;TZID=Europe/Stockholm:20300223T090000
DTEND;TZID=Europe/Stockholm:20300223T130000
DTSTAMP:20260423T134948
CREATED:20260114T100327Z
LAST-MODIFIED:20260114T100327Z
UID:10003131-1898067600-1898082000@immanuelskyrkan.com
SUMMARY:Torgfika
DESCRIPTION:Caféet är öppet för fika och kaffe.
URL:https://immanuelskyrkan.com/evenemang/torgfika/2030-02-23/
LOCATION:Immanuelskyrkan\, Oxtorgsgatan 15\, Jönköping\, 553 17\, Sverige
CATEGORIES:Café Immanuel
ORGANIZER;CN="Immanuelskyrkan":MAILTO:info@immanuelskyrkan.com
GEO:57.780919697436;14.158471850972
X-APPLE-STRUCTURED-LOCATION;VALUE=URI;X-ADDRESS=Immanuelskyrkan Oxtorgsgatan 15 Jönköping 553 17 Sverige;X-APPLE-RADIUS=500;X-TITLE=Oxtorgsgatan 15:geo:14.158471850972,57.780919697436
END:VEVENT
BEGIN:VEVENT
DTSTART;TZID=Europe/Stockholm:20300302T090000
DTEND;TZID=Europe/Stockholm:20300302T130000
DTSTAMP:20260423T134948
CREATED:20260114T100327Z
LAST-MODIFIED:20260114T100327Z
UID:10003132-1898672400-1898686800@immanuelskyrkan.com
SUMMARY:Torgfika
DESCRIPTION:Caféet är öppet för fika och kaffe.
URL:https://immanuelskyrkan.com/evenemang/torgfika/2030-03-02/
LOCATION:Immanuelskyrkan\, Oxtorgsgatan 15\, Jönköping\, 553 17\, Sverige
CATEGORIES:Café Immanuel
ORGANIZER;CN="Immanuelskyrkan":MAILTO:info@immanuelskyrkan.com
GEO:57.780919697436;14.158471850972
X-APPLE-STRUCTURED-LOCATION;VALUE=URI;X-ADDRESS=Immanuelskyrkan Oxtorgsgatan 15 Jönköping 553 17 Sverige;X-APPLE-RADIUS=500;X-TITLE=Oxtorgsgatan 15:geo:14.158471850972,57.780919697436
END:VEVENT
BEGIN:VEVENT
DTSTART;TZID=Europe/Stockholm:20300309T090000
DTEND;TZID=Europe/Stockholm:20300309T130000
DTSTAMP:20260423T134948
CREATED:20260114T100327Z
LAST-MODIFIED:20260114T100327Z
UID:10003133-1899277200-1899291600@immanuelskyrkan.com
SUMMARY:Torgfika
DESCRIPTION:Caféet är öppet för fika och kaffe.
URL:https://immanuelskyrkan.com/evenemang/torgfika/2030-03-09/
LOCATION:Immanuelskyrkan\, Oxtorgsgatan 15\, Jönköping\, 553 17\, Sverige
CATEGORIES:Café Immanuel
ORGANIZER;CN="Immanuelskyrkan":MAILTO:info@immanuelskyrkan.com
GEO:57.780919697436;14.158471850972
X-APPLE-STRUCTURED-LOCATION;VALUE=URI;X-ADDRESS=Immanuelskyrkan Oxtorgsgatan 15 Jönköping 553 17 Sverige;X-APPLE-RADIUS=500;X-TITLE=Oxtorgsgatan 15:geo:14.158471850972,57.780919697436
END:VEVENT
BEGIN:VEVENT
DTSTART;TZID=Europe/Stockholm:20300316T090000
DTEND;TZID=Europe/Stockholm:20300316T130000
DTSTAMP:20260423T134948
CREATED:20260114T100327Z
LAST-MODIFIED:20260114T100327Z
UID:10003134-1899882000-1899896400@immanuelskyrkan.com
SUMMARY:Torgfika
DESCRIPTION:Caféet är öppet för fika och kaffe.
URL:https://immanuelskyrkan.com/evenemang/torgfika/2030-03-16/
LOCATION:Immanuelskyrkan\, Oxtorgsgatan 15\, Jönköping\, 553 17\, Sverige
CATEGORIES:Café Immanuel
ORGANIZER;CN="Immanuelskyrkan":MAILTO:info@immanuelskyrkan.com
GEO:57.780919697436;14.158471850972
X-APPLE-STRUCTURED-LOCATION;VALUE=URI;X-ADDRESS=Immanuelskyrkan Oxtorgsgatan 15 Jönköping 553 17 Sverige;X-APPLE-RADIUS=500;X-TITLE=Oxtorgsgatan 15:geo:14.158471850972,57.780919697436
END:VEVENT
BEGIN:VEVENT
DTSTART;TZID=Europe/Stockholm:20300323T090000
DTEND;TZID=Europe/Stockholm:20300323T130000
DTSTAMP:20260423T134948
CREATED:20260114T100327Z
LAST-MODIFIED:20260114T100327Z
UID:10003135-1900486800-1900501200@immanuelskyrkan.com
SUMMARY:Torgfika
DESCRIPTION:Caféet är öppet för fika och kaffe.
URL:https://immanuelskyrkan.com/evenemang/torgfika/2030-03-23/
LOCATION:Immanuelskyrkan\, Oxtorgsgatan 15\, Jönköping\, 553 17\, Sverige
CATEGORIES:Café Immanuel
ORGANIZER;CN="Immanuelskyrkan":MAILTO:info@immanuelskyrkan.com
GEO:57.780919697436;14.158471850972
X-APPLE-STRUCTURED-LOCATION;VALUE=URI;X-ADDRESS=Immanuelskyrkan Oxtorgsgatan 15 Jönköping 553 17 Sverige;X-APPLE-RADIUS=500;X-TITLE=Oxtorgsgatan 15:geo:14.158471850972,57.780919697436
END:VEVENT
BEGIN:VEVENT
DTSTART;TZID=Europe/Stockholm:20300330T090000
DTEND;TZID=Europe/Stockholm:20300330T130000
DTSTAMP:20260423T134948
CREATED:20260114T100327Z
LAST-MODIFIED:20260114T100327Z
UID:10003136-1901091600-1901106000@immanuelskyrkan.com
SUMMARY:Torgfika
DESCRIPTION:Caféet är öppet för fika och kaffe.
URL:https://immanuelskyrkan.com/evenemang/torgfika/2030-03-30/
LOCATION:Immanuelskyrkan\, Oxtorgsgatan 15\, Jönköping\, 553 17\, Sverige
CATEGORIES:Café Immanuel
ORGANIZER;CN="Immanuelskyrkan":MAILTO:info@immanuelskyrkan.com
GEO:57.780919697436;14.158471850972
X-APPLE-STRUCTURED-LOCATION;VALUE=URI;X-ADDRESS=Immanuelskyrkan Oxtorgsgatan 15 Jönköping 553 17 Sverige;X-APPLE-RADIUS=500;X-TITLE=Oxtorgsgatan 15:geo:14.158471850972,57.780919697436
END:VEVENT
BEGIN:VEVENT
DTSTART;TZID=Europe/Stockholm:20300406T090000
DTEND;TZID=Europe/Stockholm:20300406T130000
DTSTAMP:20260423T134948
CREATED:20260114T100327Z
LAST-MODIFIED:20260114T100327Z
UID:10003137-1901696400-1901710800@immanuelskyrkan.com
SUMMARY:Torgfika
DESCRIPTION:Caféet är öppet för fika och kaffe.
URL:https://immanuelskyrkan.com/evenemang/torgfika/2030-04-06/
LOCATION:Immanuelskyrkan\, Oxtorgsgatan 15\, Jönköping\, 553 17\, Sverige
CATEGORIES:Café Immanuel
ORGANIZER;CN="Immanuelskyrkan":MAILTO:info@immanuelskyrkan.com
GEO:57.780919697436;14.158471850972
X-APPLE-STRUCTURED-LOCATION;VALUE=URI;X-ADDRESS=Immanuelskyrkan Oxtorgsgatan 15 Jönköping 553 17 Sverige;X-APPLE-RADIUS=500;X-TITLE=Oxtorgsgatan 15:geo:14.158471850972,57.780919697436
END:VEVENT
BEGIN:VEVENT
DTSTART;TZID=Europe/Stockholm:20300413T090000
DTEND;TZID=Europe/Stockholm:20300413T130000
DTSTAMP:20260423T134948
CREATED:20260114T100327Z
LAST-MODIFIED:20260114T100327Z
UID:10003138-1902301200-1902315600@immanuelskyrkan.com
SUMMARY:Torgfika
DESCRIPTION:Caféet är öppet för fika och kaffe.
URL:https://immanuelskyrkan.com/evenemang/torgfika/2030-04-13/
LOCATION:Immanuelskyrkan\, Oxtorgsgatan 15\, Jönköping\, 553 17\, Sverige
CATEGORIES:Café Immanuel
ORGANIZER;CN="Immanuelskyrkan":MAILTO:info@immanuelskyrkan.com
GEO:57.780919697436;14.158471850972
X-APPLE-STRUCTURED-LOCATION;VALUE=URI;X-ADDRESS=Immanuelskyrkan Oxtorgsgatan 15 Jönköping 553 17 Sverige;X-APPLE-RADIUS=500;X-TITLE=Oxtorgsgatan 15:geo:14.158471850972,57.780919697436
END:VEVENT
BEGIN:VEVENT
DTSTART;TZID=Europe/Stockholm:20300420T090000
DTEND;TZID=Europe/Stockholm:20300420T130000
DTSTAMP:20260423T134948
CREATED:20260114T100327Z
LAST-MODIFIED:20260114T100327Z
UID:10003139-1902906000-1902920400@immanuelskyrkan.com
SUMMARY:Torgfika
DESCRIPTION:Caféet är öppet för fika och kaffe.
URL:https://immanuelskyrkan.com/evenemang/torgfika/2030-04-20/
LOCATION:Immanuelskyrkan\, Oxtorgsgatan 15\, Jönköping\, 553 17\, Sverige
CATEGORIES:Café Immanuel
ORGANIZER;CN="Immanuelskyrkan":MAILTO:info@immanuelskyrkan.com
GEO:57.780919697436;14.158471850972
X-APPLE-STRUCTURED-LOCATION;VALUE=URI;X-ADDRESS=Immanuelskyrkan Oxtorgsgatan 15 Jönköping 553 17 Sverige;X-APPLE-RADIUS=500;X-TITLE=Oxtorgsgatan 15:geo:14.158471850972,57.780919697436
END:VEVENT
BEGIN:VEVENT
DTSTART;TZID=Europe/Stockholm:20300427T090000
DTEND;TZID=Europe/Stockholm:20300427T130000
DTSTAMP:20260423T134948
CREATED:20260114T100327Z
LAST-MODIFIED:20260114T100327Z
UID:10003140-1903510800-1903525200@immanuelskyrkan.com
SUMMARY:Torgfika
DESCRIPTION:Caféet är öppet för fika och kaffe.
URL:https://immanuelskyrkan.com/evenemang/torgfika/2030-04-27/
LOCATION:Immanuelskyrkan\, Oxtorgsgatan 15\, Jönköping\, 553 17\, Sverige
CATEGORIES:Café Immanuel
ORGANIZER;CN="Immanuelskyrkan":MAILTO:info@immanuelskyrkan.com
GEO:57.780919697436;14.158471850972
X-APPLE-STRUCTURED-LOCATION;VALUE=URI;X-ADDRESS=Immanuelskyrkan Oxtorgsgatan 15 Jönköping 553 17 Sverige;X-APPLE-RADIUS=500;X-TITLE=Oxtorgsgatan 15:geo:14.158471850972,57.780919697436
END:VEVENT
BEGIN:VEVENT
DTSTART;TZID=Europe/Stockholm:20300504T090000
DTEND;TZID=Europe/Stockholm:20300504T130000
DTSTAMP:20260423T134948
CREATED:20260114T100327Z
LAST-MODIFIED:20260114T100327Z
UID:10003141-1904115600-1904130000@immanuelskyrkan.com
SUMMARY:Torgfika
DESCRIPTION:Caféet är öppet för fika och kaffe.
URL:https://immanuelskyrkan.com/evenemang/torgfika/2030-05-04/
LOCATION:Immanuelskyrkan\, Oxtorgsgatan 15\, Jönköping\, 553 17\, Sverige
CATEGORIES:Café Immanuel
ORGANIZER;CN="Immanuelskyrkan":MAILTO:info@immanuelskyrkan.com
GEO:57.780919697436;14.158471850972
X-APPLE-STRUCTURED-LOCATION;VALUE=URI;X-ADDRESS=Immanuelskyrkan Oxtorgsgatan 15 Jönköping 553 17 Sverige;X-APPLE-RADIUS=500;X-TITLE=Oxtorgsgatan 15:geo:14.158471850972,57.780919697436
END:VEVENT
BEGIN:VEVENT
DTSTART;TZID=Europe/Stockholm:20300511T090000
DTEND;TZID=Europe/Stockholm:20300511T130000
DTSTAMP:20260423T134948
CREATED:20260114T100327Z
LAST-MODIFIED:20260114T100327Z
UID:10003142-1904720400-1904734800@immanuelskyrkan.com
SUMMARY:Torgfika
DESCRIPTION:Caféet är öppet för fika och kaffe.
URL:https://immanuelskyrkan.com/evenemang/torgfika/2030-05-11/
LOCATION:Immanuelskyrkan\, Oxtorgsgatan 15\, Jönköping\, 553 17\, Sverige
CATEGORIES:Café Immanuel
ORGANIZER;CN="Immanuelskyrkan":MAILTO:info@immanuelskyrkan.com
GEO:57.780919697436;14.158471850972
X-APPLE-STRUCTURED-LOCATION;VALUE=URI;X-ADDRESS=Immanuelskyrkan Oxtorgsgatan 15 Jönköping 553 17 Sverige;X-APPLE-RADIUS=500;X-TITLE=Oxtorgsgatan 15:geo:14.158471850972,57.780919697436
END:VEVENT
BEGIN:VEVENT
DTSTART;TZID=Europe/Stockholm:20300518T090000
DTEND;TZID=Europe/Stockholm:20300518T130000
DTSTAMP:20260423T134948
CREATED:20260114T100327Z
LAST-MODIFIED:20260114T100327Z
UID:10003143-1905325200-1905339600@immanuelskyrkan.com
SUMMARY:Torgfika
DESCRIPTION:Caféet är öppet för fika och kaffe.
URL:https://immanuelskyrkan.com/evenemang/torgfika/2030-05-18/
LOCATION:Immanuelskyrkan\, Oxtorgsgatan 15\, Jönköping\, 553 17\, Sverige
CATEGORIES:Café Immanuel
ORGANIZER;CN="Immanuelskyrkan":MAILTO:info@immanuelskyrkan.com
GEO:57.780919697436;14.158471850972
X-APPLE-STRUCTURED-LOCATION;VALUE=URI;X-ADDRESS=Immanuelskyrkan Oxtorgsgatan 15 Jönköping 553 17 Sverige;X-APPLE-RADIUS=500;X-TITLE=Oxtorgsgatan 15:geo:14.158471850972,57.780919697436
END:VEVENT
BEGIN:VEVENT
DTSTART;TZID=Europe/Stockholm:20300525T090000
DTEND;TZID=Europe/Stockholm:20300525T130000
DTSTAMP:20260423T134948
CREATED:20260114T100327Z
LAST-MODIFIED:20260114T100327Z
UID:10003144-1905930000-1905944400@immanuelskyrkan.com
SUMMARY:Torgfika
DESCRIPTION:Caféet är öppet för fika och kaffe.
URL:https://immanuelskyrkan.com/evenemang/torgfika/2030-05-25/
LOCATION:Immanuelskyrkan\, Oxtorgsgatan 15\, Jönköping\, 553 17\, Sverige
CATEGORIES:Café Immanuel
ORGANIZER;CN="Immanuelskyrkan":MAILTO:info@immanuelskyrkan.com
GEO:57.780919697436;14.158471850972
X-APPLE-STRUCTURED-LOCATION;VALUE=URI;X-ADDRESS=Immanuelskyrkan Oxtorgsgatan 15 Jönköping 553 17 Sverige;X-APPLE-RADIUS=500;X-TITLE=Oxtorgsgatan 15:geo:14.158471850972,57.780919697436
END:VEVENT
BEGIN:VEVENT
DTSTART;TZID=Europe/Stockholm:20300601T090000
DTEND;TZID=Europe/Stockholm:20300601T130000
DTSTAMP:20260423T134948
CREATED:20260114T100327Z
LAST-MODIFIED:20260114T100327Z
UID:10003145-1906534800-1906549200@immanuelskyrkan.com
SUMMARY:Torgfika
DESCRIPTION:Caféet är öppet för fika och kaffe.
URL:https://immanuelskyrkan.com/evenemang/torgfika/2030-06-01/
LOCATION:Immanuelskyrkan\, Oxtorgsgatan 15\, Jönköping\, 553 17\, Sverige
CATEGORIES:Café Immanuel
ORGANIZER;CN="Immanuelskyrkan":MAILTO:info@immanuelskyrkan.com
GEO:57.780919697436;14.158471850972
X-APPLE-STRUCTURED-LOCATION;VALUE=URI;X-ADDRESS=Immanuelskyrkan Oxtorgsgatan 15 Jönköping 553 17 Sverige;X-APPLE-RADIUS=500;X-TITLE=Oxtorgsgatan 15:geo:14.158471850972,57.780919697436
END:VEVENT
END:VCALENDAR