BEGIN:VCALENDAR
VERSION:2.0
PRODID:-//Immanuelskyrkan Jönköping - ECPv6.15.20//NONSGML v1.0//EN
CALSCALE:GREGORIAN
METHOD:PUBLISH
X-WR-CALNAME:Immanuelskyrkan Jönköping
X-ORIGINAL-URL:https://immanuelskyrkan.com
X-WR-CALDESC:Evenemang hos Immanuelskyrkan Jönköping
REFRESH-INTERVAL;VALUE=DURATION:PT1H
X-Robots-Tag:noindex
X-PUBLISHED-TTL:PT1H
BEGIN:VTIMEZONE
TZID:Europe/Stockholm
BEGIN:DAYLIGHT
TZOFFSETFROM:+0100
TZOFFSETTO:+0200
TZNAME:CEST
DTSTART:20250330T010000
END:DAYLIGHT
BEGIN:STANDARD
TZOFFSETFROM:+0200
TZOFFSETTO:+0100
TZNAME:CET
DTSTART:20251026T010000
END:STANDARD
BEGIN:DAYLIGHT
TZOFFSETFROM:+0100
TZOFFSETTO:+0200
TZNAME:CEST
DTSTART:20260329T010000
END:DAYLIGHT
BEGIN:STANDARD
TZOFFSETFROM:+0200
TZOFFSETTO:+0100
TZNAME:CET
DTSTART:20261025T010000
END:STANDARD
BEGIN:DAYLIGHT
TZOFFSETFROM:+0100
TZOFFSETTO:+0200
TZNAME:CEST
DTSTART:20270328T010000
END:DAYLIGHT
BEGIN:STANDARD
TZOFFSETFROM:+0200
TZOFFSETTO:+0100
TZNAME:CET
DTSTART:20271031T010000
END:STANDARD
BEGIN:DAYLIGHT
TZOFFSETFROM:+0100
TZOFFSETTO:+0200
TZNAME:CEST
DTSTART:20280326T010000
END:DAYLIGHT
BEGIN:STANDARD
TZOFFSETFROM:+0200
TZOFFSETTO:+0100
TZNAME:CET
DTSTART:20281029T010000
END:STANDARD
END:VTIMEZONE
BEGIN:VEVENT
DTSTART;TZID=Europe/Stockholm:20260709T183000
DTEND;TZID=Europe/Stockholm:20260709T200000
DTSTAMP:20260419T173813
CREATED:20260115T125804Z
LAST-MODIFIED:20260115T125804Z
UID:10003215-1783621800-1783627200@immanuelskyrkan.com
SUMMARY:Scout
DESCRIPTION:18.30-19.30 Spårarna: Lågstadiet \n18.30-20.00 Upptäckarna: Mellanstadiet \n18.30-20.00 Äventyrarna: Högstadiet \nKontaktperson: Stefan Sjöberg (Kårchef)\, Scout@immanuelskyrkan.com
URL:https://immanuelskyrkan.com/evenemang/scout/2026-07-09/
LOCATION:Immanuelskyrkan\, Oxtorgsgatan 15\, Jönköping\, 553 17\, Sverige
CATEGORIES:Scout
ORGANIZER;CN="Immanuelskyrkan":MAILTO:info@immanuelskyrkan.com
GEO:57.780919697436;14.158471850972
X-APPLE-STRUCTURED-LOCATION;VALUE=URI;X-ADDRESS=Immanuelskyrkan Oxtorgsgatan 15 Jönköping 553 17 Sverige;X-APPLE-RADIUS=500;X-TITLE=Oxtorgsgatan 15:geo:14.158471850972,57.780919697436
END:VEVENT
BEGIN:VEVENT
DTSTART;TZID=Europe/Stockholm:20260716T183000
DTEND;TZID=Europe/Stockholm:20260716T200000
DTSTAMP:20260419T173813
CREATED:20260115T125804Z
LAST-MODIFIED:20260115T125804Z
UID:10003216-1784226600-1784232000@immanuelskyrkan.com
SUMMARY:Scout
DESCRIPTION:18.30-19.30 Spårarna: Lågstadiet \n18.30-20.00 Upptäckarna: Mellanstadiet \n18.30-20.00 Äventyrarna: Högstadiet \nKontaktperson: Stefan Sjöberg (Kårchef)\, Scout@immanuelskyrkan.com
URL:https://immanuelskyrkan.com/evenemang/scout/2026-07-16/
LOCATION:Immanuelskyrkan\, Oxtorgsgatan 15\, Jönköping\, 553 17\, Sverige
CATEGORIES:Scout
ORGANIZER;CN="Immanuelskyrkan":MAILTO:info@immanuelskyrkan.com
GEO:57.780919697436;14.158471850972
X-APPLE-STRUCTURED-LOCATION;VALUE=URI;X-ADDRESS=Immanuelskyrkan Oxtorgsgatan 15 Jönköping 553 17 Sverige;X-APPLE-RADIUS=500;X-TITLE=Oxtorgsgatan 15:geo:14.158471850972,57.780919697436
END:VEVENT
BEGIN:VEVENT
DTSTART;TZID=Europe/Stockholm:20260723T183000
DTEND;TZID=Europe/Stockholm:20260723T200000
DTSTAMP:20260419T173813
CREATED:20260115T125804Z
LAST-MODIFIED:20260115T125804Z
UID:10003217-1784831400-1784836800@immanuelskyrkan.com
SUMMARY:Scout
DESCRIPTION:18.30-19.30 Spårarna: Lågstadiet \n18.30-20.00 Upptäckarna: Mellanstadiet \n18.30-20.00 Äventyrarna: Högstadiet \nKontaktperson: Stefan Sjöberg (Kårchef)\, Scout@immanuelskyrkan.com
URL:https://immanuelskyrkan.com/evenemang/scout/2026-07-23/
LOCATION:Immanuelskyrkan\, Oxtorgsgatan 15\, Jönköping\, 553 17\, Sverige
CATEGORIES:Scout
ORGANIZER;CN="Immanuelskyrkan":MAILTO:info@immanuelskyrkan.com
GEO:57.780919697436;14.158471850972
X-APPLE-STRUCTURED-LOCATION;VALUE=URI;X-ADDRESS=Immanuelskyrkan Oxtorgsgatan 15 Jönköping 553 17 Sverige;X-APPLE-RADIUS=500;X-TITLE=Oxtorgsgatan 15:geo:14.158471850972,57.780919697436
END:VEVENT
BEGIN:VEVENT
DTSTART;TZID=Europe/Stockholm:20260730T183000
DTEND;TZID=Europe/Stockholm:20260730T200000
DTSTAMP:20260419T173813
CREATED:20260115T125804Z
LAST-MODIFIED:20260115T125804Z
UID:10003218-1785436200-1785441600@immanuelskyrkan.com
SUMMARY:Scout
DESCRIPTION:18.30-19.30 Spårarna: Lågstadiet \n18.30-20.00 Upptäckarna: Mellanstadiet \n18.30-20.00 Äventyrarna: Högstadiet \nKontaktperson: Stefan Sjöberg (Kårchef)\, Scout@immanuelskyrkan.com
URL:https://immanuelskyrkan.com/evenemang/scout/2026-07-30/
LOCATION:Immanuelskyrkan\, Oxtorgsgatan 15\, Jönköping\, 553 17\, Sverige
CATEGORIES:Scout
ORGANIZER;CN="Immanuelskyrkan":MAILTO:info@immanuelskyrkan.com
GEO:57.780919697436;14.158471850972
X-APPLE-STRUCTURED-LOCATION;VALUE=URI;X-ADDRESS=Immanuelskyrkan Oxtorgsgatan 15 Jönköping 553 17 Sverige;X-APPLE-RADIUS=500;X-TITLE=Oxtorgsgatan 15:geo:14.158471850972,57.780919697436
END:VEVENT
BEGIN:VEVENT
DTSTART;TZID=Europe/Stockholm:20260806T183000
DTEND;TZID=Europe/Stockholm:20260806T200000
DTSTAMP:20260419T173813
CREATED:20260115T125804Z
LAST-MODIFIED:20260115T125804Z
UID:10003219-1786041000-1786046400@immanuelskyrkan.com
SUMMARY:Scout
DESCRIPTION:18.30-19.30 Spårarna: Lågstadiet \n18.30-20.00 Upptäckarna: Mellanstadiet \n18.30-20.00 Äventyrarna: Högstadiet \nKontaktperson: Stefan Sjöberg (Kårchef)\, Scout@immanuelskyrkan.com
URL:https://immanuelskyrkan.com/evenemang/scout/2026-08-06/
LOCATION:Immanuelskyrkan\, Oxtorgsgatan 15\, Jönköping\, 553 17\, Sverige
CATEGORIES:Scout
ORGANIZER;CN="Immanuelskyrkan":MAILTO:info@immanuelskyrkan.com
GEO:57.780919697436;14.158471850972
X-APPLE-STRUCTURED-LOCATION;VALUE=URI;X-ADDRESS=Immanuelskyrkan Oxtorgsgatan 15 Jönköping 553 17 Sverige;X-APPLE-RADIUS=500;X-TITLE=Oxtorgsgatan 15:geo:14.158471850972,57.780919697436
END:VEVENT
BEGIN:VEVENT
DTSTART;TZID=Europe/Stockholm:20260813T183000
DTEND;TZID=Europe/Stockholm:20260813T200000
DTSTAMP:20260419T173813
CREATED:20260115T125804Z
LAST-MODIFIED:20260115T125804Z
UID:10003220-1786645800-1786651200@immanuelskyrkan.com
SUMMARY:Scout
DESCRIPTION:18.30-19.30 Spårarna: Lågstadiet \n18.30-20.00 Upptäckarna: Mellanstadiet \n18.30-20.00 Äventyrarna: Högstadiet \nKontaktperson: Stefan Sjöberg (Kårchef)\, Scout@immanuelskyrkan.com
URL:https://immanuelskyrkan.com/evenemang/scout/2026-08-13/
LOCATION:Immanuelskyrkan\, Oxtorgsgatan 15\, Jönköping\, 553 17\, Sverige
CATEGORIES:Scout
ORGANIZER;CN="Immanuelskyrkan":MAILTO:info@immanuelskyrkan.com
GEO:57.780919697436;14.158471850972
X-APPLE-STRUCTURED-LOCATION;VALUE=URI;X-ADDRESS=Immanuelskyrkan Oxtorgsgatan 15 Jönköping 553 17 Sverige;X-APPLE-RADIUS=500;X-TITLE=Oxtorgsgatan 15:geo:14.158471850972,57.780919697436
END:VEVENT
BEGIN:VEVENT
DTSTART;TZID=Europe/Stockholm:20260820T183000
DTEND;TZID=Europe/Stockholm:20260820T200000
DTSTAMP:20260419T173813
CREATED:20260115T125804Z
LAST-MODIFIED:20260115T125804Z
UID:10003221-1787250600-1787256000@immanuelskyrkan.com
SUMMARY:Scout
DESCRIPTION:18.30-19.30 Spårarna: Lågstadiet \n18.30-20.00 Upptäckarna: Mellanstadiet \n18.30-20.00 Äventyrarna: Högstadiet \nKontaktperson: Stefan Sjöberg (Kårchef)\, Scout@immanuelskyrkan.com
URL:https://immanuelskyrkan.com/evenemang/scout/2026-08-20/
LOCATION:Immanuelskyrkan\, Oxtorgsgatan 15\, Jönköping\, 553 17\, Sverige
CATEGORIES:Scout
ORGANIZER;CN="Immanuelskyrkan":MAILTO:info@immanuelskyrkan.com
GEO:57.780919697436;14.158471850972
X-APPLE-STRUCTURED-LOCATION;VALUE=URI;X-ADDRESS=Immanuelskyrkan Oxtorgsgatan 15 Jönköping 553 17 Sverige;X-APPLE-RADIUS=500;X-TITLE=Oxtorgsgatan 15:geo:14.158471850972,57.780919697436
END:VEVENT
BEGIN:VEVENT
DTSTART;TZID=Europe/Stockholm:20260827T183000
DTEND;TZID=Europe/Stockholm:20260827T200000
DTSTAMP:20260419T173813
CREATED:20260115T125804Z
LAST-MODIFIED:20260115T125804Z
UID:10003222-1787855400-1787860800@immanuelskyrkan.com
SUMMARY:Scout
DESCRIPTION:18.30-19.30 Spårarna: Lågstadiet \n18.30-20.00 Upptäckarna: Mellanstadiet \n18.30-20.00 Äventyrarna: Högstadiet \nKontaktperson: Stefan Sjöberg (Kårchef)\, Scout@immanuelskyrkan.com
URL:https://immanuelskyrkan.com/evenemang/scout/2026-08-27/
LOCATION:Immanuelskyrkan\, Oxtorgsgatan 15\, Jönköping\, 553 17\, Sverige
CATEGORIES:Scout
ORGANIZER;CN="Immanuelskyrkan":MAILTO:info@immanuelskyrkan.com
GEO:57.780919697436;14.158471850972
X-APPLE-STRUCTURED-LOCATION;VALUE=URI;X-ADDRESS=Immanuelskyrkan Oxtorgsgatan 15 Jönköping 553 17 Sverige;X-APPLE-RADIUS=500;X-TITLE=Oxtorgsgatan 15:geo:14.158471850972,57.780919697436
END:VEVENT
BEGIN:VEVENT
DTSTART;TZID=Europe/Stockholm:20260903T183000
DTEND;TZID=Europe/Stockholm:20260903T200000
DTSTAMP:20260419T173813
CREATED:20260115T125804Z
LAST-MODIFIED:20260115T125804Z
UID:10003223-1788460200-1788465600@immanuelskyrkan.com
SUMMARY:Scout
DESCRIPTION:18.30-19.30 Spårarna: Lågstadiet \n18.30-20.00 Upptäckarna: Mellanstadiet \n18.30-20.00 Äventyrarna: Högstadiet \nKontaktperson: Stefan Sjöberg (Kårchef)\, Scout@immanuelskyrkan.com
URL:https://immanuelskyrkan.com/evenemang/scout/2026-09-03/
LOCATION:Immanuelskyrkan\, Oxtorgsgatan 15\, Jönköping\, 553 17\, Sverige
CATEGORIES:Scout
ORGANIZER;CN="Immanuelskyrkan":MAILTO:info@immanuelskyrkan.com
GEO:57.780919697436;14.158471850972
X-APPLE-STRUCTURED-LOCATION;VALUE=URI;X-ADDRESS=Immanuelskyrkan Oxtorgsgatan 15 Jönköping 553 17 Sverige;X-APPLE-RADIUS=500;X-TITLE=Oxtorgsgatan 15:geo:14.158471850972,57.780919697436
END:VEVENT
BEGIN:VEVENT
DTSTART;TZID=Europe/Stockholm:20260910T183000
DTEND;TZID=Europe/Stockholm:20260910T200000
DTSTAMP:20260419T173813
CREATED:20260115T125804Z
LAST-MODIFIED:20260115T125804Z
UID:10003224-1789065000-1789070400@immanuelskyrkan.com
SUMMARY:Scout
DESCRIPTION:18.30-19.30 Spårarna: Lågstadiet \n18.30-20.00 Upptäckarna: Mellanstadiet \n18.30-20.00 Äventyrarna: Högstadiet \nKontaktperson: Stefan Sjöberg (Kårchef)\, Scout@immanuelskyrkan.com
URL:https://immanuelskyrkan.com/evenemang/scout/2026-09-10/
LOCATION:Immanuelskyrkan\, Oxtorgsgatan 15\, Jönköping\, 553 17\, Sverige
CATEGORIES:Scout
ORGANIZER;CN="Immanuelskyrkan":MAILTO:info@immanuelskyrkan.com
GEO:57.780919697436;14.158471850972
X-APPLE-STRUCTURED-LOCATION;VALUE=URI;X-ADDRESS=Immanuelskyrkan Oxtorgsgatan 15 Jönköping 553 17 Sverige;X-APPLE-RADIUS=500;X-TITLE=Oxtorgsgatan 15:geo:14.158471850972,57.780919697436
END:VEVENT
BEGIN:VEVENT
DTSTART;TZID=Europe/Stockholm:20260917T183000
DTEND;TZID=Europe/Stockholm:20260917T200000
DTSTAMP:20260419T173813
CREATED:20260115T125804Z
LAST-MODIFIED:20260115T125804Z
UID:10003225-1789669800-1789675200@immanuelskyrkan.com
SUMMARY:Scout
DESCRIPTION:18.30-19.30 Spårarna: Lågstadiet \n18.30-20.00 Upptäckarna: Mellanstadiet \n18.30-20.00 Äventyrarna: Högstadiet \nKontaktperson: Stefan Sjöberg (Kårchef)\, Scout@immanuelskyrkan.com
URL:https://immanuelskyrkan.com/evenemang/scout/2026-09-17/
LOCATION:Immanuelskyrkan\, Oxtorgsgatan 15\, Jönköping\, 553 17\, Sverige
CATEGORIES:Scout
ORGANIZER;CN="Immanuelskyrkan":MAILTO:info@immanuelskyrkan.com
GEO:57.780919697436;14.158471850972
X-APPLE-STRUCTURED-LOCATION;VALUE=URI;X-ADDRESS=Immanuelskyrkan Oxtorgsgatan 15 Jönköping 553 17 Sverige;X-APPLE-RADIUS=500;X-TITLE=Oxtorgsgatan 15:geo:14.158471850972,57.780919697436
END:VEVENT
BEGIN:VEVENT
DTSTART;TZID=Europe/Stockholm:20260924T183000
DTEND;TZID=Europe/Stockholm:20260924T200000
DTSTAMP:20260419T173813
CREATED:20260115T125804Z
LAST-MODIFIED:20260115T125804Z
UID:10003226-1790274600-1790280000@immanuelskyrkan.com
SUMMARY:Scout
DESCRIPTION:18.30-19.30 Spårarna: Lågstadiet \n18.30-20.00 Upptäckarna: Mellanstadiet \n18.30-20.00 Äventyrarna: Högstadiet \nKontaktperson: Stefan Sjöberg (Kårchef)\, Scout@immanuelskyrkan.com
URL:https://immanuelskyrkan.com/evenemang/scout/2026-09-24/
LOCATION:Immanuelskyrkan\, Oxtorgsgatan 15\, Jönköping\, 553 17\, Sverige
CATEGORIES:Scout
ORGANIZER;CN="Immanuelskyrkan":MAILTO:info@immanuelskyrkan.com
GEO:57.780919697436;14.158471850972
X-APPLE-STRUCTURED-LOCATION;VALUE=URI;X-ADDRESS=Immanuelskyrkan Oxtorgsgatan 15 Jönköping 553 17 Sverige;X-APPLE-RADIUS=500;X-TITLE=Oxtorgsgatan 15:geo:14.158471850972,57.780919697436
END:VEVENT
BEGIN:VEVENT
DTSTART;TZID=Europe/Stockholm:20261001T183000
DTEND;TZID=Europe/Stockholm:20261001T200000
DTSTAMP:20260419T173813
CREATED:20260115T125804Z
LAST-MODIFIED:20260115T125804Z
UID:10003227-1790879400-1790884800@immanuelskyrkan.com
SUMMARY:Scout
DESCRIPTION:18.30-19.30 Spårarna: Lågstadiet \n18.30-20.00 Upptäckarna: Mellanstadiet \n18.30-20.00 Äventyrarna: Högstadiet \nKontaktperson: Stefan Sjöberg (Kårchef)\, Scout@immanuelskyrkan.com
URL:https://immanuelskyrkan.com/evenemang/scout/2026-10-01/
LOCATION:Immanuelskyrkan\, Oxtorgsgatan 15\, Jönköping\, 553 17\, Sverige
CATEGORIES:Scout
ORGANIZER;CN="Immanuelskyrkan":MAILTO:info@immanuelskyrkan.com
GEO:57.780919697436;14.158471850972
X-APPLE-STRUCTURED-LOCATION;VALUE=URI;X-ADDRESS=Immanuelskyrkan Oxtorgsgatan 15 Jönköping 553 17 Sverige;X-APPLE-RADIUS=500;X-TITLE=Oxtorgsgatan 15:geo:14.158471850972,57.780919697436
END:VEVENT
BEGIN:VEVENT
DTSTART;TZID=Europe/Stockholm:20261008T183000
DTEND;TZID=Europe/Stockholm:20261008T200000
DTSTAMP:20260419T173813
CREATED:20260115T125804Z
LAST-MODIFIED:20260115T125804Z
UID:10003228-1791484200-1791489600@immanuelskyrkan.com
SUMMARY:Scout
DESCRIPTION:18.30-19.30 Spårarna: Lågstadiet \n18.30-20.00 Upptäckarna: Mellanstadiet \n18.30-20.00 Äventyrarna: Högstadiet \nKontaktperson: Stefan Sjöberg (Kårchef)\, Scout@immanuelskyrkan.com
URL:https://immanuelskyrkan.com/evenemang/scout/2026-10-08/
LOCATION:Immanuelskyrkan\, Oxtorgsgatan 15\, Jönköping\, 553 17\, Sverige
CATEGORIES:Scout
ORGANIZER;CN="Immanuelskyrkan":MAILTO:info@immanuelskyrkan.com
GEO:57.780919697436;14.158471850972
X-APPLE-STRUCTURED-LOCATION;VALUE=URI;X-ADDRESS=Immanuelskyrkan Oxtorgsgatan 15 Jönköping 553 17 Sverige;X-APPLE-RADIUS=500;X-TITLE=Oxtorgsgatan 15:geo:14.158471850972,57.780919697436
END:VEVENT
BEGIN:VEVENT
DTSTART;TZID=Europe/Stockholm:20261015T183000
DTEND;TZID=Europe/Stockholm:20261015T200000
DTSTAMP:20260419T173813
CREATED:20260115T125804Z
LAST-MODIFIED:20260115T125804Z
UID:10003229-1792089000-1792094400@immanuelskyrkan.com
SUMMARY:Scout
DESCRIPTION:18.30-19.30 Spårarna: Lågstadiet \n18.30-20.00 Upptäckarna: Mellanstadiet \n18.30-20.00 Äventyrarna: Högstadiet \nKontaktperson: Stefan Sjöberg (Kårchef)\, Scout@immanuelskyrkan.com
URL:https://immanuelskyrkan.com/evenemang/scout/2026-10-15/
LOCATION:Immanuelskyrkan\, Oxtorgsgatan 15\, Jönköping\, 553 17\, Sverige
CATEGORIES:Scout
ORGANIZER;CN="Immanuelskyrkan":MAILTO:info@immanuelskyrkan.com
GEO:57.780919697436;14.158471850972
X-APPLE-STRUCTURED-LOCATION;VALUE=URI;X-ADDRESS=Immanuelskyrkan Oxtorgsgatan 15 Jönköping 553 17 Sverige;X-APPLE-RADIUS=500;X-TITLE=Oxtorgsgatan 15:geo:14.158471850972,57.780919697436
END:VEVENT
BEGIN:VEVENT
DTSTART;TZID=Europe/Stockholm:20261022T183000
DTEND;TZID=Europe/Stockholm:20261022T200000
DTSTAMP:20260419T173813
CREATED:20260115T125804Z
LAST-MODIFIED:20260115T125804Z
UID:10003230-1792693800-1792699200@immanuelskyrkan.com
SUMMARY:Scout
DESCRIPTION:18.30-19.30 Spårarna: Lågstadiet \n18.30-20.00 Upptäckarna: Mellanstadiet \n18.30-20.00 Äventyrarna: Högstadiet \nKontaktperson: Stefan Sjöberg (Kårchef)\, Scout@immanuelskyrkan.com
URL:https://immanuelskyrkan.com/evenemang/scout/2026-10-22/
LOCATION:Immanuelskyrkan\, Oxtorgsgatan 15\, Jönköping\, 553 17\, Sverige
CATEGORIES:Scout
ORGANIZER;CN="Immanuelskyrkan":MAILTO:info@immanuelskyrkan.com
GEO:57.780919697436;14.158471850972
X-APPLE-STRUCTURED-LOCATION;VALUE=URI;X-ADDRESS=Immanuelskyrkan Oxtorgsgatan 15 Jönköping 553 17 Sverige;X-APPLE-RADIUS=500;X-TITLE=Oxtorgsgatan 15:geo:14.158471850972,57.780919697436
END:VEVENT
BEGIN:VEVENT
DTSTART;TZID=Europe/Stockholm:20261029T183000
DTEND;TZID=Europe/Stockholm:20261029T200000
DTSTAMP:20260419T173813
CREATED:20260115T125804Z
LAST-MODIFIED:20260115T125804Z
UID:10003231-1793298600-1793304000@immanuelskyrkan.com
SUMMARY:Scout
DESCRIPTION:18.30-19.30 Spårarna: Lågstadiet \n18.30-20.00 Upptäckarna: Mellanstadiet \n18.30-20.00 Äventyrarna: Högstadiet \nKontaktperson: Stefan Sjöberg (Kårchef)\, Scout@immanuelskyrkan.com
URL:https://immanuelskyrkan.com/evenemang/scout/2026-10-29/
LOCATION:Immanuelskyrkan\, Oxtorgsgatan 15\, Jönköping\, 553 17\, Sverige
CATEGORIES:Scout
ORGANIZER;CN="Immanuelskyrkan":MAILTO:info@immanuelskyrkan.com
GEO:57.780919697436;14.158471850972
X-APPLE-STRUCTURED-LOCATION;VALUE=URI;X-ADDRESS=Immanuelskyrkan Oxtorgsgatan 15 Jönköping 553 17 Sverige;X-APPLE-RADIUS=500;X-TITLE=Oxtorgsgatan 15:geo:14.158471850972,57.780919697436
END:VEVENT
BEGIN:VEVENT
DTSTART;TZID=Europe/Stockholm:20261105T183000
DTEND;TZID=Europe/Stockholm:20261105T200000
DTSTAMP:20260419T173813
CREATED:20260115T125804Z
LAST-MODIFIED:20260115T125804Z
UID:10003232-1793903400-1793908800@immanuelskyrkan.com
SUMMARY:Scout
DESCRIPTION:18.30-19.30 Spårarna: Lågstadiet \n18.30-20.00 Upptäckarna: Mellanstadiet \n18.30-20.00 Äventyrarna: Högstadiet \nKontaktperson: Stefan Sjöberg (Kårchef)\, Scout@immanuelskyrkan.com
URL:https://immanuelskyrkan.com/evenemang/scout/2026-11-05/
LOCATION:Immanuelskyrkan\, Oxtorgsgatan 15\, Jönköping\, 553 17\, Sverige
CATEGORIES:Scout
ORGANIZER;CN="Immanuelskyrkan":MAILTO:info@immanuelskyrkan.com
GEO:57.780919697436;14.158471850972
X-APPLE-STRUCTURED-LOCATION;VALUE=URI;X-ADDRESS=Immanuelskyrkan Oxtorgsgatan 15 Jönköping 553 17 Sverige;X-APPLE-RADIUS=500;X-TITLE=Oxtorgsgatan 15:geo:14.158471850972,57.780919697436
END:VEVENT
BEGIN:VEVENT
DTSTART;TZID=Europe/Stockholm:20261112T183000
DTEND;TZID=Europe/Stockholm:20261112T200000
DTSTAMP:20260419T173813
CREATED:20260115T125804Z
LAST-MODIFIED:20260115T125804Z
UID:10003233-1794508200-1794513600@immanuelskyrkan.com
SUMMARY:Scout
DESCRIPTION:18.30-19.30 Spårarna: Lågstadiet \n18.30-20.00 Upptäckarna: Mellanstadiet \n18.30-20.00 Äventyrarna: Högstadiet \nKontaktperson: Stefan Sjöberg (Kårchef)\, Scout@immanuelskyrkan.com
URL:https://immanuelskyrkan.com/evenemang/scout/2026-11-12/
LOCATION:Immanuelskyrkan\, Oxtorgsgatan 15\, Jönköping\, 553 17\, Sverige
CATEGORIES:Scout
ORGANIZER;CN="Immanuelskyrkan":MAILTO:info@immanuelskyrkan.com
GEO:57.780919697436;14.158471850972
X-APPLE-STRUCTURED-LOCATION;VALUE=URI;X-ADDRESS=Immanuelskyrkan Oxtorgsgatan 15 Jönköping 553 17 Sverige;X-APPLE-RADIUS=500;X-TITLE=Oxtorgsgatan 15:geo:14.158471850972,57.780919697436
END:VEVENT
BEGIN:VEVENT
DTSTART;TZID=Europe/Stockholm:20261119T183000
DTEND;TZID=Europe/Stockholm:20261119T200000
DTSTAMP:20260419T173813
CREATED:20260115T125804Z
LAST-MODIFIED:20260115T125804Z
UID:10003234-1795113000-1795118400@immanuelskyrkan.com
SUMMARY:Scout
DESCRIPTION:18.30-19.30 Spårarna: Lågstadiet \n18.30-20.00 Upptäckarna: Mellanstadiet \n18.30-20.00 Äventyrarna: Högstadiet \nKontaktperson: Stefan Sjöberg (Kårchef)\, Scout@immanuelskyrkan.com
URL:https://immanuelskyrkan.com/evenemang/scout/2026-11-19/
LOCATION:Immanuelskyrkan\, Oxtorgsgatan 15\, Jönköping\, 553 17\, Sverige
CATEGORIES:Scout
ORGANIZER;CN="Immanuelskyrkan":MAILTO:info@immanuelskyrkan.com
GEO:57.780919697436;14.158471850972
X-APPLE-STRUCTURED-LOCATION;VALUE=URI;X-ADDRESS=Immanuelskyrkan Oxtorgsgatan 15 Jönköping 553 17 Sverige;X-APPLE-RADIUS=500;X-TITLE=Oxtorgsgatan 15:geo:14.158471850972,57.780919697436
END:VEVENT
BEGIN:VEVENT
DTSTART;TZID=Europe/Stockholm:20261126T183000
DTEND;TZID=Europe/Stockholm:20261126T200000
DTSTAMP:20260419T173813
CREATED:20260115T125804Z
LAST-MODIFIED:20260115T125804Z
UID:10003235-1795717800-1795723200@immanuelskyrkan.com
SUMMARY:Scout
DESCRIPTION:18.30-19.30 Spårarna: Lågstadiet \n18.30-20.00 Upptäckarna: Mellanstadiet \n18.30-20.00 Äventyrarna: Högstadiet \nKontaktperson: Stefan Sjöberg (Kårchef)\, Scout@immanuelskyrkan.com
URL:https://immanuelskyrkan.com/evenemang/scout/2026-11-26/
LOCATION:Immanuelskyrkan\, Oxtorgsgatan 15\, Jönköping\, 553 17\, Sverige
CATEGORIES:Scout
ORGANIZER;CN="Immanuelskyrkan":MAILTO:info@immanuelskyrkan.com
GEO:57.780919697436;14.158471850972
X-APPLE-STRUCTURED-LOCATION;VALUE=URI;X-ADDRESS=Immanuelskyrkan Oxtorgsgatan 15 Jönköping 553 17 Sverige;X-APPLE-RADIUS=500;X-TITLE=Oxtorgsgatan 15:geo:14.158471850972,57.780919697436
END:VEVENT
BEGIN:VEVENT
DTSTART;TZID=Europe/Stockholm:20261203T183000
DTEND;TZID=Europe/Stockholm:20261203T200000
DTSTAMP:20260419T173813
CREATED:20260115T125804Z
LAST-MODIFIED:20260115T125804Z
UID:10003236-1796322600-1796328000@immanuelskyrkan.com
SUMMARY:Scout
DESCRIPTION:18.30-19.30 Spårarna: Lågstadiet \n18.30-20.00 Upptäckarna: Mellanstadiet \n18.30-20.00 Äventyrarna: Högstadiet \nKontaktperson: Stefan Sjöberg (Kårchef)\, Scout@immanuelskyrkan.com
URL:https://immanuelskyrkan.com/evenemang/scout/2026-12-03/
LOCATION:Immanuelskyrkan\, Oxtorgsgatan 15\, Jönköping\, 553 17\, Sverige
CATEGORIES:Scout
ORGANIZER;CN="Immanuelskyrkan":MAILTO:info@immanuelskyrkan.com
GEO:57.780919697436;14.158471850972
X-APPLE-STRUCTURED-LOCATION;VALUE=URI;X-ADDRESS=Immanuelskyrkan Oxtorgsgatan 15 Jönköping 553 17 Sverige;X-APPLE-RADIUS=500;X-TITLE=Oxtorgsgatan 15:geo:14.158471850972,57.780919697436
END:VEVENT
BEGIN:VEVENT
DTSTART;TZID=Europe/Stockholm:20261210T183000
DTEND;TZID=Europe/Stockholm:20261210T200000
DTSTAMP:20260419T173814
CREATED:20260115T125804Z
LAST-MODIFIED:20260115T125804Z
UID:10003237-1796927400-1796932800@immanuelskyrkan.com
SUMMARY:Scout
DESCRIPTION:18.30-19.30 Spårarna: Lågstadiet \n18.30-20.00 Upptäckarna: Mellanstadiet \n18.30-20.00 Äventyrarna: Högstadiet \nKontaktperson: Stefan Sjöberg (Kårchef)\, Scout@immanuelskyrkan.com
URL:https://immanuelskyrkan.com/evenemang/scout/2026-12-10/
LOCATION:Immanuelskyrkan\, Oxtorgsgatan 15\, Jönköping\, 553 17\, Sverige
CATEGORIES:Scout
ORGANIZER;CN="Immanuelskyrkan":MAILTO:info@immanuelskyrkan.com
GEO:57.780919697436;14.158471850972
X-APPLE-STRUCTURED-LOCATION;VALUE=URI;X-ADDRESS=Immanuelskyrkan Oxtorgsgatan 15 Jönköping 553 17 Sverige;X-APPLE-RADIUS=500;X-TITLE=Oxtorgsgatan 15:geo:14.158471850972,57.780919697436
END:VEVENT
BEGIN:VEVENT
DTSTART;TZID=Europe/Stockholm:20261217T183000
DTEND;TZID=Europe/Stockholm:20261217T200000
DTSTAMP:20260419T173814
CREATED:20260115T125804Z
LAST-MODIFIED:20260115T125804Z
UID:10003238-1797532200-1797537600@immanuelskyrkan.com
SUMMARY:Scout
DESCRIPTION:18.30-19.30 Spårarna: Lågstadiet \n18.30-20.00 Upptäckarna: Mellanstadiet \n18.30-20.00 Äventyrarna: Högstadiet \nKontaktperson: Stefan Sjöberg (Kårchef)\, Scout@immanuelskyrkan.com
URL:https://immanuelskyrkan.com/evenemang/scout/2026-12-17/
LOCATION:Immanuelskyrkan\, Oxtorgsgatan 15\, Jönköping\, 553 17\, Sverige
CATEGORIES:Scout
ORGANIZER;CN="Immanuelskyrkan":MAILTO:info@immanuelskyrkan.com
GEO:57.780919697436;14.158471850972
X-APPLE-STRUCTURED-LOCATION;VALUE=URI;X-ADDRESS=Immanuelskyrkan Oxtorgsgatan 15 Jönköping 553 17 Sverige;X-APPLE-RADIUS=500;X-TITLE=Oxtorgsgatan 15:geo:14.158471850972,57.780919697436
END:VEVENT
BEGIN:VEVENT
DTSTART;TZID=Europe/Stockholm:20261224T183000
DTEND;TZID=Europe/Stockholm:20261224T200000
DTSTAMP:20260419T173814
CREATED:20260115T125804Z
LAST-MODIFIED:20260115T125804Z
UID:10003239-1798137000-1798142400@immanuelskyrkan.com
SUMMARY:Scout
DESCRIPTION:18.30-19.30 Spårarna: Lågstadiet \n18.30-20.00 Upptäckarna: Mellanstadiet \n18.30-20.00 Äventyrarna: Högstadiet \nKontaktperson: Stefan Sjöberg (Kårchef)\, Scout@immanuelskyrkan.com
URL:https://immanuelskyrkan.com/evenemang/scout/2026-12-24/
LOCATION:Immanuelskyrkan\, Oxtorgsgatan 15\, Jönköping\, 553 17\, Sverige
CATEGORIES:Scout
ORGANIZER;CN="Immanuelskyrkan":MAILTO:info@immanuelskyrkan.com
GEO:57.780919697436;14.158471850972
X-APPLE-STRUCTURED-LOCATION;VALUE=URI;X-ADDRESS=Immanuelskyrkan Oxtorgsgatan 15 Jönköping 553 17 Sverige;X-APPLE-RADIUS=500;X-TITLE=Oxtorgsgatan 15:geo:14.158471850972,57.780919697436
END:VEVENT
BEGIN:VEVENT
DTSTART;TZID=Europe/Stockholm:20261231T183000
DTEND;TZID=Europe/Stockholm:20261231T200000
DTSTAMP:20260419T173814
CREATED:20260115T125804Z
LAST-MODIFIED:20260115T125804Z
UID:10003240-1798741800-1798747200@immanuelskyrkan.com
SUMMARY:Scout
DESCRIPTION:18.30-19.30 Spårarna: Lågstadiet \n18.30-20.00 Upptäckarna: Mellanstadiet \n18.30-20.00 Äventyrarna: Högstadiet \nKontaktperson: Stefan Sjöberg (Kårchef)\, Scout@immanuelskyrkan.com
URL:https://immanuelskyrkan.com/evenemang/scout/2026-12-31/
LOCATION:Immanuelskyrkan\, Oxtorgsgatan 15\, Jönköping\, 553 17\, Sverige
CATEGORIES:Scout
ORGANIZER;CN="Immanuelskyrkan":MAILTO:info@immanuelskyrkan.com
GEO:57.780919697436;14.158471850972
X-APPLE-STRUCTURED-LOCATION;VALUE=URI;X-ADDRESS=Immanuelskyrkan Oxtorgsgatan 15 Jönköping 553 17 Sverige;X-APPLE-RADIUS=500;X-TITLE=Oxtorgsgatan 15:geo:14.158471850972,57.780919697436
END:VEVENT
BEGIN:VEVENT
DTSTART;TZID=Europe/Stockholm:20270107T183000
DTEND;TZID=Europe/Stockholm:20270107T200000
DTSTAMP:20260419T173814
CREATED:20260115T125804Z
LAST-MODIFIED:20260115T125804Z
UID:10003241-1799346600-1799352000@immanuelskyrkan.com
SUMMARY:Scout
DESCRIPTION:18.30-19.30 Spårarna: Lågstadiet \n18.30-20.00 Upptäckarna: Mellanstadiet \n18.30-20.00 Äventyrarna: Högstadiet \nKontaktperson: Stefan Sjöberg (Kårchef)\, Scout@immanuelskyrkan.com
URL:https://immanuelskyrkan.com/evenemang/scout/2027-01-07/
LOCATION:Immanuelskyrkan\, Oxtorgsgatan 15\, Jönköping\, 553 17\, Sverige
CATEGORIES:Scout
ORGANIZER;CN="Immanuelskyrkan":MAILTO:info@immanuelskyrkan.com
GEO:57.780919697436;14.158471850972
X-APPLE-STRUCTURED-LOCATION;VALUE=URI;X-ADDRESS=Immanuelskyrkan Oxtorgsgatan 15 Jönköping 553 17 Sverige;X-APPLE-RADIUS=500;X-TITLE=Oxtorgsgatan 15:geo:14.158471850972,57.780919697436
END:VEVENT
BEGIN:VEVENT
DTSTART;TZID=Europe/Stockholm:20270114T183000
DTEND;TZID=Europe/Stockholm:20270114T200000
DTSTAMP:20260419T173814
CREATED:20260115T125804Z
LAST-MODIFIED:20260115T125804Z
UID:10003242-1799951400-1799956800@immanuelskyrkan.com
SUMMARY:Scout
DESCRIPTION:18.30-19.30 Spårarna: Lågstadiet \n18.30-20.00 Upptäckarna: Mellanstadiet \n18.30-20.00 Äventyrarna: Högstadiet \nKontaktperson: Stefan Sjöberg (Kårchef)\, Scout@immanuelskyrkan.com
URL:https://immanuelskyrkan.com/evenemang/scout/2027-01-14/
LOCATION:Immanuelskyrkan\, Oxtorgsgatan 15\, Jönköping\, 553 17\, Sverige
CATEGORIES:Scout
ORGANIZER;CN="Immanuelskyrkan":MAILTO:info@immanuelskyrkan.com
GEO:57.780919697436;14.158471850972
X-APPLE-STRUCTURED-LOCATION;VALUE=URI;X-ADDRESS=Immanuelskyrkan Oxtorgsgatan 15 Jönköping 553 17 Sverige;X-APPLE-RADIUS=500;X-TITLE=Oxtorgsgatan 15:geo:14.158471850972,57.780919697436
END:VEVENT
BEGIN:VEVENT
DTSTART;TZID=Europe/Stockholm:20270121T183000
DTEND;TZID=Europe/Stockholm:20270121T200000
DTSTAMP:20260419T173814
CREATED:20260115T125804Z
LAST-MODIFIED:20260115T125804Z
UID:10003243-1800556200-1800561600@immanuelskyrkan.com
SUMMARY:Scout
DESCRIPTION:18.30-19.30 Spårarna: Lågstadiet \n18.30-20.00 Upptäckarna: Mellanstadiet \n18.30-20.00 Äventyrarna: Högstadiet \nKontaktperson: Stefan Sjöberg (Kårchef)\, Scout@immanuelskyrkan.com
URL:https://immanuelskyrkan.com/evenemang/scout/2027-01-21/
LOCATION:Immanuelskyrkan\, Oxtorgsgatan 15\, Jönköping\, 553 17\, Sverige
CATEGORIES:Scout
ORGANIZER;CN="Immanuelskyrkan":MAILTO:info@immanuelskyrkan.com
GEO:57.780919697436;14.158471850972
X-APPLE-STRUCTURED-LOCATION;VALUE=URI;X-ADDRESS=Immanuelskyrkan Oxtorgsgatan 15 Jönköping 553 17 Sverige;X-APPLE-RADIUS=500;X-TITLE=Oxtorgsgatan 15:geo:14.158471850972,57.780919697436
END:VEVENT
BEGIN:VEVENT
DTSTART;TZID=Europe/Stockholm:20270128T183000
DTEND;TZID=Europe/Stockholm:20270128T200000
DTSTAMP:20260419T173814
CREATED:20260115T125804Z
LAST-MODIFIED:20260115T125804Z
UID:10003244-1801161000-1801166400@immanuelskyrkan.com
SUMMARY:Scout
DESCRIPTION:18.30-19.30 Spårarna: Lågstadiet \n18.30-20.00 Upptäckarna: Mellanstadiet \n18.30-20.00 Äventyrarna: Högstadiet \nKontaktperson: Stefan Sjöberg (Kårchef)\, Scout@immanuelskyrkan.com
URL:https://immanuelskyrkan.com/evenemang/scout/2027-01-28/
LOCATION:Immanuelskyrkan\, Oxtorgsgatan 15\, Jönköping\, 553 17\, Sverige
CATEGORIES:Scout
ORGANIZER;CN="Immanuelskyrkan":MAILTO:info@immanuelskyrkan.com
GEO:57.780919697436;14.158471850972
X-APPLE-STRUCTURED-LOCATION;VALUE=URI;X-ADDRESS=Immanuelskyrkan Oxtorgsgatan 15 Jönköping 553 17 Sverige;X-APPLE-RADIUS=500;X-TITLE=Oxtorgsgatan 15:geo:14.158471850972,57.780919697436
END:VEVENT
END:VCALENDAR