BEGIN:VCALENDAR
VERSION:2.0
PRODID:-//Immanuelskyrkan Jönköping - ECPv6.15.20//NONSGML v1.0//EN
CALSCALE:GREGORIAN
METHOD:PUBLISH
X-WR-CALNAME:Immanuelskyrkan Jönköping
X-ORIGINAL-URL:https://immanuelskyrkan.com
X-WR-CALDESC:Evenemang hos Immanuelskyrkan Jönköping
REFRESH-INTERVAL;VALUE=DURATION:PT1H
X-Robots-Tag:noindex
X-PUBLISHED-TTL:PT1H
BEGIN:VTIMEZONE
TZID:Europe/Stockholm
BEGIN:DAYLIGHT
TZOFFSETFROM:+0100
TZOFFSETTO:+0200
TZNAME:CEST
DTSTART:20250330T010000
END:DAYLIGHT
BEGIN:STANDARD
TZOFFSETFROM:+0200
TZOFFSETTO:+0100
TZNAME:CET
DTSTART:20251026T010000
END:STANDARD
BEGIN:DAYLIGHT
TZOFFSETFROM:+0100
TZOFFSETTO:+0200
TZNAME:CEST
DTSTART:20260329T010000
END:DAYLIGHT
BEGIN:STANDARD
TZOFFSETFROM:+0200
TZOFFSETTO:+0100
TZNAME:CET
DTSTART:20261025T010000
END:STANDARD
BEGIN:DAYLIGHT
TZOFFSETFROM:+0100
TZOFFSETTO:+0200
TZNAME:CEST
DTSTART:20270328T010000
END:DAYLIGHT
BEGIN:STANDARD
TZOFFSETFROM:+0200
TZOFFSETTO:+0100
TZNAME:CET
DTSTART:20271031T010000
END:STANDARD
END:VTIMEZONE
BEGIN:VEVENT
DTSTART;TZID=Europe/Stockholm:20260507T173000
DTEND;TZID=Europe/Stockholm:20260507T183000
DTSTAMP:20260419T211024
CREATED:20260115T130200Z
LAST-MODIFIED:20260115T130200Z
UID:10003278-1778175000-1778178600@immanuelskyrkan.com
SUMMARY:Jönköping Soul Kids
DESCRIPTION:Barnkör\, ålder 6-10 år \nKontaktperson: Sara Lundman 070-7408357
URL:https://immanuelskyrkan.com/evenemang/jonkoping-soul-kids/2026-05-07/
LOCATION:Immanuelskyrkan\, Oxtorgsgatan 15\, Jönköping\, 553 17\, Sverige
CATEGORIES:Jönköping Soul Kids
ORGANIZER;CN="Immanuelskyrkan":MAILTO:info@immanuelskyrkan.com
GEO:57.780919697436;14.158471850972
X-APPLE-STRUCTURED-LOCATION;VALUE=URI;X-ADDRESS=Immanuelskyrkan Oxtorgsgatan 15 Jönköping 553 17 Sverige;X-APPLE-RADIUS=500;X-TITLE=Oxtorgsgatan 15:geo:14.158471850972,57.780919697436
END:VEVENT
BEGIN:VEVENT
DTSTART;TZID=Europe/Stockholm:20260514T173000
DTEND;TZID=Europe/Stockholm:20260514T183000
DTSTAMP:20260419T211024
CREATED:20260115T130200Z
LAST-MODIFIED:20260115T130200Z
UID:10003279-1778779800-1778783400@immanuelskyrkan.com
SUMMARY:Jönköping Soul Kids
DESCRIPTION:Barnkör\, ålder 6-10 år \nKontaktperson: Sara Lundman 070-7408357
URL:https://immanuelskyrkan.com/evenemang/jonkoping-soul-kids/2026-05-14/
LOCATION:Immanuelskyrkan\, Oxtorgsgatan 15\, Jönköping\, 553 17\, Sverige
CATEGORIES:Jönköping Soul Kids
ORGANIZER;CN="Immanuelskyrkan":MAILTO:info@immanuelskyrkan.com
GEO:57.780919697436;14.158471850972
X-APPLE-STRUCTURED-LOCATION;VALUE=URI;X-ADDRESS=Immanuelskyrkan Oxtorgsgatan 15 Jönköping 553 17 Sverige;X-APPLE-RADIUS=500;X-TITLE=Oxtorgsgatan 15:geo:14.158471850972,57.780919697436
END:VEVENT
BEGIN:VEVENT
DTSTART;TZID=Europe/Stockholm:20260521T173000
DTEND;TZID=Europe/Stockholm:20260521T183000
DTSTAMP:20260419T211024
CREATED:20260115T130200Z
LAST-MODIFIED:20260115T130200Z
UID:10003280-1779384600-1779388200@immanuelskyrkan.com
SUMMARY:Jönköping Soul Kids
DESCRIPTION:Barnkör\, ålder 6-10 år \nKontaktperson: Sara Lundman 070-7408357
URL:https://immanuelskyrkan.com/evenemang/jonkoping-soul-kids/2026-05-21/
LOCATION:Immanuelskyrkan\, Oxtorgsgatan 15\, Jönköping\, 553 17\, Sverige
CATEGORIES:Jönköping Soul Kids
ORGANIZER;CN="Immanuelskyrkan":MAILTO:info@immanuelskyrkan.com
GEO:57.780919697436;14.158471850972
X-APPLE-STRUCTURED-LOCATION;VALUE=URI;X-ADDRESS=Immanuelskyrkan Oxtorgsgatan 15 Jönköping 553 17 Sverige;X-APPLE-RADIUS=500;X-TITLE=Oxtorgsgatan 15:geo:14.158471850972,57.780919697436
END:VEVENT
BEGIN:VEVENT
DTSTART;TZID=Europe/Stockholm:20260528T173000
DTEND;TZID=Europe/Stockholm:20260528T183000
DTSTAMP:20260419T211024
CREATED:20260115T130200Z
LAST-MODIFIED:20260115T130200Z
UID:10003281-1779989400-1779993000@immanuelskyrkan.com
SUMMARY:Jönköping Soul Kids
DESCRIPTION:Barnkör\, ålder 6-10 år \nKontaktperson: Sara Lundman 070-7408357
URL:https://immanuelskyrkan.com/evenemang/jonkoping-soul-kids/2026-05-28/
LOCATION:Immanuelskyrkan\, Oxtorgsgatan 15\, Jönköping\, 553 17\, Sverige
CATEGORIES:Jönköping Soul Kids
ORGANIZER;CN="Immanuelskyrkan":MAILTO:info@immanuelskyrkan.com
GEO:57.780919697436;14.158471850972
X-APPLE-STRUCTURED-LOCATION;VALUE=URI;X-ADDRESS=Immanuelskyrkan Oxtorgsgatan 15 Jönköping 553 17 Sverige;X-APPLE-RADIUS=500;X-TITLE=Oxtorgsgatan 15:geo:14.158471850972,57.780919697436
END:VEVENT
END:VCALENDAR