BEGIN:VCALENDAR
VERSION:2.0
PRODID:-//Immanuelskyrkan Jönköping - ECPv6.15.20//NONSGML v1.0//EN
CALSCALE:GREGORIAN
METHOD:PUBLISH
X-ORIGINAL-URL:https://immanuelskyrkan.com
X-WR-CALDESC:Evenemang hos Immanuelskyrkan Jönköping
REFRESH-INTERVAL;VALUE=DURATION:PT1H
X-Robots-Tag:noindex
X-PUBLISHED-TTL:PT1H
BEGIN:VTIMEZONE
TZID:Europe/Stockholm
BEGIN:DAYLIGHT
TZOFFSETFROM:+0100
TZOFFSETTO:+0200
TZNAME:CEST
DTSTART:20250330T010000
END:DAYLIGHT
BEGIN:STANDARD
TZOFFSETFROM:+0200
TZOFFSETTO:+0100
TZNAME:CET
DTSTART:20251026T010000
END:STANDARD
BEGIN:DAYLIGHT
TZOFFSETFROM:+0100
TZOFFSETTO:+0200
TZNAME:CEST
DTSTART:20260329T010000
END:DAYLIGHT
BEGIN:STANDARD
TZOFFSETFROM:+0200
TZOFFSETTO:+0100
TZNAME:CET
DTSTART:20261025T010000
END:STANDARD
BEGIN:DAYLIGHT
TZOFFSETFROM:+0100
TZOFFSETTO:+0200
TZNAME:CEST
DTSTART:20270328T010000
END:DAYLIGHT
BEGIN:STANDARD
TZOFFSETFROM:+0200
TZOFFSETTO:+0100
TZNAME:CET
DTSTART:20271031T010000
END:STANDARD
END:VTIMEZONE
BEGIN:VEVENT
DTSTART;TZID=Europe/Stockholm:20260609T190000
DTEND;TZID=Europe/Stockholm:20260609T194500
DTSTAMP:20260420T032916
CREATED:20260114T193730Z
LAST-MODIFIED:20260114T193959Z
UID:10003189-1781031600-1781034300@immanuelskyrkan.com
SUMMARY:Meditation - Hjärtats bön
DESCRIPTION:Hjärtats bön är en meditativ böneform\, en form av kristen meditation\, som hjälper vårt inre att komma till stillhet. Vårt sinne går från splittring till enhet och i den tystnaden som uppstår kan vi möta Guds närvaro. Ett rum för sinnesro och ordlös bön öppnas upp. \nSamlingen börjar med växelläsning\, följt av textläsning från bibeln eller annan text. Därefter sätter vi  oss i den meditationsställning som passar respektive person\, vanligtvis på stol eller bönepall – upprätta men avslappnade. Sedan följer en ledd Hjärtats bön-meditation som pågår i ca. 30 minuter.
URL:https://immanuelskyrkan.com/evenemang/meditation-hjartats-bon/2026-06-09/
LOCATION:Immanuelskyrkan\, Oxtorgsgatan 15\, Jönköping\, 553 17\, Sverige
CATEGORIES:Hjärtats bön
ORGANIZER;CN="Immanuelskyrkan":MAILTO:info@immanuelskyrkan.com
GEO:57.780919697436;14.158471850972
X-APPLE-STRUCTURED-LOCATION;VALUE=URI;X-ADDRESS=Immanuelskyrkan Oxtorgsgatan 15 Jönköping 553 17 Sverige;X-APPLE-RADIUS=500;X-TITLE=Oxtorgsgatan 15:geo:14.158471850972,57.780919697436
END:VEVENT
END:VCALENDAR